BEGIN:VCALENDAR
VERSION:2.0
PRODID:-// - ECPv6.15.20//NONSGML v1.0//EN
CALSCALE:GREGORIAN
METHOD:PUBLISH
X-ORIGINAL-URL:https://theartsheet.org
X-WR-CALDESC:Events for 
REFRESH-INTERVAL;VALUE=DURATION:PT1H
X-Robots-Tag:noindex
X-PUBLISHED-TTL:PT1H
BEGIN:VTIMEZONE
TZID:America/New_York
BEGIN:DAYLIGHT
TZOFFSETFROM:-0500
TZOFFSETTO:-0400
TZNAME:EDT
DTSTART:20250309T070000
END:DAYLIGHT
BEGIN:STANDARD
TZOFFSETFROM:-0400
TZOFFSETTO:-0500
TZNAME:EST
DTSTART:20251102T060000
END:STANDARD
BEGIN:DAYLIGHT
TZOFFSETFROM:-0500
TZOFFSETTO:-0400
TZNAME:EDT
DTSTART:20260308T070000
END:DAYLIGHT
BEGIN:STANDARD
TZOFFSETFROM:-0400
TZOFFSETTO:-0500
TZNAME:EST
DTSTART:20261101T060000
END:STANDARD
BEGIN:DAYLIGHT
TZOFFSETFROM:-0500
TZOFFSETTO:-0400
TZNAME:EDT
DTSTART:20270314T070000
END:DAYLIGHT
BEGIN:STANDARD
TZOFFSETFROM:-0400
TZOFFSETTO:-0500
TZNAME:EST
DTSTART:20271107T060000
END:STANDARD
END:VTIMEZONE
BEGIN:VEVENT
DTSTART;VALUE=DATE:20260725
DTEND;VALUE=DATE:20260726
DTSTAMP:20260423T200735
CREATED:20260204T172255Z
LAST-MODIFIED:20260204T172255Z
UID:10011250-1784937600-1785023999@theartsheet.org
SUMMARY:ACG 21st Annual Members' Show
DESCRIPTION:The “21st Annual Members’ Show” is on display now through Friday\, February 20\, 2026. It is free and open to the public; Tuesday – Saturday\, Noon – 5 p.m. Visit us at our new location and home 48 N Pearl St.
URL:https://theartsheet.org/event/acg-21st-annual-members-show/2026-07-25/
LOCATION:NY
ATTACH;FMTTYPE=image/png:https://theartsheet.org/wp-content/uploads/2026/02/Screenshot-2026-02-04-at-12.22.13-PM.png
ORGANIZER;CN="Albany Center Gallery":MAILTO:info@albanycentergallery.org
END:VEVENT
BEGIN:VEVENT
DTSTART;TZID=America/New_York:20260725T100000
DTEND;TZID=America/New_York:20260725T170000
DTSTAMP:20260423T200735
CREATED:20260211T173251Z
LAST-MODIFIED:20260211T173851Z
UID:10013702-1784973600-1784998800@theartsheet.org
SUMMARY:Inside the World of Picture Book Art
DESCRIPTION:The Society of Children’s Book Writers and Illustrators (SCBWI) Illustration Exhibit\nFebruary 3–26\, 2026 | William K. Sanford Library\, 629 Albany Shaker Road\, Loudonville\, NY \nSee children’s book artwork by featured illustrators\, including Sarah Baker\, GJ Benz\, John Ebbert\, Samantha Cotterill\, Tina LoGiudice\, Kevin Kelly\, Melissa Kenny\, Daniel Mahoney\, Kerry McQuaide\, Sarah Perkins\, Marker Snyder\, David Soman\, Kyra Teis\, Betsy Wallin\, and Liz Zunon. \nPublished books by participating artists will be available for viewing as well. \nOpening Reception: February 21st\, 2–4 p.m. Free and open to the public. Register by clicking here. \nMon. 10 AM – 8 PM\nTue. 10 AM – 8 PM\nWed. 10 AM – 8 PM\nThur. 10 AM – 8 PM\nFri. 10 AM – 6 PM\nSat. 10 AM – 5 PM\nSun. 1 PM – 5 PM \n 
URL:https://theartsheet.org/event/inside-the-world-of-picture-book-art-reception/2026-07-25/
LOCATION:William K. Sanford Library\, 629 Albany Shaker Road\, Loudonville\, New York\, 12211\, United States
ATTACH;FMTTYPE=image/jpeg:https://theartsheet.org/wp-content/uploads/2026/02/Inside-the-World-of-Picture-Book-Art.jpg
END:VEVENT
END:VCALENDAR