BEGIN:VCALENDAR
VERSION:2.0
PRODID:-// - ECPv6.15.20//NONSGML v1.0//EN
CALSCALE:GREGORIAN
METHOD:PUBLISH
X-ORIGINAL-URL:https://theartsheet.org
X-WR-CALDESC:Events for 
REFRESH-INTERVAL;VALUE=DURATION:PT1H
X-Robots-Tag:noindex
X-PUBLISHED-TTL:PT1H
BEGIN:VTIMEZONE
TZID:America/New_York
BEGIN:DAYLIGHT
TZOFFSETFROM:-0500
TZOFFSETTO:-0400
TZNAME:EDT
DTSTART:20250309T070000
END:DAYLIGHT
BEGIN:STANDARD
TZOFFSETFROM:-0400
TZOFFSETTO:-0500
TZNAME:EST
DTSTART:20251102T060000
END:STANDARD
BEGIN:DAYLIGHT
TZOFFSETFROM:-0500
TZOFFSETTO:-0400
TZNAME:EDT
DTSTART:20260308T070000
END:DAYLIGHT
BEGIN:STANDARD
TZOFFSETFROM:-0400
TZOFFSETTO:-0500
TZNAME:EST
DTSTART:20261101T060000
END:STANDARD
BEGIN:DAYLIGHT
TZOFFSETFROM:-0500
TZOFFSETTO:-0400
TZNAME:EDT
DTSTART:20270314T070000
END:DAYLIGHT
BEGIN:STANDARD
TZOFFSETFROM:-0400
TZOFFSETTO:-0500
TZNAME:EST
DTSTART:20271107T060000
END:STANDARD
END:VTIMEZONE
BEGIN:VEVENT
DTSTART;VALUE=DATE:20260407
DTEND;VALUE=DATE:20260408
DTSTAMP:20260423T153024
CREATED:20260204T172255Z
LAST-MODIFIED:20260204T172255Z
UID:10011141-1775520000-1775606399@theartsheet.org
SUMMARY:ACG 21st Annual Members' Show
DESCRIPTION:The “21st Annual Members’ Show” is on display now through Friday\, February 20\, 2026. It is free and open to the public; Tuesday – Saturday\, Noon – 5 p.m. Visit us at our new location and home 48 N Pearl St.
URL:https://theartsheet.org/event/acg-21st-annual-members-show/2026-04-07/
LOCATION:NY
ATTACH;FMTTYPE=image/png:https://theartsheet.org/wp-content/uploads/2026/02/Screenshot-2026-02-04-at-12.22.13-PM.png
ORGANIZER;CN="Albany Center Gallery":MAILTO:info@albanycentergallery.org
END:VEVENT
BEGIN:VEVENT
DTSTART;TZID=America/New_York:20260407T100000
DTEND;TZID=America/New_York:20260407T170000
DTSTAMP:20260423T153024
CREATED:20260211T173251Z
LAST-MODIFIED:20260211T173851Z
UID:10013609-1775556000-1775581200@theartsheet.org
SUMMARY:Inside the World of Picture Book Art
DESCRIPTION:The Society of Children’s Book Writers and Illustrators (SCBWI) Illustration Exhibit\nFebruary 3–26\, 2026 | William K. Sanford Library\, 629 Albany Shaker Road\, Loudonville\, NY \nSee children’s book artwork by featured illustrators\, including Sarah Baker\, GJ Benz\, John Ebbert\, Samantha Cotterill\, Tina LoGiudice\, Kevin Kelly\, Melissa Kenny\, Daniel Mahoney\, Kerry McQuaide\, Sarah Perkins\, Marker Snyder\, David Soman\, Kyra Teis\, Betsy Wallin\, and Liz Zunon. \nPublished books by participating artists will be available for viewing as well. \nOpening Reception: February 21st\, 2–4 p.m. Free and open to the public. Register by clicking here. \nMon. 10 AM – 8 PM\nTue. 10 AM – 8 PM\nWed. 10 AM – 8 PM\nThur. 10 AM – 8 PM\nFri. 10 AM – 6 PM\nSat. 10 AM – 5 PM\nSun. 1 PM – 5 PM \n 
URL:https://theartsheet.org/event/inside-the-world-of-picture-book-art-reception/2026-04-07/
LOCATION:William K. Sanford Library\, 629 Albany Shaker Road\, Loudonville\, New York\, 12211\, United States
ATTACH;FMTTYPE=image/jpeg:https://theartsheet.org/wp-content/uploads/2026/02/Inside-the-World-of-Picture-Book-Art.jpg
END:VEVENT
BEGIN:VEVENT
DTSTART;TZID=America/New_York:20260407T120000
DTEND;TZID=America/New_York:20260407T170000
DTSTAMP:20260423T153024
CREATED:20250723T225312Z
LAST-MODIFIED:20250723T225312Z
UID:10009109-1775563200-1775581200@theartsheet.org
SUMMARY:All These Growing Things by The Tang
DESCRIPTION:All These Growing Things presents contemporary and historical paintings\, prints\, textiles\, photography\, and sculpture from the Tang Museum collection that explore questions of becoming and belonging. It will examine connections to personal\, ancestral\, and cultural histories; masking as an approach to both reveal and conceal identities; and the possibilities of transformation. How do we grow as individuals\, in relationships\, and alongside the communities to which we belong? How do we grow with or against the natural world\, and what will become of human-animal-plant connections in the future? In a museum\, how does a collection of artwork grow in conversation with urgent issues in our communities?
URL:https://theartsheet.org/event/all-these-growing-things-by-the-tang/2026-04-07/
LOCATION:Tang Teaching Museum & Art Gallery\, 815 N Broadway\, Saratoga Springs\, NY\, 12866\, United States
ATTACH;FMTTYPE=image/png:https://theartsheet.org/wp-content/uploads/2025/07/Screen-Shot-2025-07-23-at-6.47.46-PM.png
END:VEVENT
BEGIN:VEVENT
DTSTART;TZID=America/New_York:20260407T120000
DTEND;TZID=America/New_York:20260407T170000
DTSTAMP:20260423T153024
CREATED:20260411T154741Z
LAST-MODIFIED:20260411T154837Z
UID:10015154-1775563200-1775581200@theartsheet.org
SUMMARY:Plastique
DESCRIPTION:March 17 – April 18 Plastique \nAn exhibition of artists from Project Vortex\, an international collective of artists\, designers\, and architects actively focusing on the global problem of plastic pollution\, curated by Aurora Robson. Free and open to the public.
URL:https://theartsheet.org/event/plastique/2026-04-07/
LOCATION:Opalka Gallery\, The Sage Colleges\, 140 New Scotland Ave.\, Albany\, NY\, 12208\, United States
ATTACH;FMTTYPE=image/jpeg:https://theartsheet.org/wp-content/uploads/2026/02/PMunson_Future-Fossilsblue-0.jpg
ORGANIZER;CN="opalka gallery":MAILTO:opalka@sage.edu
END:VEVENT
BEGIN:VEVENT
DTSTART;TZID=America/New_York:20260411T140000
DTEND;TZID=America/New_York:20260411T150000
DTSTAMP:20260423T153024
CREATED:20260411T155516Z
LAST-MODIFIED:20260411T155516Z
UID:10015134-1775916000-1775919600@theartsheet.org
SUMMARY:An Afternoon of Jazz and Poetry Hosted by Stage & Stanza
DESCRIPTION:SAT April 11\, 2:00pm-3:00pm An Afternoon of Jazz and Poetry  \nHosted by Stage & Stanza host and poet Carol Durant with music from EW Duo.  \nMusic fully funded by the Music Performance Trust Fund and Local 14. Free and open to the public. April is Jazz Appreciation Month AND National Poetry Month–join Stage & Stanza host and poet Carol Durant for poetry readings interspersed with jazz from EW Duo.
URL:https://theartsheet.org/event/an-afternoon-of-jazz-and-poetry-hosted-by-stage-stanza/
LOCATION:Opalka Gallery\, The Sage Colleges\, 140 New Scotland Ave.\, Albany\, NY\, 12208\, United States
ATTACH;FMTTYPE=image/png:https://theartsheet.org/wp-content/uploads/2026/02/Stage-5-1.png
ORGANIZER;CN="opalka gallery":MAILTO:opalka@sage.edu
END:VEVENT
BEGIN:VEVENT
DTSTART;TZID=America/New_York:20260429T120000
DTEND;TZID=America/New_York:20260429T170000
DTSTAMP:20260423T153024
CREATED:20260411T155942Z
LAST-MODIFIED:20260411T155942Z
UID:10015135-1777464000-1777482000@theartsheet.org
SUMMARY:Visual Arts BFA Exhibit
DESCRIPTION:April 29—May 16 Visual Arts BFA Exhibit \nThe Annual BFA Exhibition showcases student work from the Russell Sage College’s Visual Arts BFA programs in Art+Extended Media\, Graphic+Media Design and Interior+Spatial Design. Special gallery hours: Tues. through Sat. Noon to 5pm
URL:https://theartsheet.org/event/visual-arts-bfa-exhibit/2026-04-29/
LOCATION:Opalka Gallery\, The Sage Colleges\, 140 New Scotland Ave.\, Albany\, NY\, 12208\, United States
ATTACH;FMTTYPE=image/png:https://theartsheet.org/wp-content/uploads/2026/02/BFA2025.png
ORGANIZER;CN="opalka gallery":MAILTO:opalka@sage.edu
END:VEVENT
BEGIN:VEVENT
DTSTART;TZID=America/New_York:20260515T183000
DTEND;TZID=America/New_York:20260515T193000
DTSTAMP:20260423T153024
CREATED:20260411T155046Z
LAST-MODIFIED:20260411T155046Z
UID:10015138-1778869800-1778873400@theartsheet.org
SUMMARY:PechaKucha: Short talks by interesting people
DESCRIPTION:FRI May 15 PechaKucha: Short talks by interesting people. 6:30pm Snacks\, 7:00pm Talks \nSnacks from Druthers and Honest Weight Food Coop
URL:https://theartsheet.org/event/pechakucha-short-talks-by-interesting-people/
LOCATION:Opalka Gallery\, The Sage Colleges\, 140 New Scotland Ave.\, Albany\, NY\, 12208\, United States
ATTACH;FMTTYPE=image/png:https://theartsheet.org/wp-content/uploads/2026/02/PechKucha-3.png
ORGANIZER;CN="opalka gallery":MAILTO:opalka@sage.edu
END:VEVENT
END:VCALENDAR