BEGIN:VCALENDAR
VERSION:2.0
PRODID:-// - ECPv6.15.20//NONSGML v1.0//EN
CALSCALE:GREGORIAN
METHOD:PUBLISH
X-ORIGINAL-URL:https://theartsheet.org
X-WR-CALDESC:Events for 
REFRESH-INTERVAL;VALUE=DURATION:PT1H
X-Robots-Tag:noindex
X-PUBLISHED-TTL:PT1H
BEGIN:VTIMEZONE
TZID:America/New_York
BEGIN:DAYLIGHT
TZOFFSETFROM:-0500
TZOFFSETTO:-0400
TZNAME:EDT
DTSTART:20240310T070000
END:DAYLIGHT
BEGIN:STANDARD
TZOFFSETFROM:-0400
TZOFFSETTO:-0500
TZNAME:EST
DTSTART:20241103T060000
END:STANDARD
BEGIN:DAYLIGHT
TZOFFSETFROM:-0500
TZOFFSETTO:-0400
TZNAME:EDT
DTSTART:20250309T070000
END:DAYLIGHT
BEGIN:STANDARD
TZOFFSETFROM:-0400
TZOFFSETTO:-0500
TZNAME:EST
DTSTART:20251102T060000
END:STANDARD
BEGIN:DAYLIGHT
TZOFFSETFROM:-0500
TZOFFSETTO:-0400
TZNAME:EDT
DTSTART:20260308T070000
END:DAYLIGHT
BEGIN:STANDARD
TZOFFSETFROM:-0400
TZOFFSETTO:-0500
TZNAME:EST
DTSTART:20261101T060000
END:STANDARD
END:VTIMEZONE
BEGIN:VEVENT
DTSTART;TZID=America/New_York:20251031T100000
DTEND;TZID=America/New_York:20251031T170000
DTSTAMP:20260424T010241
CREATED:20251012T153352Z
LAST-MODIFIED:20251012T153352Z
UID:10010660-1761904800-1761930000@theartsheet.org
SUMMARY:Jacob Lawrence: Three Series of Prints
DESCRIPTION:Jacob Lawrence: Three Series of Prints ✨ \nOne of the most celebrated artists of the twentieth century\, Jacob Lawrence brought bold color\, powerful storytelling\, and historical depth to his graphic work. The exhibition features three of Lawrence’s most important print series—Genesis\, Toussaint L’Ouverture\, and Hiroshima—and marks a rare opportunity to experience the artist’s work in Albany. \nOrganized by Landau Traveling Exhibitions and curated by Peter Nesbett\, the exhibition is on view September 6–December 31\, 2025. \n\nWednesday: 10AM–5PM\nThursday: 10AM–5PM\nFriday: 10AM–5PM\nSaturday: 10AM–5PM\nSunday: 12–5PM
URL:https://theartsheet.org/event/jacob-lawrence-three-series-of-prints/2025-10-31/
LOCATION:Albany Institute of History & Art\, 125 Washington Avenue\, Albany\, NY\, 12210\, United States
ATTACH;FMTTYPE=image/png:https://theartsheet.org/wp-content/uploads/2025/10/Screenshot-2025-10-12-at-11.29.16-AM.png
END:VEVENT
BEGIN:VEVENT
DTSTART;TZID=America/New_York:20251031T100000
DTEND;TZID=America/New_York:20251031T160000
DTSTAMP:20260424T010241
CREATED:20251122T172559Z
LAST-MODIFIED:20251122T172559Z
UID:10010955-1761904800-1761926400@theartsheet.org
SUMMARY:Frankenstein’s Paradise by Eli Thorn
DESCRIPTION:Frankenstein’s Paradise\, featuring new works by Eli Thorne at FLOCKart located at Collar Works’ Art Yard at 206 1st St Troy. \nFrankenstein’s Paradise collects recent paintings and sculptures by the artist Eli Thorne. Exploring imagined terrains that transcend time and place\, Thorne’s works trouble the categories of natural versus monstrous\, outsider versus insider. The exhibition understands the process of identity formation as assemblage\, a Frankensteinian process of self-becoming. \nOctober 11 – December 5
URL:https://theartsheet.org/event/frankensteins-paradise-by-eli-thorn/2025-10-31/
LOCATION:FLOCKart\, 206 1st St\, Troy\, NY\, 12180\, United States
ATTACH;FMTTYPE=image/png:https://theartsheet.org/wp-content/uploads/2025/11/Screenshot-2025-11-22-at-12.24.22-PM.png
END:VEVENT
BEGIN:VEVENT
DTSTART;TZID=America/New_York:20251030T190000
DTEND;TZID=America/New_York:20251030T200000
DTSTAMP:20260424T010241
CREATED:20251018T152023Z
LAST-MODIFIED:20251018T152023Z
UID:10010865-1761850800-1761854400@theartsheet.org
SUMMARY:Stage & Stanza
DESCRIPTION:THU Oct. 30\, 7:00pm\nStage & Stanza\, hosted by poet Carol Durant and David Baecker of the Theater Institute at RSC.
URL:https://theartsheet.org/event/stage-stanza/
LOCATION:Opalka Gallery\, The Sage Colleges\, 140 New Scotland Ave.\, Albany\, NY\, 12208\, United States
ATTACH;FMTTYPE=image/jpeg:https://theartsheet.org/wp-content/uploads/2025/10/Stage-Stanza.jpg
ORGANIZER;CN="opalka gallery":MAILTO:opalka@sage.edu
END:VEVENT
BEGIN:VEVENT
DTSTART;TZID=America/New_York:20251029T110000
DTEND;TZID=America/New_York:20251029T130000
DTSTAMP:20260424T010241
CREATED:20251011T160453Z
LAST-MODIFIED:20251011T160453Z
UID:10010529-1761735600-1761742800@theartsheet.org
SUMMARY:Harvest to Horizon by Kate Edwards
DESCRIPTION:Harvest to Horizon brings together Kate Edwards’ reflections on the landscapes and still life that shape our sense of place. From shifting skies and quiet fields to flowers and vegetables gathered from the harvest\, her paintings invite us to pause and notice the beauty in our surroundings. \nA portion of the sales will support Planned Parenthood. There will also be an artist talk on October 15 from 7-8 pm. \nGallery Hours:   Wednesdays 6-8 pm\n                                   Saturday and Sundays 11-1 pm
URL:https://theartsheet.org/event/harvest-to-horizon-by-kate-edwards/2025-10-29/
LOCATION:Spring Street Gallery\, Spring Street\, Saratoga Springs\, NY\, 12866\, United States
ATTACH;FMTTYPE=image/png:https://theartsheet.org/wp-content/uploads/2025/10/Screenshot-2025-10-11-at-11.51.14-AM.png
ORGANIZER;CN="Belinda Colon":MAILTO:theartsheet@gmail.com
END:VEVENT
BEGIN:VEVENT
DTSTART;TZID=America/New_York:20251026T140000
DTEND;TZID=America/New_York:20251026T153000
DTSTAMP:20260424T010241
CREATED:20251012T162229Z
LAST-MODIFIED:20251012T162229Z
UID:10010846-1761487200-1761492600@theartsheet.org
SUMMARY:Norman S. Rice Memorial Lecture | It’s All in the Details
DESCRIPTION:It’s All in the Details: Furniture of the Empire State 1680–1980 by historian John L. Scherer will explore the evolution of New York furniture over three centuries—from refined creations by master craftsmen like Duncan Phyfe to the vernacular traditions of rural makers\, with select highlights from the Albany Institute’s collection on view during the talk. \n🗓️ Sunday\, October 26 at 2PM—free with admission\, followed by a reception \nThe Norman S. Rice Memorial Lecture honors the former Director’s legacy of collecting\, preservation\, and scholarship\, and his decades of dedication to sharing the richness of New York’s cultural heritage.
URL:https://theartsheet.org/event/norman-s-rice-memorial-lecture-its-all-in-the-details/
LOCATION:Albany Institute of History & Art\, 125 Washington Avenue\, Albany\, NY\, 12210\, United States
ATTACH;FMTTYPE=image/png:https://theartsheet.org/wp-content/uploads/2025/10/Screenshot-2025-10-12-at-12.11.12-PM.png
END:VEVENT
BEGIN:VEVENT
DTSTART;TZID=America/New_York:20251026T110000
DTEND;TZID=America/New_York:20251026T170000
DTSTAMP:20260424T010241
CREATED:20250810T153542Z
LAST-MODIFIED:20250810T153543Z
UID:10005743-1761476400-1761498000@theartsheet.org
SUMMARY:The Arrested Image: Identity Through the Lens of Law Enforcement
DESCRIPTION:The Arrested Image: Identity through the Lens of Law Enforcement\, takes a close look at the portraits produced by police vision. By turning the gaze back onto how forms of law enforcement see and portray\, it poses urgent questions regarding the relationship between identity and notions of truth\, liberty\, privacy\, and justice in the face of rapidly advancing law enforcement technology. \nFrom 19th century daguerreotype mugshots to today’s biometric databases\, law enforcement techniques evolved in tandem with technologies used to represent identity. Despite the presumed objectivity of photography and its technological replacements\, asymmetries between representation and reality proliferated along the way. Through archival material and artwork by 16 contemporary artists\, The Arrested Image demonstrates the extent to which policing produces images that shape conceptions of identity and are often misshaped by the techniques that produced them.  
URL:https://theartsheet.org/event/the-arrested-image-identity-through-the-lens-of-law-enforcement-2/2025-10-26/
LOCATION:The Dorsky Museum of Art\, Haggerty Circle Parking Lot 16\, 35 Hawk Dr\, New Paltz\, NY\, 12561\, United States
ATTACH;FMTTYPE=image/png:https://theartsheet.org/wp-content/uploads/2025/06/Screen-Shot-2025-06-26-at-5.05.25-PM.png
END:VEVENT
BEGIN:VEVENT
DTSTART;TZID=America/New_York:20251025T120000
DTEND;TZID=America/New_York:20251025T170000
DTSTAMP:20260424T010241
CREATED:20251012T155714Z
LAST-MODIFIED:20251012T155714Z
UID:10010824-1761393600-1761411600@theartsheet.org
SUMMARY:Artists invite Artists: It’s in Our Nature
DESCRIPTION:September 10 through October 25\, 2025\nThe nature of its material is central to the understanding of a sculpture. – Rebecca Smith \nThe artworks in this exhibition pay homage to both the intricacies of nature as muse and the diverse range of artistic interpretations. Eleven artists chose artists whose work aligns with the incorporation of nature as a subject\, and\, frequently\, as a medium. \nThe artists use words such as fluid\, regenerative\, porous\, and fragile to describe works constructed with wool\, wood\, live succulents\, and fungus. \nGallery Hours:\nWednesday – Friday: 12 – 5pm\n& Saturdays 12 – 4pm
URL:https://theartsheet.org/event/artists-invite-artists-its-in-our-nature/2025-10-25/
LOCATION:Lake George Art Project\, 1 Amherst Street\, Lake George\, NY\, 12845\, United States
ATTACH;FMTTYPE=image/png:https://theartsheet.org/wp-content/uploads/2025/10/Screenshot-2025-10-12-at-11.49.22-AM.png
END:VEVENT
BEGIN:VEVENT
DTSTART;TZID=America/New_York:20251025T120000
DTEND;TZID=America/New_York:20251025T170000
DTSTAMP:20260424T010241
CREATED:20251011T153009Z
LAST-MODIFIED:20251011T153009Z
UID:10010487-1761393600-1761411600@theartsheet.org
SUMMARY:Jen Hicks - ‘Marking Time’
DESCRIPTION:Time is the framework for my drawing and painting practice. In working with the figure\, I seek to capture both a moment and the internal landscape of the sitter. Daily drawing sessions function as a meditation—repetition that sharpens vision\, timing\, and the choices I make with color\, line\, positive and negative space\, and other principles of art-making. \n– Jennifer Hicks \n  \nExhibition Dates: Sept 20 – Oct 25\, 2025 \nGallery Hours: Thurs/Sun – 12-5pm\, Fri/Sat – 12-6pm \nNo On-Site Parking
URL:https://theartsheet.org/event/jen-hicks-marking-time/2025-10-25/
LOCATION:Jane St. Art Center\, 11 Jane Street Suite A\, Saugerties\, NY\, 12477\, United States
ATTACH;FMTTYPE=image/png:https://theartsheet.org/wp-content/uploads/2025/09/Screenshot-2025-10-11-at-11.28.54-AM.png
ORGANIZER;CN="Jane St. Art Center":MAILTO:info@janestreetartcenter.com
END:VEVENT
BEGIN:VEVENT
DTSTART;TZID=America/New_York:20251025T100000
DTEND;TZID=America/New_York:20251025T160000
DTSTAMP:20260424T010241
CREATED:20251019T163142Z
LAST-MODIFIED:20251019T163142Z
UID:10010942-1761386400-1761408000@theartsheet.org
SUMMARY:2025 PGNY Print Fair
DESCRIPTION:Celebrate Printmaking\nThe 2025 PGNY Print Fair is a community arts event featuring artwork from over 50 printmakers from across Upstate New York\, Vermont\, Connecticut and Massachusetts. \n\nLearn more about the art of printmaking through hands-on demonstrations and activities all weekend long!\nCome ready to shop! Find a unique gift or add something new to your personal art collection. All artwork will be for sale\, with prices for every budget.\nMeet the artists and learn how they create their incredible hand-made artwork. Featured work includes hand-pulled prints made with relief\, intaglio\, silkscreen\, lithography\, risograph\, letterpress\, and hand-bound book arts techniques.\n\nFREE & open to the public \nThe PGNY Print Fair\nThe Troy Atrium: Broadway & Fourth St: Troy\, NY 12180\nSaturday\, October 25\, 10am – 4pm\nSunday\, October 26\, 11am – 2pm
URL:https://theartsheet.org/event/2025-pgny-print-fair/2025-10-25/1/
LOCATION:The Troy Atrium\, Broadway & Fourth St\, Troy\, NY\, 12180\, United States
ATTACH;FMTTYPE=image/jpeg:https://theartsheet.org/wp-content/uploads/2025/10/printfair.jpg
END:VEVENT
BEGIN:VEVENT
DTSTART;TZID=America/New_York:20251025T090000
DTEND;TZID=America/New_York:20251025T193000
DTSTAMP:20260424T010241
CREATED:20251019T161109Z
LAST-MODIFIED:20251019T161109Z
UID:10010941-1761382800-1761420600@theartsheet.org
SUMMARY:Unspoken Word Poetry Festival 
DESCRIPTION:Unspoken Word is co-curated by poet-educator Danielle Colin and creative strategist Patrick Harris Jr.\, two cultural leaders rooted in creating restorative\, care-driven spaces. Emerging from the world of poetry and writing\, the festival responds to burnout\, the fading of slam circuits\, and the growing pressures on today’s literary community — centering connection\, wellness\, and sustainable creative growth for poets\, writers\, and beyond. \nYou can buy tickets through our listed website. \nOct 24 – FRIDAY – ARRIVAL + ACTIVATION (Venue: Kickback Studios)    2:30-6: Arrivals. 6-6:30: Welcome & Grounding w Leah Penniman from Soul Fire Farm. 7-8: Participant Dinner. 8- Late: Participant Kickback w VIPs & Sponsors + music by Bax. \nOct 25 – SATURDAY – COMMUNITY\, CRAFT & SPOTLIGHT             Morning (Venue: Kickback Studios) 9:00 AM – Breakfast. 11:00 AM – Workshop. Midday – Evening (Venue: ACCR Gallery) 12:30 PM – Lunch Break. 2- 3: Panel\, Publishing + Submissions . 3:30 – 5:30 : Upstate NY Slam w Brandon Williamson. 6:00 PM : Dinner Break +…\n\n 
URL:https://theartsheet.org/event/unspoken-word-poetry-festival/2025-10-25/
LOCATION:Kickback Studios\, 10 2nd St\, Troy\, NY\, 12180\, United States
ATTACH;FMTTYPE=image/png:https://theartsheet.org/wp-content/uploads/2025/10/Screenshot-2025-10-19-at-11.56.33-AM.png
END:VEVENT
BEGIN:VEVENT
DTSTART;TZID=America/New_York:20251024T180000
DTEND;TZID=America/New_York:20251024T220000
DTSTAMP:20260424T010241
CREATED:20251018T155857Z
LAST-MODIFIED:20251018T155857Z
UID:10010915-1761328800-1761343200@theartsheet.org
SUMMARY:Castle in the Clouds - Celebrating One Year of Context Collective
DESCRIPTION:We’re turning 1 & you’re invited to the party of the year! Castle in the Clouds brings music\, burlesque performances\, tarot\, and cocktails! \nFriday\, October 24 · 6 – 10pm EDT
URL:https://theartsheet.org/event/castle-in-the-clouds-celebrating-one-year-of-context-collective/
LOCATION:Context Collective\, 95 4th Street\, Troy\, NY\, United States
ATTACH;FMTTYPE=image/jpeg:https://theartsheet.org/wp-content/uploads/2025/10/cloud-collective.jpeg
END:VEVENT
END:VCALENDAR