BEGIN:VCALENDAR
VERSION:2.0
PRODID:-// - ECPv6.15.20//NONSGML v1.0//EN
CALSCALE:GREGORIAN
METHOD:PUBLISH
X-ORIGINAL-URL:https://theartsheet.org
X-WR-CALDESC:Events for 
REFRESH-INTERVAL;VALUE=DURATION:PT1H
X-Robots-Tag:noindex
X-PUBLISHED-TTL:PT1H
BEGIN:VTIMEZONE
TZID:America/New_York
BEGIN:DAYLIGHT
TZOFFSETFROM:-0500
TZOFFSETTO:-0400
TZNAME:EDT
DTSTART:20250309T070000
END:DAYLIGHT
BEGIN:STANDARD
TZOFFSETFROM:-0400
TZOFFSETTO:-0500
TZNAME:EST
DTSTART:20251102T060000
END:STANDARD
BEGIN:DAYLIGHT
TZOFFSETFROM:-0500
TZOFFSETTO:-0400
TZNAME:EDT
DTSTART:20260308T070000
END:DAYLIGHT
BEGIN:STANDARD
TZOFFSETFROM:-0400
TZOFFSETTO:-0500
TZNAME:EST
DTSTART:20261101T060000
END:STANDARD
BEGIN:DAYLIGHT
TZOFFSETFROM:-0500
TZOFFSETTO:-0400
TZNAME:EDT
DTSTART:20270314T070000
END:DAYLIGHT
BEGIN:STANDARD
TZOFFSETFROM:-0400
TZOFFSETTO:-0500
TZNAME:EST
DTSTART:20271107T060000
END:STANDARD
END:VTIMEZONE
BEGIN:VEVENT
DTSTART;VALUE=DATE:20260423
DTEND;VALUE=DATE:20260424
DTSTAMP:20260423T140129
CREATED:20260204T172255Z
LAST-MODIFIED:20260204T172255Z
UID:10011157-1776902400-1776988799@theartsheet.org
SUMMARY:ACG 21st Annual Members' Show
DESCRIPTION:The “21st Annual Members’ Show” is on display now through Friday\, February 20\, 2026. It is free and open to the public; Tuesday – Saturday\, Noon – 5 p.m. Visit us at our new location and home 48 N Pearl St.
URL:https://theartsheet.org/event/acg-21st-annual-members-show/2026-04-23/
ATTACH;FMTTYPE=image/png:https://theartsheet.org/wp-content/uploads/2026/02/Screenshot-2026-02-04-at-12.22.13-PM.png
ORGANIZER;CN="Albany Center Gallery":MAILTO:info@albanycentergallery.org
END:VEVENT
BEGIN:VEVENT
DTSTART;VALUE=DATE:20260424
DTEND;VALUE=DATE:20260425
DTSTAMP:20260423T140129
CREATED:20260204T172255Z
LAST-MODIFIED:20260204T172255Z
UID:10011158-1776988800-1777075199@theartsheet.org
SUMMARY:ACG 21st Annual Members' Show
DESCRIPTION:The “21st Annual Members’ Show” is on display now through Friday\, February 20\, 2026. It is free and open to the public; Tuesday – Saturday\, Noon – 5 p.m. Visit us at our new location and home 48 N Pearl St.
URL:https://theartsheet.org/event/acg-21st-annual-members-show/2026-04-24/
ATTACH;FMTTYPE=image/png:https://theartsheet.org/wp-content/uploads/2026/02/Screenshot-2026-02-04-at-12.22.13-PM.png
ORGANIZER;CN="Albany Center Gallery":MAILTO:info@albanycentergallery.org
END:VEVENT
BEGIN:VEVENT
DTSTART;VALUE=DATE:20260425
DTEND;VALUE=DATE:20260426
DTSTAMP:20260423T140129
CREATED:20260204T172255Z
LAST-MODIFIED:20260204T172255Z
UID:10011159-1777075200-1777161599@theartsheet.org
SUMMARY:ACG 21st Annual Members' Show
DESCRIPTION:The “21st Annual Members’ Show” is on display now through Friday\, February 20\, 2026. It is free and open to the public; Tuesday – Saturday\, Noon – 5 p.m. Visit us at our new location and home 48 N Pearl St.
URL:https://theartsheet.org/event/acg-21st-annual-members-show/2026-04-25/
ATTACH;FMTTYPE=image/png:https://theartsheet.org/wp-content/uploads/2026/02/Screenshot-2026-02-04-at-12.22.13-PM.png
ORGANIZER;CN="Albany Center Gallery":MAILTO:info@albanycentergallery.org
END:VEVENT
BEGIN:VEVENT
DTSTART;VALUE=DATE:20260426
DTEND;VALUE=DATE:20260427
DTSTAMP:20260423T140129
CREATED:20260204T172255Z
LAST-MODIFIED:20260204T172255Z
UID:10011160-1777161600-1777247999@theartsheet.org
SUMMARY:ACG 21st Annual Members' Show
DESCRIPTION:The “21st Annual Members’ Show” is on display now through Friday\, February 20\, 2026. It is free and open to the public; Tuesday – Saturday\, Noon – 5 p.m. Visit us at our new location and home 48 N Pearl St.
URL:https://theartsheet.org/event/acg-21st-annual-members-show/2026-04-26/
ATTACH;FMTTYPE=image/png:https://theartsheet.org/wp-content/uploads/2026/02/Screenshot-2026-02-04-at-12.22.13-PM.png
ORGANIZER;CN="Albany Center Gallery":MAILTO:info@albanycentergallery.org
END:VEVENT
BEGIN:VEVENT
DTSTART;VALUE=DATE:20260427
DTEND;VALUE=DATE:20260428
DTSTAMP:20260423T140129
CREATED:20260204T172255Z
LAST-MODIFIED:20260204T172255Z
UID:10011161-1777248000-1777334399@theartsheet.org
SUMMARY:ACG 21st Annual Members' Show
DESCRIPTION:The “21st Annual Members’ Show” is on display now through Friday\, February 20\, 2026. It is free and open to the public; Tuesday – Saturday\, Noon – 5 p.m. Visit us at our new location and home 48 N Pearl St.
URL:https://theartsheet.org/event/acg-21st-annual-members-show/2026-04-27/
ATTACH;FMTTYPE=image/png:https://theartsheet.org/wp-content/uploads/2026/02/Screenshot-2026-02-04-at-12.22.13-PM.png
ORGANIZER;CN="Albany Center Gallery":MAILTO:info@albanycentergallery.org
END:VEVENT
BEGIN:VEVENT
DTSTART;VALUE=DATE:20260428
DTEND;VALUE=DATE:20260429
DTSTAMP:20260423T140129
CREATED:20260204T172255Z
LAST-MODIFIED:20260204T172255Z
UID:10011162-1777334400-1777420799@theartsheet.org
SUMMARY:ACG 21st Annual Members' Show
DESCRIPTION:The “21st Annual Members’ Show” is on display now through Friday\, February 20\, 2026. It is free and open to the public; Tuesday – Saturday\, Noon – 5 p.m. Visit us at our new location and home 48 N Pearl St.
URL:https://theartsheet.org/event/acg-21st-annual-members-show/2026-04-28/
ATTACH;FMTTYPE=image/png:https://theartsheet.org/wp-content/uploads/2026/02/Screenshot-2026-02-04-at-12.22.13-PM.png
ORGANIZER;CN="Albany Center Gallery":MAILTO:info@albanycentergallery.org
END:VEVENT
BEGIN:VEVENT
DTSTART;VALUE=DATE:20260429
DTEND;VALUE=DATE:20260430
DTSTAMP:20260423T140129
CREATED:20260204T172255Z
LAST-MODIFIED:20260204T172255Z
UID:10011163-1777420800-1777507199@theartsheet.org
SUMMARY:ACG 21st Annual Members' Show
DESCRIPTION:The “21st Annual Members’ Show” is on display now through Friday\, February 20\, 2026. It is free and open to the public; Tuesday – Saturday\, Noon – 5 p.m. Visit us at our new location and home 48 N Pearl St.
URL:https://theartsheet.org/event/acg-21st-annual-members-show/2026-04-29/
ATTACH;FMTTYPE=image/png:https://theartsheet.org/wp-content/uploads/2026/02/Screenshot-2026-02-04-at-12.22.13-PM.png
ORGANIZER;CN="Albany Center Gallery":MAILTO:info@albanycentergallery.org
END:VEVENT
BEGIN:VEVENT
DTSTART;VALUE=DATE:20260430
DTEND;VALUE=DATE:20260501
DTSTAMP:20260423T140129
CREATED:20260204T172255Z
LAST-MODIFIED:20260204T172255Z
UID:10011164-1777507200-1777593599@theartsheet.org
SUMMARY:ACG 21st Annual Members' Show
DESCRIPTION:The “21st Annual Members’ Show” is on display now through Friday\, February 20\, 2026. It is free and open to the public; Tuesday – Saturday\, Noon – 5 p.m. Visit us at our new location and home 48 N Pearl St.
URL:https://theartsheet.org/event/acg-21st-annual-members-show/2026-04-30/
ATTACH;FMTTYPE=image/png:https://theartsheet.org/wp-content/uploads/2026/02/Screenshot-2026-02-04-at-12.22.13-PM.png
ORGANIZER;CN="Albany Center Gallery":MAILTO:info@albanycentergallery.org
END:VEVENT
BEGIN:VEVENT
DTSTART;VALUE=DATE:20260501
DTEND;VALUE=DATE:20260502
DTSTAMP:20260423T140129
CREATED:20260204T172255Z
LAST-MODIFIED:20260204T172255Z
UID:10011165-1777593600-1777679999@theartsheet.org
SUMMARY:ACG 21st Annual Members' Show
DESCRIPTION:The “21st Annual Members’ Show” is on display now through Friday\, February 20\, 2026. It is free and open to the public; Tuesday – Saturday\, Noon – 5 p.m. Visit us at our new location and home 48 N Pearl St.
URL:https://theartsheet.org/event/acg-21st-annual-members-show/2026-05-01/
ATTACH;FMTTYPE=image/png:https://theartsheet.org/wp-content/uploads/2026/02/Screenshot-2026-02-04-at-12.22.13-PM.png
ORGANIZER;CN="Albany Center Gallery":MAILTO:info@albanycentergallery.org
END:VEVENT
BEGIN:VEVENT
DTSTART;VALUE=DATE:20260502
DTEND;VALUE=DATE:20260503
DTSTAMP:20260423T140129
CREATED:20260204T172255Z
LAST-MODIFIED:20260204T172255Z
UID:10011166-1777680000-1777766399@theartsheet.org
SUMMARY:ACG 21st Annual Members' Show
DESCRIPTION:The “21st Annual Members’ Show” is on display now through Friday\, February 20\, 2026. It is free and open to the public; Tuesday – Saturday\, Noon – 5 p.m. Visit us at our new location and home 48 N Pearl St.
URL:https://theartsheet.org/event/acg-21st-annual-members-show/2026-05-02/
ATTACH;FMTTYPE=image/png:https://theartsheet.org/wp-content/uploads/2026/02/Screenshot-2026-02-04-at-12.22.13-PM.png
ORGANIZER;CN="Albany Center Gallery":MAILTO:info@albanycentergallery.org
END:VEVENT
BEGIN:VEVENT
DTSTART;VALUE=DATE:20260503
DTEND;VALUE=DATE:20260504
DTSTAMP:20260423T140129
CREATED:20260204T172255Z
LAST-MODIFIED:20260204T172255Z
UID:10011167-1777766400-1777852799@theartsheet.org
SUMMARY:ACG 21st Annual Members' Show
DESCRIPTION:The “21st Annual Members’ Show” is on display now through Friday\, February 20\, 2026. It is free and open to the public; Tuesday – Saturday\, Noon – 5 p.m. Visit us at our new location and home 48 N Pearl St.
URL:https://theartsheet.org/event/acg-21st-annual-members-show/2026-05-03/
ATTACH;FMTTYPE=image/png:https://theartsheet.org/wp-content/uploads/2026/02/Screenshot-2026-02-04-at-12.22.13-PM.png
ORGANIZER;CN="Albany Center Gallery":MAILTO:info@albanycentergallery.org
END:VEVENT
BEGIN:VEVENT
DTSTART;VALUE=DATE:20260504
DTEND;VALUE=DATE:20260505
DTSTAMP:20260423T140129
CREATED:20260204T172255Z
LAST-MODIFIED:20260204T172255Z
UID:10011168-1777852800-1777939199@theartsheet.org
SUMMARY:ACG 21st Annual Members' Show
DESCRIPTION:The “21st Annual Members’ Show” is on display now through Friday\, February 20\, 2026. It is free and open to the public; Tuesday – Saturday\, Noon – 5 p.m. Visit us at our new location and home 48 N Pearl St.
URL:https://theartsheet.org/event/acg-21st-annual-members-show/2026-05-04/
ATTACH;FMTTYPE=image/png:https://theartsheet.org/wp-content/uploads/2026/02/Screenshot-2026-02-04-at-12.22.13-PM.png
ORGANIZER;CN="Albany Center Gallery":MAILTO:info@albanycentergallery.org
END:VEVENT
BEGIN:VEVENT
DTSTART;VALUE=DATE:20260505
DTEND;VALUE=DATE:20260506
DTSTAMP:20260423T140129
CREATED:20260204T172255Z
LAST-MODIFIED:20260204T172255Z
UID:10011169-1777939200-1778025599@theartsheet.org
SUMMARY:ACG 21st Annual Members' Show
DESCRIPTION:The “21st Annual Members’ Show” is on display now through Friday\, February 20\, 2026. It is free and open to the public; Tuesday – Saturday\, Noon – 5 p.m. Visit us at our new location and home 48 N Pearl St.
URL:https://theartsheet.org/event/acg-21st-annual-members-show/2026-05-05/
ATTACH;FMTTYPE=image/png:https://theartsheet.org/wp-content/uploads/2026/02/Screenshot-2026-02-04-at-12.22.13-PM.png
ORGANIZER;CN="Albany Center Gallery":MAILTO:info@albanycentergallery.org
END:VEVENT
BEGIN:VEVENT
DTSTART;VALUE=DATE:20260506
DTEND;VALUE=DATE:20260507
DTSTAMP:20260423T140129
CREATED:20260204T172255Z
LAST-MODIFIED:20260204T172255Z
UID:10011170-1778025600-1778111999@theartsheet.org
SUMMARY:ACG 21st Annual Members' Show
DESCRIPTION:The “21st Annual Members’ Show” is on display now through Friday\, February 20\, 2026. It is free and open to the public; Tuesday – Saturday\, Noon – 5 p.m. Visit us at our new location and home 48 N Pearl St.
URL:https://theartsheet.org/event/acg-21st-annual-members-show/2026-05-06/
ATTACH;FMTTYPE=image/png:https://theartsheet.org/wp-content/uploads/2026/02/Screenshot-2026-02-04-at-12.22.13-PM.png
ORGANIZER;CN="Albany Center Gallery":MAILTO:info@albanycentergallery.org
END:VEVENT
BEGIN:VEVENT
DTSTART;VALUE=DATE:20260507
DTEND;VALUE=DATE:20260508
DTSTAMP:20260423T140129
CREATED:20260204T172255Z
LAST-MODIFIED:20260204T172255Z
UID:10011171-1778112000-1778198399@theartsheet.org
SUMMARY:ACG 21st Annual Members' Show
DESCRIPTION:The “21st Annual Members’ Show” is on display now through Friday\, February 20\, 2026. It is free and open to the public; Tuesday – Saturday\, Noon – 5 p.m. Visit us at our new location and home 48 N Pearl St.
URL:https://theartsheet.org/event/acg-21st-annual-members-show/2026-05-07/
ATTACH;FMTTYPE=image/png:https://theartsheet.org/wp-content/uploads/2026/02/Screenshot-2026-02-04-at-12.22.13-PM.png
ORGANIZER;CN="Albany Center Gallery":MAILTO:info@albanycentergallery.org
END:VEVENT
BEGIN:VEVENT
DTSTART;VALUE=DATE:20260508
DTEND;VALUE=DATE:20260509
DTSTAMP:20260423T140129
CREATED:20260204T172255Z
LAST-MODIFIED:20260204T172255Z
UID:10011172-1778198400-1778284799@theartsheet.org
SUMMARY:ACG 21st Annual Members' Show
DESCRIPTION:The “21st Annual Members’ Show” is on display now through Friday\, February 20\, 2026. It is free and open to the public; Tuesday – Saturday\, Noon – 5 p.m. Visit us at our new location and home 48 N Pearl St.
URL:https://theartsheet.org/event/acg-21st-annual-members-show/2026-05-08/
ATTACH;FMTTYPE=image/png:https://theartsheet.org/wp-content/uploads/2026/02/Screenshot-2026-02-04-at-12.22.13-PM.png
ORGANIZER;CN="Albany Center Gallery":MAILTO:info@albanycentergallery.org
END:VEVENT
BEGIN:VEVENT
DTSTART;VALUE=DATE:20260509
DTEND;VALUE=DATE:20260510
DTSTAMP:20260423T140129
CREATED:20260204T172255Z
LAST-MODIFIED:20260204T172255Z
UID:10011173-1778284800-1778371199@theartsheet.org
SUMMARY:ACG 21st Annual Members' Show
DESCRIPTION:The “21st Annual Members’ Show” is on display now through Friday\, February 20\, 2026. It is free and open to the public; Tuesday – Saturday\, Noon – 5 p.m. Visit us at our new location and home 48 N Pearl St.
URL:https://theartsheet.org/event/acg-21st-annual-members-show/2026-05-09/
ATTACH;FMTTYPE=image/png:https://theartsheet.org/wp-content/uploads/2026/02/Screenshot-2026-02-04-at-12.22.13-PM.png
ORGANIZER;CN="Albany Center Gallery":MAILTO:info@albanycentergallery.org
END:VEVENT
BEGIN:VEVENT
DTSTART;VALUE=DATE:20260510
DTEND;VALUE=DATE:20260511
DTSTAMP:20260423T140129
CREATED:20260204T172255Z
LAST-MODIFIED:20260204T172255Z
UID:10011174-1778371200-1778457599@theartsheet.org
SUMMARY:ACG 21st Annual Members' Show
DESCRIPTION:The “21st Annual Members’ Show” is on display now through Friday\, February 20\, 2026. It is free and open to the public; Tuesday – Saturday\, Noon – 5 p.m. Visit us at our new location and home 48 N Pearl St.
URL:https://theartsheet.org/event/acg-21st-annual-members-show/2026-05-10/
ATTACH;FMTTYPE=image/png:https://theartsheet.org/wp-content/uploads/2026/02/Screenshot-2026-02-04-at-12.22.13-PM.png
ORGANIZER;CN="Albany Center Gallery":MAILTO:info@albanycentergallery.org
END:VEVENT
BEGIN:VEVENT
DTSTART;VALUE=DATE:20260511
DTEND;VALUE=DATE:20260512
DTSTAMP:20260423T140129
CREATED:20260204T172255Z
LAST-MODIFIED:20260204T172255Z
UID:10011175-1778457600-1778543999@theartsheet.org
SUMMARY:ACG 21st Annual Members' Show
DESCRIPTION:The “21st Annual Members’ Show” is on display now through Friday\, February 20\, 2026. It is free and open to the public; Tuesday – Saturday\, Noon – 5 p.m. Visit us at our new location and home 48 N Pearl St.
URL:https://theartsheet.org/event/acg-21st-annual-members-show/2026-05-11/
ATTACH;FMTTYPE=image/png:https://theartsheet.org/wp-content/uploads/2026/02/Screenshot-2026-02-04-at-12.22.13-PM.png
ORGANIZER;CN="Albany Center Gallery":MAILTO:info@albanycentergallery.org
END:VEVENT
BEGIN:VEVENT
DTSTART;VALUE=DATE:20260512
DTEND;VALUE=DATE:20260513
DTSTAMP:20260423T140129
CREATED:20260204T172255Z
LAST-MODIFIED:20260204T172255Z
UID:10011176-1778544000-1778630399@theartsheet.org
SUMMARY:ACG 21st Annual Members' Show
DESCRIPTION:The “21st Annual Members’ Show” is on display now through Friday\, February 20\, 2026. It is free and open to the public; Tuesday – Saturday\, Noon – 5 p.m. Visit us at our new location and home 48 N Pearl St.
URL:https://theartsheet.org/event/acg-21st-annual-members-show/2026-05-12/
ATTACH;FMTTYPE=image/png:https://theartsheet.org/wp-content/uploads/2026/02/Screenshot-2026-02-04-at-12.22.13-PM.png
ORGANIZER;CN="Albany Center Gallery":MAILTO:info@albanycentergallery.org
END:VEVENT
BEGIN:VEVENT
DTSTART;VALUE=DATE:20260513
DTEND;VALUE=DATE:20260514
DTSTAMP:20260423T140129
CREATED:20260204T172255Z
LAST-MODIFIED:20260204T172255Z
UID:10011177-1778630400-1778716799@theartsheet.org
SUMMARY:ACG 21st Annual Members' Show
DESCRIPTION:The “21st Annual Members’ Show” is on display now through Friday\, February 20\, 2026. It is free and open to the public; Tuesday – Saturday\, Noon – 5 p.m. Visit us at our new location and home 48 N Pearl St.
URL:https://theartsheet.org/event/acg-21st-annual-members-show/2026-05-13/
ATTACH;FMTTYPE=image/png:https://theartsheet.org/wp-content/uploads/2026/02/Screenshot-2026-02-04-at-12.22.13-PM.png
ORGANIZER;CN="Albany Center Gallery":MAILTO:info@albanycentergallery.org
END:VEVENT
BEGIN:VEVENT
DTSTART;VALUE=DATE:20260514
DTEND;VALUE=DATE:20260515
DTSTAMP:20260423T140129
CREATED:20260204T172255Z
LAST-MODIFIED:20260204T172255Z
UID:10011178-1778716800-1778803199@theartsheet.org
SUMMARY:ACG 21st Annual Members' Show
DESCRIPTION:The “21st Annual Members’ Show” is on display now through Friday\, February 20\, 2026. It is free and open to the public; Tuesday – Saturday\, Noon – 5 p.m. Visit us at our new location and home 48 N Pearl St.
URL:https://theartsheet.org/event/acg-21st-annual-members-show/2026-05-14/
ATTACH;FMTTYPE=image/png:https://theartsheet.org/wp-content/uploads/2026/02/Screenshot-2026-02-04-at-12.22.13-PM.png
ORGANIZER;CN="Albany Center Gallery":MAILTO:info@albanycentergallery.org
END:VEVENT
BEGIN:VEVENT
DTSTART;VALUE=DATE:20260515
DTEND;VALUE=DATE:20260516
DTSTAMP:20260423T140129
CREATED:20260204T172255Z
LAST-MODIFIED:20260204T172255Z
UID:10011179-1778803200-1778889599@theartsheet.org
SUMMARY:ACG 21st Annual Members' Show
DESCRIPTION:The “21st Annual Members’ Show” is on display now through Friday\, February 20\, 2026. It is free and open to the public; Tuesday – Saturday\, Noon – 5 p.m. Visit us at our new location and home 48 N Pearl St.
URL:https://theartsheet.org/event/acg-21st-annual-members-show/2026-05-15/
ATTACH;FMTTYPE=image/png:https://theartsheet.org/wp-content/uploads/2026/02/Screenshot-2026-02-04-at-12.22.13-PM.png
ORGANIZER;CN="Albany Center Gallery":MAILTO:info@albanycentergallery.org
END:VEVENT
BEGIN:VEVENT
DTSTART;VALUE=DATE:20260516
DTEND;VALUE=DATE:20260517
DTSTAMP:20260423T140129
CREATED:20260204T172255Z
LAST-MODIFIED:20260204T172255Z
UID:10011180-1778889600-1778975999@theartsheet.org
SUMMARY:ACG 21st Annual Members' Show
DESCRIPTION:The “21st Annual Members’ Show” is on display now through Friday\, February 20\, 2026. It is free and open to the public; Tuesday – Saturday\, Noon – 5 p.m. Visit us at our new location and home 48 N Pearl St.
URL:https://theartsheet.org/event/acg-21st-annual-members-show/2026-05-16/
ATTACH;FMTTYPE=image/png:https://theartsheet.org/wp-content/uploads/2026/02/Screenshot-2026-02-04-at-12.22.13-PM.png
ORGANIZER;CN="Albany Center Gallery":MAILTO:info@albanycentergallery.org
END:VEVENT
BEGIN:VEVENT
DTSTART;VALUE=DATE:20260517
DTEND;VALUE=DATE:20260518
DTSTAMP:20260423T140129
CREATED:20260204T172255Z
LAST-MODIFIED:20260204T172255Z
UID:10011181-1778976000-1779062399@theartsheet.org
SUMMARY:ACG 21st Annual Members' Show
DESCRIPTION:The “21st Annual Members’ Show” is on display now through Friday\, February 20\, 2026. It is free and open to the public; Tuesday – Saturday\, Noon – 5 p.m. Visit us at our new location and home 48 N Pearl St.
URL:https://theartsheet.org/event/acg-21st-annual-members-show/2026-05-17/
ATTACH;FMTTYPE=image/png:https://theartsheet.org/wp-content/uploads/2026/02/Screenshot-2026-02-04-at-12.22.13-PM.png
ORGANIZER;CN="Albany Center Gallery":MAILTO:info@albanycentergallery.org
END:VEVENT
BEGIN:VEVENT
DTSTART;VALUE=DATE:20260518
DTEND;VALUE=DATE:20260519
DTSTAMP:20260423T140129
CREATED:20260204T172255Z
LAST-MODIFIED:20260204T172255Z
UID:10011182-1779062400-1779148799@theartsheet.org
SUMMARY:ACG 21st Annual Members' Show
DESCRIPTION:The “21st Annual Members’ Show” is on display now through Friday\, February 20\, 2026. It is free and open to the public; Tuesday – Saturday\, Noon – 5 p.m. Visit us at our new location and home 48 N Pearl St.
URL:https://theartsheet.org/event/acg-21st-annual-members-show/2026-05-18/
ATTACH;FMTTYPE=image/png:https://theartsheet.org/wp-content/uploads/2026/02/Screenshot-2026-02-04-at-12.22.13-PM.png
ORGANIZER;CN="Albany Center Gallery":MAILTO:info@albanycentergallery.org
END:VEVENT
BEGIN:VEVENT
DTSTART;VALUE=DATE:20260519
DTEND;VALUE=DATE:20260520
DTSTAMP:20260423T140129
CREATED:20260204T172255Z
LAST-MODIFIED:20260204T172255Z
UID:10011183-1779148800-1779235199@theartsheet.org
SUMMARY:ACG 21st Annual Members' Show
DESCRIPTION:The “21st Annual Members’ Show” is on display now through Friday\, February 20\, 2026. It is free and open to the public; Tuesday – Saturday\, Noon – 5 p.m. Visit us at our new location and home 48 N Pearl St.
URL:https://theartsheet.org/event/acg-21st-annual-members-show/2026-05-19/
ATTACH;FMTTYPE=image/png:https://theartsheet.org/wp-content/uploads/2026/02/Screenshot-2026-02-04-at-12.22.13-PM.png
ORGANIZER;CN="Albany Center Gallery":MAILTO:info@albanycentergallery.org
END:VEVENT
BEGIN:VEVENT
DTSTART;VALUE=DATE:20260520
DTEND;VALUE=DATE:20260521
DTSTAMP:20260423T140129
CREATED:20260204T172255Z
LAST-MODIFIED:20260204T172255Z
UID:10011184-1779235200-1779321599@theartsheet.org
SUMMARY:ACG 21st Annual Members' Show
DESCRIPTION:The “21st Annual Members’ Show” is on display now through Friday\, February 20\, 2026. It is free and open to the public; Tuesday – Saturday\, Noon – 5 p.m. Visit us at our new location and home 48 N Pearl St.
URL:https://theartsheet.org/event/acg-21st-annual-members-show/2026-05-20/
ATTACH;FMTTYPE=image/png:https://theartsheet.org/wp-content/uploads/2026/02/Screenshot-2026-02-04-at-12.22.13-PM.png
ORGANIZER;CN="Albany Center Gallery":MAILTO:info@albanycentergallery.org
END:VEVENT
BEGIN:VEVENT
DTSTART;VALUE=DATE:20260521
DTEND;VALUE=DATE:20260522
DTSTAMP:20260423T140129
CREATED:20260204T172255Z
LAST-MODIFIED:20260204T172255Z
UID:10011185-1779321600-1779407999@theartsheet.org
SUMMARY:ACG 21st Annual Members' Show
DESCRIPTION:The “21st Annual Members’ Show” is on display now through Friday\, February 20\, 2026. It is free and open to the public; Tuesday – Saturday\, Noon – 5 p.m. Visit us at our new location and home 48 N Pearl St.
URL:https://theartsheet.org/event/acg-21st-annual-members-show/2026-05-21/
ATTACH;FMTTYPE=image/png:https://theartsheet.org/wp-content/uploads/2026/02/Screenshot-2026-02-04-at-12.22.13-PM.png
ORGANIZER;CN="Albany Center Gallery":MAILTO:info@albanycentergallery.org
END:VEVENT
BEGIN:VEVENT
DTSTART;VALUE=DATE:20260522
DTEND;VALUE=DATE:20260523
DTSTAMP:20260423T140129
CREATED:20260204T172255Z
LAST-MODIFIED:20260204T172255Z
UID:10011186-1779408000-1779494399@theartsheet.org
SUMMARY:ACG 21st Annual Members' Show
DESCRIPTION:The “21st Annual Members’ Show” is on display now through Friday\, February 20\, 2026. It is free and open to the public; Tuesday – Saturday\, Noon – 5 p.m. Visit us at our new location and home 48 N Pearl St.
URL:https://theartsheet.org/event/acg-21st-annual-members-show/2026-05-22/
ATTACH;FMTTYPE=image/png:https://theartsheet.org/wp-content/uploads/2026/02/Screenshot-2026-02-04-at-12.22.13-PM.png
ORGANIZER;CN="Albany Center Gallery":MAILTO:info@albanycentergallery.org
END:VEVENT
END:VCALENDAR