BEGIN:VCALENDAR
VERSION:2.0
PRODID:-// - ECPv6.15.20//NONSGML v1.0//EN
CALSCALE:GREGORIAN
METHOD:PUBLISH
X-ORIGINAL-URL:https://theartsheet.org
X-WR-CALDESC:Events for 
REFRESH-INTERVAL;VALUE=DURATION:PT1H
X-Robots-Tag:noindex
X-PUBLISHED-TTL:PT1H
BEGIN:VTIMEZONE
TZID:America/New_York
BEGIN:DAYLIGHT
TZOFFSETFROM:-0500
TZOFFSETTO:-0400
TZNAME:EDT
DTSTART:20250309T070000
END:DAYLIGHT
BEGIN:STANDARD
TZOFFSETFROM:-0400
TZOFFSETTO:-0500
TZNAME:EST
DTSTART:20251102T060000
END:STANDARD
BEGIN:DAYLIGHT
TZOFFSETFROM:-0500
TZOFFSETTO:-0400
TZNAME:EDT
DTSTART:20260308T070000
END:DAYLIGHT
BEGIN:STANDARD
TZOFFSETFROM:-0400
TZOFFSETTO:-0500
TZNAME:EST
DTSTART:20261101T060000
END:STANDARD
BEGIN:DAYLIGHT
TZOFFSETFROM:-0500
TZOFFSETTO:-0400
TZNAME:EDT
DTSTART:20270314T070000
END:DAYLIGHT
BEGIN:STANDARD
TZOFFSETFROM:-0400
TZOFFSETTO:-0500
TZNAME:EST
DTSTART:20271107T060000
END:STANDARD
END:VTIMEZONE
BEGIN:VEVENT
DTSTART;VALUE=DATE:20260921
DTEND;VALUE=DATE:20260922
DTSTAMP:20260424T130448
CREATED:20260204T172255Z
LAST-MODIFIED:20260204T172255Z
UID:10011308-1789948800-1790035199@theartsheet.org
SUMMARY:ACG 21st Annual Members' Show
DESCRIPTION:The “21st Annual Members’ Show” is on display now through Friday\, February 20\, 2026. It is free and open to the public; Tuesday – Saturday\, Noon – 5 p.m. Visit us at our new location and home 48 N Pearl St.
URL:https://theartsheet.org/event/acg-21st-annual-members-show/2026-09-21/
ATTACH;FMTTYPE=image/png:https://theartsheet.org/wp-content/uploads/2026/02/Screenshot-2026-02-04-at-12.22.13-PM.png
ORGANIZER;CN="Albany Center Gallery":MAILTO:info@albanycentergallery.org
END:VEVENT
BEGIN:VEVENT
DTSTART;VALUE=DATE:20260922
DTEND;VALUE=DATE:20260923
DTSTAMP:20260424T130448
CREATED:20260204T172255Z
LAST-MODIFIED:20260204T172255Z
UID:10011309-1790035200-1790121599@theartsheet.org
SUMMARY:ACG 21st Annual Members' Show
DESCRIPTION:The “21st Annual Members’ Show” is on display now through Friday\, February 20\, 2026. It is free and open to the public; Tuesday – Saturday\, Noon – 5 p.m. Visit us at our new location and home 48 N Pearl St.
URL:https://theartsheet.org/event/acg-21st-annual-members-show/2026-09-22/
ATTACH;FMTTYPE=image/png:https://theartsheet.org/wp-content/uploads/2026/02/Screenshot-2026-02-04-at-12.22.13-PM.png
ORGANIZER;CN="Albany Center Gallery":MAILTO:info@albanycentergallery.org
END:VEVENT
BEGIN:VEVENT
DTSTART;VALUE=DATE:20260923
DTEND;VALUE=DATE:20260924
DTSTAMP:20260424T130448
CREATED:20260204T172255Z
LAST-MODIFIED:20260204T172255Z
UID:10011310-1790121600-1790207999@theartsheet.org
SUMMARY:ACG 21st Annual Members' Show
DESCRIPTION:The “21st Annual Members’ Show” is on display now through Friday\, February 20\, 2026. It is free and open to the public; Tuesday – Saturday\, Noon – 5 p.m. Visit us at our new location and home 48 N Pearl St.
URL:https://theartsheet.org/event/acg-21st-annual-members-show/2026-09-23/
ATTACH;FMTTYPE=image/png:https://theartsheet.org/wp-content/uploads/2026/02/Screenshot-2026-02-04-at-12.22.13-PM.png
ORGANIZER;CN="Albany Center Gallery":MAILTO:info@albanycentergallery.org
END:VEVENT
BEGIN:VEVENT
DTSTART;VALUE=DATE:20260924
DTEND;VALUE=DATE:20260925
DTSTAMP:20260424T130448
CREATED:20260204T172255Z
LAST-MODIFIED:20260204T172255Z
UID:10011311-1790208000-1790294399@theartsheet.org
SUMMARY:ACG 21st Annual Members' Show
DESCRIPTION:The “21st Annual Members’ Show” is on display now through Friday\, February 20\, 2026. It is free and open to the public; Tuesday – Saturday\, Noon – 5 p.m. Visit us at our new location and home 48 N Pearl St.
URL:https://theartsheet.org/event/acg-21st-annual-members-show/2026-09-24/
ATTACH;FMTTYPE=image/png:https://theartsheet.org/wp-content/uploads/2026/02/Screenshot-2026-02-04-at-12.22.13-PM.png
ORGANIZER;CN="Albany Center Gallery":MAILTO:info@albanycentergallery.org
END:VEVENT
BEGIN:VEVENT
DTSTART;VALUE=DATE:20260925
DTEND;VALUE=DATE:20260926
DTSTAMP:20260424T130448
CREATED:20260204T172255Z
LAST-MODIFIED:20260204T172255Z
UID:10011312-1790294400-1790380799@theartsheet.org
SUMMARY:ACG 21st Annual Members' Show
DESCRIPTION:The “21st Annual Members’ Show” is on display now through Friday\, February 20\, 2026. It is free and open to the public; Tuesday – Saturday\, Noon – 5 p.m. Visit us at our new location and home 48 N Pearl St.
URL:https://theartsheet.org/event/acg-21st-annual-members-show/2026-09-25/
ATTACH;FMTTYPE=image/png:https://theartsheet.org/wp-content/uploads/2026/02/Screenshot-2026-02-04-at-12.22.13-PM.png
ORGANIZER;CN="Albany Center Gallery":MAILTO:info@albanycentergallery.org
END:VEVENT
BEGIN:VEVENT
DTSTART;VALUE=DATE:20260926
DTEND;VALUE=DATE:20260927
DTSTAMP:20260424T130448
CREATED:20260204T172255Z
LAST-MODIFIED:20260204T172255Z
UID:10011313-1790380800-1790467199@theartsheet.org
SUMMARY:ACG 21st Annual Members' Show
DESCRIPTION:The “21st Annual Members’ Show” is on display now through Friday\, February 20\, 2026. It is free and open to the public; Tuesday – Saturday\, Noon – 5 p.m. Visit us at our new location and home 48 N Pearl St.
URL:https://theartsheet.org/event/acg-21st-annual-members-show/2026-09-26/
ATTACH;FMTTYPE=image/png:https://theartsheet.org/wp-content/uploads/2026/02/Screenshot-2026-02-04-at-12.22.13-PM.png
ORGANIZER;CN="Albany Center Gallery":MAILTO:info@albanycentergallery.org
END:VEVENT
BEGIN:VEVENT
DTSTART;VALUE=DATE:20260927
DTEND;VALUE=DATE:20260928
DTSTAMP:20260424T130448
CREATED:20260204T172255Z
LAST-MODIFIED:20260204T172255Z
UID:10011314-1790467200-1790553599@theartsheet.org
SUMMARY:ACG 21st Annual Members' Show
DESCRIPTION:The “21st Annual Members’ Show” is on display now through Friday\, February 20\, 2026. It is free and open to the public; Tuesday – Saturday\, Noon – 5 p.m. Visit us at our new location and home 48 N Pearl St.
URL:https://theartsheet.org/event/acg-21st-annual-members-show/2026-09-27/
ATTACH;FMTTYPE=image/png:https://theartsheet.org/wp-content/uploads/2026/02/Screenshot-2026-02-04-at-12.22.13-PM.png
ORGANIZER;CN="Albany Center Gallery":MAILTO:info@albanycentergallery.org
END:VEVENT
BEGIN:VEVENT
DTSTART;VALUE=DATE:20260928
DTEND;VALUE=DATE:20260929
DTSTAMP:20260424T130448
CREATED:20260204T172255Z
LAST-MODIFIED:20260204T172255Z
UID:10011315-1790553600-1790639999@theartsheet.org
SUMMARY:ACG 21st Annual Members' Show
DESCRIPTION:The “21st Annual Members’ Show” is on display now through Friday\, February 20\, 2026. It is free and open to the public; Tuesday – Saturday\, Noon – 5 p.m. Visit us at our new location and home 48 N Pearl St.
URL:https://theartsheet.org/event/acg-21st-annual-members-show/2026-09-28/
ATTACH;FMTTYPE=image/png:https://theartsheet.org/wp-content/uploads/2026/02/Screenshot-2026-02-04-at-12.22.13-PM.png
ORGANIZER;CN="Albany Center Gallery":MAILTO:info@albanycentergallery.org
END:VEVENT
BEGIN:VEVENT
DTSTART;VALUE=DATE:20260929
DTEND;VALUE=DATE:20260930
DTSTAMP:20260424T130448
CREATED:20260204T172255Z
LAST-MODIFIED:20260204T172255Z
UID:10011316-1790640000-1790726399@theartsheet.org
SUMMARY:ACG 21st Annual Members' Show
DESCRIPTION:The “21st Annual Members’ Show” is on display now through Friday\, February 20\, 2026. It is free and open to the public; Tuesday – Saturday\, Noon – 5 p.m. Visit us at our new location and home 48 N Pearl St.
URL:https://theartsheet.org/event/acg-21st-annual-members-show/2026-09-29/
ATTACH;FMTTYPE=image/png:https://theartsheet.org/wp-content/uploads/2026/02/Screenshot-2026-02-04-at-12.22.13-PM.png
ORGANIZER;CN="Albany Center Gallery":MAILTO:info@albanycentergallery.org
END:VEVENT
BEGIN:VEVENT
DTSTART;VALUE=DATE:20260930
DTEND;VALUE=DATE:20261001
DTSTAMP:20260424T130448
CREATED:20260204T172255Z
LAST-MODIFIED:20260204T172255Z
UID:10011317-1790726400-1790812799@theartsheet.org
SUMMARY:ACG 21st Annual Members' Show
DESCRIPTION:The “21st Annual Members’ Show” is on display now through Friday\, February 20\, 2026. It is free and open to the public; Tuesday – Saturday\, Noon – 5 p.m. Visit us at our new location and home 48 N Pearl St.
URL:https://theartsheet.org/event/acg-21st-annual-members-show/2026-09-30/
ATTACH;FMTTYPE=image/png:https://theartsheet.org/wp-content/uploads/2026/02/Screenshot-2026-02-04-at-12.22.13-PM.png
ORGANIZER;CN="Albany Center Gallery":MAILTO:info@albanycentergallery.org
END:VEVENT
BEGIN:VEVENT
DTSTART;VALUE=DATE:20261001
DTEND;VALUE=DATE:20261002
DTSTAMP:20260424T130448
CREATED:20260204T172255Z
LAST-MODIFIED:20260204T172255Z
UID:10011318-1790812800-1790899199@theartsheet.org
SUMMARY:ACG 21st Annual Members' Show
DESCRIPTION:The “21st Annual Members’ Show” is on display now through Friday\, February 20\, 2026. It is free and open to the public; Tuesday – Saturday\, Noon – 5 p.m. Visit us at our new location and home 48 N Pearl St.
URL:https://theartsheet.org/event/acg-21st-annual-members-show/2026-10-01/
ATTACH;FMTTYPE=image/png:https://theartsheet.org/wp-content/uploads/2026/02/Screenshot-2026-02-04-at-12.22.13-PM.png
ORGANIZER;CN="Albany Center Gallery":MAILTO:info@albanycentergallery.org
END:VEVENT
BEGIN:VEVENT
DTSTART;VALUE=DATE:20261002
DTEND;VALUE=DATE:20261003
DTSTAMP:20260424T130448
CREATED:20260204T172255Z
LAST-MODIFIED:20260204T172255Z
UID:10011319-1790899200-1790985599@theartsheet.org
SUMMARY:ACG 21st Annual Members' Show
DESCRIPTION:The “21st Annual Members’ Show” is on display now through Friday\, February 20\, 2026. It is free and open to the public; Tuesday – Saturday\, Noon – 5 p.m. Visit us at our new location and home 48 N Pearl St.
URL:https://theartsheet.org/event/acg-21st-annual-members-show/2026-10-02/
ATTACH;FMTTYPE=image/png:https://theartsheet.org/wp-content/uploads/2026/02/Screenshot-2026-02-04-at-12.22.13-PM.png
ORGANIZER;CN="Albany Center Gallery":MAILTO:info@albanycentergallery.org
END:VEVENT
BEGIN:VEVENT
DTSTART;VALUE=DATE:20261003
DTEND;VALUE=DATE:20261004
DTSTAMP:20260424T130448
CREATED:20260204T172255Z
LAST-MODIFIED:20260204T172255Z
UID:10011320-1790985600-1791071999@theartsheet.org
SUMMARY:ACG 21st Annual Members' Show
DESCRIPTION:The “21st Annual Members’ Show” is on display now through Friday\, February 20\, 2026. It is free and open to the public; Tuesday – Saturday\, Noon – 5 p.m. Visit us at our new location and home 48 N Pearl St.
URL:https://theartsheet.org/event/acg-21st-annual-members-show/2026-10-03/
ATTACH;FMTTYPE=image/png:https://theartsheet.org/wp-content/uploads/2026/02/Screenshot-2026-02-04-at-12.22.13-PM.png
ORGANIZER;CN="Albany Center Gallery":MAILTO:info@albanycentergallery.org
END:VEVENT
BEGIN:VEVENT
DTSTART;VALUE=DATE:20261004
DTEND;VALUE=DATE:20261005
DTSTAMP:20260424T130448
CREATED:20260204T172255Z
LAST-MODIFIED:20260204T172255Z
UID:10011321-1791072000-1791158399@theartsheet.org
SUMMARY:ACG 21st Annual Members' Show
DESCRIPTION:The “21st Annual Members’ Show” is on display now through Friday\, February 20\, 2026. It is free and open to the public; Tuesday – Saturday\, Noon – 5 p.m. Visit us at our new location and home 48 N Pearl St.
URL:https://theartsheet.org/event/acg-21st-annual-members-show/2026-10-04/
ATTACH;FMTTYPE=image/png:https://theartsheet.org/wp-content/uploads/2026/02/Screenshot-2026-02-04-at-12.22.13-PM.png
ORGANIZER;CN="Albany Center Gallery":MAILTO:info@albanycentergallery.org
END:VEVENT
BEGIN:VEVENT
DTSTART;VALUE=DATE:20261005
DTEND;VALUE=DATE:20261006
DTSTAMP:20260424T130448
CREATED:20260204T172255Z
LAST-MODIFIED:20260204T172255Z
UID:10011322-1791158400-1791244799@theartsheet.org
SUMMARY:ACG 21st Annual Members' Show
DESCRIPTION:The “21st Annual Members’ Show” is on display now through Friday\, February 20\, 2026. It is free and open to the public; Tuesday – Saturday\, Noon – 5 p.m. Visit us at our new location and home 48 N Pearl St.
URL:https://theartsheet.org/event/acg-21st-annual-members-show/2026-10-05/
ATTACH;FMTTYPE=image/png:https://theartsheet.org/wp-content/uploads/2026/02/Screenshot-2026-02-04-at-12.22.13-PM.png
ORGANIZER;CN="Albany Center Gallery":MAILTO:info@albanycentergallery.org
END:VEVENT
BEGIN:VEVENT
DTSTART;VALUE=DATE:20261006
DTEND;VALUE=DATE:20261007
DTSTAMP:20260424T130448
CREATED:20260204T172255Z
LAST-MODIFIED:20260204T172255Z
UID:10011323-1791244800-1791331199@theartsheet.org
SUMMARY:ACG 21st Annual Members' Show
DESCRIPTION:The “21st Annual Members’ Show” is on display now through Friday\, February 20\, 2026. It is free and open to the public; Tuesday – Saturday\, Noon – 5 p.m. Visit us at our new location and home 48 N Pearl St.
URL:https://theartsheet.org/event/acg-21st-annual-members-show/2026-10-06/
ATTACH;FMTTYPE=image/png:https://theartsheet.org/wp-content/uploads/2026/02/Screenshot-2026-02-04-at-12.22.13-PM.png
ORGANIZER;CN="Albany Center Gallery":MAILTO:info@albanycentergallery.org
END:VEVENT
BEGIN:VEVENT
DTSTART;VALUE=DATE:20261007
DTEND;VALUE=DATE:20261008
DTSTAMP:20260424T130448
CREATED:20260204T172255Z
LAST-MODIFIED:20260204T172255Z
UID:10011324-1791331200-1791417599@theartsheet.org
SUMMARY:ACG 21st Annual Members' Show
DESCRIPTION:The “21st Annual Members’ Show” is on display now through Friday\, February 20\, 2026. It is free and open to the public; Tuesday – Saturday\, Noon – 5 p.m. Visit us at our new location and home 48 N Pearl St.
URL:https://theartsheet.org/event/acg-21st-annual-members-show/2026-10-07/
ATTACH;FMTTYPE=image/png:https://theartsheet.org/wp-content/uploads/2026/02/Screenshot-2026-02-04-at-12.22.13-PM.png
ORGANIZER;CN="Albany Center Gallery":MAILTO:info@albanycentergallery.org
END:VEVENT
BEGIN:VEVENT
DTSTART;VALUE=DATE:20261008
DTEND;VALUE=DATE:20261009
DTSTAMP:20260424T130448
CREATED:20260204T172255Z
LAST-MODIFIED:20260204T172255Z
UID:10011325-1791417600-1791503999@theartsheet.org
SUMMARY:ACG 21st Annual Members' Show
DESCRIPTION:The “21st Annual Members’ Show” is on display now through Friday\, February 20\, 2026. It is free and open to the public; Tuesday – Saturday\, Noon – 5 p.m. Visit us at our new location and home 48 N Pearl St.
URL:https://theartsheet.org/event/acg-21st-annual-members-show/2026-10-08/
ATTACH;FMTTYPE=image/png:https://theartsheet.org/wp-content/uploads/2026/02/Screenshot-2026-02-04-at-12.22.13-PM.png
ORGANIZER;CN="Albany Center Gallery":MAILTO:info@albanycentergallery.org
END:VEVENT
BEGIN:VEVENT
DTSTART;VALUE=DATE:20261009
DTEND;VALUE=DATE:20261010
DTSTAMP:20260424T130448
CREATED:20260204T172255Z
LAST-MODIFIED:20260204T172255Z
UID:10011326-1791504000-1791590399@theartsheet.org
SUMMARY:ACG 21st Annual Members' Show
DESCRIPTION:The “21st Annual Members’ Show” is on display now through Friday\, February 20\, 2026. It is free and open to the public; Tuesday – Saturday\, Noon – 5 p.m. Visit us at our new location and home 48 N Pearl St.
URL:https://theartsheet.org/event/acg-21st-annual-members-show/2026-10-09/
ATTACH;FMTTYPE=image/png:https://theartsheet.org/wp-content/uploads/2026/02/Screenshot-2026-02-04-at-12.22.13-PM.png
ORGANIZER;CN="Albany Center Gallery":MAILTO:info@albanycentergallery.org
END:VEVENT
BEGIN:VEVENT
DTSTART;VALUE=DATE:20261010
DTEND;VALUE=DATE:20261011
DTSTAMP:20260424T130448
CREATED:20260204T172255Z
LAST-MODIFIED:20260204T172255Z
UID:10011327-1791590400-1791676799@theartsheet.org
SUMMARY:ACG 21st Annual Members' Show
DESCRIPTION:The “21st Annual Members’ Show” is on display now through Friday\, February 20\, 2026. It is free and open to the public; Tuesday – Saturday\, Noon – 5 p.m. Visit us at our new location and home 48 N Pearl St.
URL:https://theartsheet.org/event/acg-21st-annual-members-show/2026-10-10/
ATTACH;FMTTYPE=image/png:https://theartsheet.org/wp-content/uploads/2026/02/Screenshot-2026-02-04-at-12.22.13-PM.png
ORGANIZER;CN="Albany Center Gallery":MAILTO:info@albanycentergallery.org
END:VEVENT
BEGIN:VEVENT
DTSTART;VALUE=DATE:20261011
DTEND;VALUE=DATE:20261012
DTSTAMP:20260424T130448
CREATED:20260204T172255Z
LAST-MODIFIED:20260204T172255Z
UID:10011328-1791676800-1791763199@theartsheet.org
SUMMARY:ACG 21st Annual Members' Show
DESCRIPTION:The “21st Annual Members’ Show” is on display now through Friday\, February 20\, 2026. It is free and open to the public; Tuesday – Saturday\, Noon – 5 p.m. Visit us at our new location and home 48 N Pearl St.
URL:https://theartsheet.org/event/acg-21st-annual-members-show/2026-10-11/
ATTACH;FMTTYPE=image/png:https://theartsheet.org/wp-content/uploads/2026/02/Screenshot-2026-02-04-at-12.22.13-PM.png
ORGANIZER;CN="Albany Center Gallery":MAILTO:info@albanycentergallery.org
END:VEVENT
BEGIN:VEVENT
DTSTART;VALUE=DATE:20261012
DTEND;VALUE=DATE:20261013
DTSTAMP:20260424T130448
CREATED:20260204T172255Z
LAST-MODIFIED:20260204T172255Z
UID:10011329-1791763200-1791849599@theartsheet.org
SUMMARY:ACG 21st Annual Members' Show
DESCRIPTION:The “21st Annual Members’ Show” is on display now through Friday\, February 20\, 2026. It is free and open to the public; Tuesday – Saturday\, Noon – 5 p.m. Visit us at our new location and home 48 N Pearl St.
URL:https://theartsheet.org/event/acg-21st-annual-members-show/2026-10-12/
ATTACH;FMTTYPE=image/png:https://theartsheet.org/wp-content/uploads/2026/02/Screenshot-2026-02-04-at-12.22.13-PM.png
ORGANIZER;CN="Albany Center Gallery":MAILTO:info@albanycentergallery.org
END:VEVENT
BEGIN:VEVENT
DTSTART;VALUE=DATE:20261013
DTEND;VALUE=DATE:20261014
DTSTAMP:20260424T130448
CREATED:20260204T172255Z
LAST-MODIFIED:20260204T172255Z
UID:10011330-1791849600-1791935999@theartsheet.org
SUMMARY:ACG 21st Annual Members' Show
DESCRIPTION:The “21st Annual Members’ Show” is on display now through Friday\, February 20\, 2026. It is free and open to the public; Tuesday – Saturday\, Noon – 5 p.m. Visit us at our new location and home 48 N Pearl St.
URL:https://theartsheet.org/event/acg-21st-annual-members-show/2026-10-13/
ATTACH;FMTTYPE=image/png:https://theartsheet.org/wp-content/uploads/2026/02/Screenshot-2026-02-04-at-12.22.13-PM.png
ORGANIZER;CN="Albany Center Gallery":MAILTO:info@albanycentergallery.org
END:VEVENT
BEGIN:VEVENT
DTSTART;VALUE=DATE:20261014
DTEND;VALUE=DATE:20261015
DTSTAMP:20260424T130448
CREATED:20260204T172255Z
LAST-MODIFIED:20260204T172255Z
UID:10011331-1791936000-1792022399@theartsheet.org
SUMMARY:ACG 21st Annual Members' Show
DESCRIPTION:The “21st Annual Members’ Show” is on display now through Friday\, February 20\, 2026. It is free and open to the public; Tuesday – Saturday\, Noon – 5 p.m. Visit us at our new location and home 48 N Pearl St.
URL:https://theartsheet.org/event/acg-21st-annual-members-show/2026-10-14/
ATTACH;FMTTYPE=image/png:https://theartsheet.org/wp-content/uploads/2026/02/Screenshot-2026-02-04-at-12.22.13-PM.png
ORGANIZER;CN="Albany Center Gallery":MAILTO:info@albanycentergallery.org
END:VEVENT
BEGIN:VEVENT
DTSTART;VALUE=DATE:20261015
DTEND;VALUE=DATE:20261016
DTSTAMP:20260424T130448
CREATED:20260204T172255Z
LAST-MODIFIED:20260204T172255Z
UID:10011332-1792022400-1792108799@theartsheet.org
SUMMARY:ACG 21st Annual Members' Show
DESCRIPTION:The “21st Annual Members’ Show” is on display now through Friday\, February 20\, 2026. It is free and open to the public; Tuesday – Saturday\, Noon – 5 p.m. Visit us at our new location and home 48 N Pearl St.
URL:https://theartsheet.org/event/acg-21st-annual-members-show/2026-10-15/
ATTACH;FMTTYPE=image/png:https://theartsheet.org/wp-content/uploads/2026/02/Screenshot-2026-02-04-at-12.22.13-PM.png
ORGANIZER;CN="Albany Center Gallery":MAILTO:info@albanycentergallery.org
END:VEVENT
BEGIN:VEVENT
DTSTART;VALUE=DATE:20261016
DTEND;VALUE=DATE:20261017
DTSTAMP:20260424T130448
CREATED:20260204T172255Z
LAST-MODIFIED:20260204T172255Z
UID:10011333-1792108800-1792195199@theartsheet.org
SUMMARY:ACG 21st Annual Members' Show
DESCRIPTION:The “21st Annual Members’ Show” is on display now through Friday\, February 20\, 2026. It is free and open to the public; Tuesday – Saturday\, Noon – 5 p.m. Visit us at our new location and home 48 N Pearl St.
URL:https://theartsheet.org/event/acg-21st-annual-members-show/2026-10-16/
ATTACH;FMTTYPE=image/png:https://theartsheet.org/wp-content/uploads/2026/02/Screenshot-2026-02-04-at-12.22.13-PM.png
ORGANIZER;CN="Albany Center Gallery":MAILTO:info@albanycentergallery.org
END:VEVENT
BEGIN:VEVENT
DTSTART;VALUE=DATE:20261017
DTEND;VALUE=DATE:20261018
DTSTAMP:20260424T130448
CREATED:20260204T172255Z
LAST-MODIFIED:20260204T172255Z
UID:10011334-1792195200-1792281599@theartsheet.org
SUMMARY:ACG 21st Annual Members' Show
DESCRIPTION:The “21st Annual Members’ Show” is on display now through Friday\, February 20\, 2026. It is free and open to the public; Tuesday – Saturday\, Noon – 5 p.m. Visit us at our new location and home 48 N Pearl St.
URL:https://theartsheet.org/event/acg-21st-annual-members-show/2026-10-17/
ATTACH;FMTTYPE=image/png:https://theartsheet.org/wp-content/uploads/2026/02/Screenshot-2026-02-04-at-12.22.13-PM.png
ORGANIZER;CN="Albany Center Gallery":MAILTO:info@albanycentergallery.org
END:VEVENT
BEGIN:VEVENT
DTSTART;VALUE=DATE:20261018
DTEND;VALUE=DATE:20261019
DTSTAMP:20260424T130448
CREATED:20260204T172255Z
LAST-MODIFIED:20260204T172255Z
UID:10011335-1792281600-1792367999@theartsheet.org
SUMMARY:ACG 21st Annual Members' Show
DESCRIPTION:The “21st Annual Members’ Show” is on display now through Friday\, February 20\, 2026. It is free and open to the public; Tuesday – Saturday\, Noon – 5 p.m. Visit us at our new location and home 48 N Pearl St.
URL:https://theartsheet.org/event/acg-21st-annual-members-show/2026-10-18/
ATTACH;FMTTYPE=image/png:https://theartsheet.org/wp-content/uploads/2026/02/Screenshot-2026-02-04-at-12.22.13-PM.png
ORGANIZER;CN="Albany Center Gallery":MAILTO:info@albanycentergallery.org
END:VEVENT
BEGIN:VEVENT
DTSTART;VALUE=DATE:20261019
DTEND;VALUE=DATE:20261020
DTSTAMP:20260424T130448
CREATED:20260204T172255Z
LAST-MODIFIED:20260204T172255Z
UID:10011336-1792368000-1792454399@theartsheet.org
SUMMARY:ACG 21st Annual Members' Show
DESCRIPTION:The “21st Annual Members’ Show” is on display now through Friday\, February 20\, 2026. It is free and open to the public; Tuesday – Saturday\, Noon – 5 p.m. Visit us at our new location and home 48 N Pearl St.
URL:https://theartsheet.org/event/acg-21st-annual-members-show/2026-10-19/
ATTACH;FMTTYPE=image/png:https://theartsheet.org/wp-content/uploads/2026/02/Screenshot-2026-02-04-at-12.22.13-PM.png
ORGANIZER;CN="Albany Center Gallery":MAILTO:info@albanycentergallery.org
END:VEVENT
BEGIN:VEVENT
DTSTART;VALUE=DATE:20261020
DTEND;VALUE=DATE:20261021
DTSTAMP:20260424T130448
CREATED:20260204T172255Z
LAST-MODIFIED:20260204T172255Z
UID:10011337-1792454400-1792540799@theartsheet.org
SUMMARY:ACG 21st Annual Members' Show
DESCRIPTION:The “21st Annual Members’ Show” is on display now through Friday\, February 20\, 2026. It is free and open to the public; Tuesday – Saturday\, Noon – 5 p.m. Visit us at our new location and home 48 N Pearl St.
URL:https://theartsheet.org/event/acg-21st-annual-members-show/2026-10-20/
ATTACH;FMTTYPE=image/png:https://theartsheet.org/wp-content/uploads/2026/02/Screenshot-2026-02-04-at-12.22.13-PM.png
ORGANIZER;CN="Albany Center Gallery":MAILTO:info@albanycentergallery.org
END:VEVENT
END:VCALENDAR