BEGIN:VCALENDAR
VERSION:2.0
PRODID:-// - ECPv6.15.20//NONSGML v1.0//EN
CALSCALE:GREGORIAN
METHOD:PUBLISH
X-ORIGINAL-URL:https://theartsheet.org
X-WR-CALDESC:Events for 
REFRESH-INTERVAL;VALUE=DURATION:PT1H
X-Robots-Tag:noindex
X-PUBLISHED-TTL:PT1H
BEGIN:VTIMEZONE
TZID:America/New_York
BEGIN:DAYLIGHT
TZOFFSETFROM:-0500
TZOFFSETTO:-0400
TZNAME:EDT
DTSTART:20250309T070000
END:DAYLIGHT
BEGIN:STANDARD
TZOFFSETFROM:-0400
TZOFFSETTO:-0500
TZNAME:EST
DTSTART:20251102T060000
END:STANDARD
BEGIN:DAYLIGHT
TZOFFSETFROM:-0500
TZOFFSETTO:-0400
TZNAME:EDT
DTSTART:20260308T070000
END:DAYLIGHT
BEGIN:STANDARD
TZOFFSETFROM:-0400
TZOFFSETTO:-0500
TZNAME:EST
DTSTART:20261101T060000
END:STANDARD
BEGIN:DAYLIGHT
TZOFFSETFROM:-0500
TZOFFSETTO:-0400
TZNAME:EDT
DTSTART:20270314T070000
END:DAYLIGHT
BEGIN:STANDARD
TZOFFSETFROM:-0400
TZOFFSETTO:-0500
TZNAME:EST
DTSTART:20271107T060000
END:STANDARD
END:VTIMEZONE
BEGIN:VEVENT
DTSTART;TZID=America/New_York:20260513T120000
DTEND;TZID=America/New_York:20260513T170000
DTSTAMP:20260423T135646
CREATED:20260411T155942Z
LAST-MODIFIED:20260411T155942Z
UID:10015173-1778673600-1778691600@theartsheet.org
SUMMARY:Visual Arts BFA Exhibit
DESCRIPTION:April 29—May 16 Visual Arts BFA Exhibit \nThe Annual BFA Exhibition showcases student work from the Russell Sage College’s Visual Arts BFA programs in Art+Extended Media\, Graphic+Media Design and Interior+Spatial Design. Special gallery hours: Tues. through Sat. Noon to 5pm
URL:https://theartsheet.org/event/visual-arts-bfa-exhibit/2026-05-13/
LOCATION:Opalka Gallery\, The Sage Colleges\, 140 New Scotland Ave.\, Albany\, NY\, 12208\, United States
ATTACH;FMTTYPE=image/png:https://theartsheet.org/wp-content/uploads/2026/02/BFA2025.png
ORGANIZER;CN="opalka gallery":MAILTO:opalka@sage.edu
END:VEVENT
BEGIN:VEVENT
DTSTART;TZID=America/New_York:20260514T120000
DTEND;TZID=America/New_York:20260514T170000
DTSTAMP:20260423T135646
CREATED:20260411T155942Z
LAST-MODIFIED:20260411T155942Z
UID:10015174-1778760000-1778778000@theartsheet.org
SUMMARY:Visual Arts BFA Exhibit
DESCRIPTION:April 29—May 16 Visual Arts BFA Exhibit \nThe Annual BFA Exhibition showcases student work from the Russell Sage College’s Visual Arts BFA programs in Art+Extended Media\, Graphic+Media Design and Interior+Spatial Design. Special gallery hours: Tues. through Sat. Noon to 5pm
URL:https://theartsheet.org/event/visual-arts-bfa-exhibit/2026-05-14/
LOCATION:Opalka Gallery\, The Sage Colleges\, 140 New Scotland Ave.\, Albany\, NY\, 12208\, United States
ATTACH;FMTTYPE=image/png:https://theartsheet.org/wp-content/uploads/2026/02/BFA2025.png
ORGANIZER;CN="opalka gallery":MAILTO:opalka@sage.edu
END:VEVENT
BEGIN:VEVENT
DTSTART;TZID=America/New_York:20260515T120000
DTEND;TZID=America/New_York:20260515T170000
DTSTAMP:20260423T135646
CREATED:20260411T155942Z
LAST-MODIFIED:20260411T155942Z
UID:10015175-1778846400-1778864400@theartsheet.org
SUMMARY:Visual Arts BFA Exhibit
DESCRIPTION:April 29—May 16 Visual Arts BFA Exhibit \nThe Annual BFA Exhibition showcases student work from the Russell Sage College’s Visual Arts BFA programs in Art+Extended Media\, Graphic+Media Design and Interior+Spatial Design. Special gallery hours: Tues. through Sat. Noon to 5pm
URL:https://theartsheet.org/event/visual-arts-bfa-exhibit/2026-05-15/
LOCATION:Opalka Gallery\, The Sage Colleges\, 140 New Scotland Ave.\, Albany\, NY\, 12208\, United States
ATTACH;FMTTYPE=image/png:https://theartsheet.org/wp-content/uploads/2026/02/BFA2025.png
ORGANIZER;CN="opalka gallery":MAILTO:opalka@sage.edu
END:VEVENT
BEGIN:VEVENT
DTSTART;TZID=America/New_York:20260516T120000
DTEND;TZID=America/New_York:20260516T170000
DTSTAMP:20260423T135646
CREATED:20260411T155942Z
LAST-MODIFIED:20260411T155942Z
UID:10015176-1778932800-1778950800@theartsheet.org
SUMMARY:Visual Arts BFA Exhibit
DESCRIPTION:April 29—May 16 Visual Arts BFA Exhibit \nThe Annual BFA Exhibition showcases student work from the Russell Sage College’s Visual Arts BFA programs in Art+Extended Media\, Graphic+Media Design and Interior+Spatial Design. Special gallery hours: Tues. through Sat. Noon to 5pm
URL:https://theartsheet.org/event/visual-arts-bfa-exhibit/2026-05-16/
LOCATION:Opalka Gallery\, The Sage Colleges\, 140 New Scotland Ave.\, Albany\, NY\, 12208\, United States
ATTACH;FMTTYPE=image/png:https://theartsheet.org/wp-content/uploads/2026/02/BFA2025.png
ORGANIZER;CN="opalka gallery":MAILTO:opalka@sage.edu
END:VEVENT
END:VCALENDAR