BEGIN:VCALENDAR
VERSION:2.0
PRODID:-// - ECPv6.15.20//NONSGML v1.0//EN
CALSCALE:GREGORIAN
METHOD:PUBLISH
X-ORIGINAL-URL:https://theartsheet.org
X-WR-CALDESC:Events for 
REFRESH-INTERVAL;VALUE=DURATION:PT1H
X-Robots-Tag:noindex
X-PUBLISHED-TTL:PT1H
BEGIN:VTIMEZONE
TZID:America/New_York
BEGIN:DAYLIGHT
TZOFFSETFROM:-0500
TZOFFSETTO:-0400
TZNAME:EDT
DTSTART:20250309T070000
END:DAYLIGHT
BEGIN:STANDARD
TZOFFSETFROM:-0400
TZOFFSETTO:-0500
TZNAME:EST
DTSTART:20251102T060000
END:STANDARD
BEGIN:DAYLIGHT
TZOFFSETFROM:-0500
TZOFFSETTO:-0400
TZNAME:EDT
DTSTART:20260308T070000
END:DAYLIGHT
BEGIN:STANDARD
TZOFFSETFROM:-0400
TZOFFSETTO:-0500
TZNAME:EST
DTSTART:20261101T060000
END:STANDARD
BEGIN:DAYLIGHT
TZOFFSETFROM:-0500
TZOFFSETTO:-0400
TZNAME:EDT
DTSTART:20270314T070000
END:DAYLIGHT
BEGIN:STANDARD
TZOFFSETFROM:-0400
TZOFFSETTO:-0500
TZNAME:EST
DTSTART:20271107T060000
END:STANDARD
END:VTIMEZONE
BEGIN:VEVENT
DTSTART;VALUE=DATE:20260612
DTEND;VALUE=DATE:20260613
DTSTAMP:20260423T200913
CREATED:20260204T172255Z
LAST-MODIFIED:20260204T172255Z
UID:10011207-1781222400-1781308799@theartsheet.org
SUMMARY:ACG 21st Annual Members' Show
DESCRIPTION:The “21st Annual Members’ Show” is on display now through Friday\, February 20\, 2026. It is free and open to the public; Tuesday – Saturday\, Noon – 5 p.m. Visit us at our new location and home 48 N Pearl St.
URL:https://theartsheet.org/event/acg-21st-annual-members-show/2026-06-12/
ATTACH;FMTTYPE=image/png:https://theartsheet.org/wp-content/uploads/2026/02/Screenshot-2026-02-04-at-12.22.13-PM.png
ORGANIZER;CN="Albany Center Gallery":MAILTO:info@albanycentergallery.org
END:VEVENT
BEGIN:VEVENT
DTSTART;VALUE=DATE:20260613
DTEND;VALUE=DATE:20260614
DTSTAMP:20260423T200913
CREATED:20260204T172255Z
LAST-MODIFIED:20260204T172255Z
UID:10011208-1781308800-1781395199@theartsheet.org
SUMMARY:ACG 21st Annual Members' Show
DESCRIPTION:The “21st Annual Members’ Show” is on display now through Friday\, February 20\, 2026. It is free and open to the public; Tuesday – Saturday\, Noon – 5 p.m. Visit us at our new location and home 48 N Pearl St.
URL:https://theartsheet.org/event/acg-21st-annual-members-show/2026-06-13/
ATTACH;FMTTYPE=image/png:https://theartsheet.org/wp-content/uploads/2026/02/Screenshot-2026-02-04-at-12.22.13-PM.png
ORGANIZER;CN="Albany Center Gallery":MAILTO:info@albanycentergallery.org
END:VEVENT
BEGIN:VEVENT
DTSTART;VALUE=DATE:20260614
DTEND;VALUE=DATE:20260615
DTSTAMP:20260423T200913
CREATED:20260204T172255Z
LAST-MODIFIED:20260204T172255Z
UID:10011209-1781395200-1781481599@theartsheet.org
SUMMARY:ACG 21st Annual Members' Show
DESCRIPTION:The “21st Annual Members’ Show” is on display now through Friday\, February 20\, 2026. It is free and open to the public; Tuesday – Saturday\, Noon – 5 p.m. Visit us at our new location and home 48 N Pearl St.
URL:https://theartsheet.org/event/acg-21st-annual-members-show/2026-06-14/
ATTACH;FMTTYPE=image/png:https://theartsheet.org/wp-content/uploads/2026/02/Screenshot-2026-02-04-at-12.22.13-PM.png
ORGANIZER;CN="Albany Center Gallery":MAILTO:info@albanycentergallery.org
END:VEVENT
BEGIN:VEVENT
DTSTART;VALUE=DATE:20260615
DTEND;VALUE=DATE:20260616
DTSTAMP:20260423T200913
CREATED:20260204T172255Z
LAST-MODIFIED:20260204T172255Z
UID:10011210-1781481600-1781567999@theartsheet.org
SUMMARY:ACG 21st Annual Members' Show
DESCRIPTION:The “21st Annual Members’ Show” is on display now through Friday\, February 20\, 2026. It is free and open to the public; Tuesday – Saturday\, Noon – 5 p.m. Visit us at our new location and home 48 N Pearl St.
URL:https://theartsheet.org/event/acg-21st-annual-members-show/2026-06-15/
ATTACH;FMTTYPE=image/png:https://theartsheet.org/wp-content/uploads/2026/02/Screenshot-2026-02-04-at-12.22.13-PM.png
ORGANIZER;CN="Albany Center Gallery":MAILTO:info@albanycentergallery.org
END:VEVENT
BEGIN:VEVENT
DTSTART;VALUE=DATE:20260616
DTEND;VALUE=DATE:20260617
DTSTAMP:20260423T200913
CREATED:20260204T172255Z
LAST-MODIFIED:20260204T172255Z
UID:10011211-1781568000-1781654399@theartsheet.org
SUMMARY:ACG 21st Annual Members' Show
DESCRIPTION:The “21st Annual Members’ Show” is on display now through Friday\, February 20\, 2026. It is free and open to the public; Tuesday – Saturday\, Noon – 5 p.m. Visit us at our new location and home 48 N Pearl St.
URL:https://theartsheet.org/event/acg-21st-annual-members-show/2026-06-16/
ATTACH;FMTTYPE=image/png:https://theartsheet.org/wp-content/uploads/2026/02/Screenshot-2026-02-04-at-12.22.13-PM.png
ORGANIZER;CN="Albany Center Gallery":MAILTO:info@albanycentergallery.org
END:VEVENT
BEGIN:VEVENT
DTSTART;VALUE=DATE:20260617
DTEND;VALUE=DATE:20260618
DTSTAMP:20260423T200913
CREATED:20260204T172255Z
LAST-MODIFIED:20260204T172255Z
UID:10011212-1781654400-1781740799@theartsheet.org
SUMMARY:ACG 21st Annual Members' Show
DESCRIPTION:The “21st Annual Members’ Show” is on display now through Friday\, February 20\, 2026. It is free and open to the public; Tuesday – Saturday\, Noon – 5 p.m. Visit us at our new location and home 48 N Pearl St.
URL:https://theartsheet.org/event/acg-21st-annual-members-show/2026-06-17/
ATTACH;FMTTYPE=image/png:https://theartsheet.org/wp-content/uploads/2026/02/Screenshot-2026-02-04-at-12.22.13-PM.png
ORGANIZER;CN="Albany Center Gallery":MAILTO:info@albanycentergallery.org
END:VEVENT
BEGIN:VEVENT
DTSTART;VALUE=DATE:20260618
DTEND;VALUE=DATE:20260619
DTSTAMP:20260423T200913
CREATED:20260204T172255Z
LAST-MODIFIED:20260204T172255Z
UID:10011213-1781740800-1781827199@theartsheet.org
SUMMARY:ACG 21st Annual Members' Show
DESCRIPTION:The “21st Annual Members’ Show” is on display now through Friday\, February 20\, 2026. It is free and open to the public; Tuesday – Saturday\, Noon – 5 p.m. Visit us at our new location and home 48 N Pearl St.
URL:https://theartsheet.org/event/acg-21st-annual-members-show/2026-06-18/
ATTACH;FMTTYPE=image/png:https://theartsheet.org/wp-content/uploads/2026/02/Screenshot-2026-02-04-at-12.22.13-PM.png
ORGANIZER;CN="Albany Center Gallery":MAILTO:info@albanycentergallery.org
END:VEVENT
BEGIN:VEVENT
DTSTART;VALUE=DATE:20260619
DTEND;VALUE=DATE:20260620
DTSTAMP:20260423T200913
CREATED:20260204T172255Z
LAST-MODIFIED:20260204T172255Z
UID:10011214-1781827200-1781913599@theartsheet.org
SUMMARY:ACG 21st Annual Members' Show
DESCRIPTION:The “21st Annual Members’ Show” is on display now through Friday\, February 20\, 2026. It is free and open to the public; Tuesday – Saturday\, Noon – 5 p.m. Visit us at our new location and home 48 N Pearl St.
URL:https://theartsheet.org/event/acg-21st-annual-members-show/2026-06-19/
ATTACH;FMTTYPE=image/png:https://theartsheet.org/wp-content/uploads/2026/02/Screenshot-2026-02-04-at-12.22.13-PM.png
ORGANIZER;CN="Albany Center Gallery":MAILTO:info@albanycentergallery.org
END:VEVENT
BEGIN:VEVENT
DTSTART;VALUE=DATE:20260620
DTEND;VALUE=DATE:20260621
DTSTAMP:20260423T200913
CREATED:20260204T172255Z
LAST-MODIFIED:20260204T172255Z
UID:10011215-1781913600-1781999999@theartsheet.org
SUMMARY:ACG 21st Annual Members' Show
DESCRIPTION:The “21st Annual Members’ Show” is on display now through Friday\, February 20\, 2026. It is free and open to the public; Tuesday – Saturday\, Noon – 5 p.m. Visit us at our new location and home 48 N Pearl St.
URL:https://theartsheet.org/event/acg-21st-annual-members-show/2026-06-20/
ATTACH;FMTTYPE=image/png:https://theartsheet.org/wp-content/uploads/2026/02/Screenshot-2026-02-04-at-12.22.13-PM.png
ORGANIZER;CN="Albany Center Gallery":MAILTO:info@albanycentergallery.org
END:VEVENT
BEGIN:VEVENT
DTSTART;VALUE=DATE:20260621
DTEND;VALUE=DATE:20260622
DTSTAMP:20260423T200913
CREATED:20260204T172255Z
LAST-MODIFIED:20260204T172255Z
UID:10011216-1782000000-1782086399@theartsheet.org
SUMMARY:ACG 21st Annual Members' Show
DESCRIPTION:The “21st Annual Members’ Show” is on display now through Friday\, February 20\, 2026. It is free and open to the public; Tuesday – Saturday\, Noon – 5 p.m. Visit us at our new location and home 48 N Pearl St.
URL:https://theartsheet.org/event/acg-21st-annual-members-show/2026-06-21/
ATTACH;FMTTYPE=image/png:https://theartsheet.org/wp-content/uploads/2026/02/Screenshot-2026-02-04-at-12.22.13-PM.png
ORGANIZER;CN="Albany Center Gallery":MAILTO:info@albanycentergallery.org
END:VEVENT
BEGIN:VEVENT
DTSTART;VALUE=DATE:20260622
DTEND;VALUE=DATE:20260623
DTSTAMP:20260423T200913
CREATED:20260204T172255Z
LAST-MODIFIED:20260204T172255Z
UID:10011217-1782086400-1782172799@theartsheet.org
SUMMARY:ACG 21st Annual Members' Show
DESCRIPTION:The “21st Annual Members’ Show” is on display now through Friday\, February 20\, 2026. It is free and open to the public; Tuesday – Saturday\, Noon – 5 p.m. Visit us at our new location and home 48 N Pearl St.
URL:https://theartsheet.org/event/acg-21st-annual-members-show/2026-06-22/
ATTACH;FMTTYPE=image/png:https://theartsheet.org/wp-content/uploads/2026/02/Screenshot-2026-02-04-at-12.22.13-PM.png
ORGANIZER;CN="Albany Center Gallery":MAILTO:info@albanycentergallery.org
END:VEVENT
BEGIN:VEVENT
DTSTART;VALUE=DATE:20260623
DTEND;VALUE=DATE:20260624
DTSTAMP:20260423T200913
CREATED:20260204T172255Z
LAST-MODIFIED:20260204T172255Z
UID:10011218-1782172800-1782259199@theartsheet.org
SUMMARY:ACG 21st Annual Members' Show
DESCRIPTION:The “21st Annual Members’ Show” is on display now through Friday\, February 20\, 2026. It is free and open to the public; Tuesday – Saturday\, Noon – 5 p.m. Visit us at our new location and home 48 N Pearl St.
URL:https://theartsheet.org/event/acg-21st-annual-members-show/2026-06-23/
ATTACH;FMTTYPE=image/png:https://theartsheet.org/wp-content/uploads/2026/02/Screenshot-2026-02-04-at-12.22.13-PM.png
ORGANIZER;CN="Albany Center Gallery":MAILTO:info@albanycentergallery.org
END:VEVENT
BEGIN:VEVENT
DTSTART;VALUE=DATE:20260624
DTEND;VALUE=DATE:20260625
DTSTAMP:20260423T200913
CREATED:20260204T172255Z
LAST-MODIFIED:20260204T172255Z
UID:10011219-1782259200-1782345599@theartsheet.org
SUMMARY:ACG 21st Annual Members' Show
DESCRIPTION:The “21st Annual Members’ Show” is on display now through Friday\, February 20\, 2026. It is free and open to the public; Tuesday – Saturday\, Noon – 5 p.m. Visit us at our new location and home 48 N Pearl St.
URL:https://theartsheet.org/event/acg-21st-annual-members-show/2026-06-24/
ATTACH;FMTTYPE=image/png:https://theartsheet.org/wp-content/uploads/2026/02/Screenshot-2026-02-04-at-12.22.13-PM.png
ORGANIZER;CN="Albany Center Gallery":MAILTO:info@albanycentergallery.org
END:VEVENT
BEGIN:VEVENT
DTSTART;VALUE=DATE:20260625
DTEND;VALUE=DATE:20260626
DTSTAMP:20260423T200913
CREATED:20260204T172255Z
LAST-MODIFIED:20260204T172255Z
UID:10011220-1782345600-1782431999@theartsheet.org
SUMMARY:ACG 21st Annual Members' Show
DESCRIPTION:The “21st Annual Members’ Show” is on display now through Friday\, February 20\, 2026. It is free and open to the public; Tuesday – Saturday\, Noon – 5 p.m. Visit us at our new location and home 48 N Pearl St.
URL:https://theartsheet.org/event/acg-21st-annual-members-show/2026-06-25/
ATTACH;FMTTYPE=image/png:https://theartsheet.org/wp-content/uploads/2026/02/Screenshot-2026-02-04-at-12.22.13-PM.png
ORGANIZER;CN="Albany Center Gallery":MAILTO:info@albanycentergallery.org
END:VEVENT
BEGIN:VEVENT
DTSTART;VALUE=DATE:20260626
DTEND;VALUE=DATE:20260627
DTSTAMP:20260423T200913
CREATED:20260204T172255Z
LAST-MODIFIED:20260204T172255Z
UID:10011221-1782432000-1782518399@theartsheet.org
SUMMARY:ACG 21st Annual Members' Show
DESCRIPTION:The “21st Annual Members’ Show” is on display now through Friday\, February 20\, 2026. It is free and open to the public; Tuesday – Saturday\, Noon – 5 p.m. Visit us at our new location and home 48 N Pearl St.
URL:https://theartsheet.org/event/acg-21st-annual-members-show/2026-06-26/
ATTACH;FMTTYPE=image/png:https://theartsheet.org/wp-content/uploads/2026/02/Screenshot-2026-02-04-at-12.22.13-PM.png
ORGANIZER;CN="Albany Center Gallery":MAILTO:info@albanycentergallery.org
END:VEVENT
BEGIN:VEVENT
DTSTART;VALUE=DATE:20260627
DTEND;VALUE=DATE:20260628
DTSTAMP:20260423T200913
CREATED:20260204T172255Z
LAST-MODIFIED:20260204T172255Z
UID:10011222-1782518400-1782604799@theartsheet.org
SUMMARY:ACG 21st Annual Members' Show
DESCRIPTION:The “21st Annual Members’ Show” is on display now through Friday\, February 20\, 2026. It is free and open to the public; Tuesday – Saturday\, Noon – 5 p.m. Visit us at our new location and home 48 N Pearl St.
URL:https://theartsheet.org/event/acg-21st-annual-members-show/2026-06-27/
ATTACH;FMTTYPE=image/png:https://theartsheet.org/wp-content/uploads/2026/02/Screenshot-2026-02-04-at-12.22.13-PM.png
ORGANIZER;CN="Albany Center Gallery":MAILTO:info@albanycentergallery.org
END:VEVENT
BEGIN:VEVENT
DTSTART;VALUE=DATE:20260628
DTEND;VALUE=DATE:20260629
DTSTAMP:20260423T200913
CREATED:20260204T172255Z
LAST-MODIFIED:20260204T172255Z
UID:10011223-1782604800-1782691199@theartsheet.org
SUMMARY:ACG 21st Annual Members' Show
DESCRIPTION:The “21st Annual Members’ Show” is on display now through Friday\, February 20\, 2026. It is free and open to the public; Tuesday – Saturday\, Noon – 5 p.m. Visit us at our new location and home 48 N Pearl St.
URL:https://theartsheet.org/event/acg-21st-annual-members-show/2026-06-28/
ATTACH;FMTTYPE=image/png:https://theartsheet.org/wp-content/uploads/2026/02/Screenshot-2026-02-04-at-12.22.13-PM.png
ORGANIZER;CN="Albany Center Gallery":MAILTO:info@albanycentergallery.org
END:VEVENT
BEGIN:VEVENT
DTSTART;VALUE=DATE:20260629
DTEND;VALUE=DATE:20260630
DTSTAMP:20260423T200913
CREATED:20260204T172255Z
LAST-MODIFIED:20260204T172255Z
UID:10011224-1782691200-1782777599@theartsheet.org
SUMMARY:ACG 21st Annual Members' Show
DESCRIPTION:The “21st Annual Members’ Show” is on display now through Friday\, February 20\, 2026. It is free and open to the public; Tuesday – Saturday\, Noon – 5 p.m. Visit us at our new location and home 48 N Pearl St.
URL:https://theartsheet.org/event/acg-21st-annual-members-show/2026-06-29/
ATTACH;FMTTYPE=image/png:https://theartsheet.org/wp-content/uploads/2026/02/Screenshot-2026-02-04-at-12.22.13-PM.png
ORGANIZER;CN="Albany Center Gallery":MAILTO:info@albanycentergallery.org
END:VEVENT
BEGIN:VEVENT
DTSTART;VALUE=DATE:20260630
DTEND;VALUE=DATE:20260701
DTSTAMP:20260423T200913
CREATED:20260204T172255Z
LAST-MODIFIED:20260204T172255Z
UID:10011225-1782777600-1782863999@theartsheet.org
SUMMARY:ACG 21st Annual Members' Show
DESCRIPTION:The “21st Annual Members’ Show” is on display now through Friday\, February 20\, 2026. It is free and open to the public; Tuesday – Saturday\, Noon – 5 p.m. Visit us at our new location and home 48 N Pearl St.
URL:https://theartsheet.org/event/acg-21st-annual-members-show/2026-06-30/
ATTACH;FMTTYPE=image/png:https://theartsheet.org/wp-content/uploads/2026/02/Screenshot-2026-02-04-at-12.22.13-PM.png
ORGANIZER;CN="Albany Center Gallery":MAILTO:info@albanycentergallery.org
END:VEVENT
BEGIN:VEVENT
DTSTART;VALUE=DATE:20260701
DTEND;VALUE=DATE:20260702
DTSTAMP:20260423T200913
CREATED:20260204T172255Z
LAST-MODIFIED:20260204T172255Z
UID:10011226-1782864000-1782950399@theartsheet.org
SUMMARY:ACG 21st Annual Members' Show
DESCRIPTION:The “21st Annual Members’ Show” is on display now through Friday\, February 20\, 2026. It is free and open to the public; Tuesday – Saturday\, Noon – 5 p.m. Visit us at our new location and home 48 N Pearl St.
URL:https://theartsheet.org/event/acg-21st-annual-members-show/2026-07-01/
ATTACH;FMTTYPE=image/png:https://theartsheet.org/wp-content/uploads/2026/02/Screenshot-2026-02-04-at-12.22.13-PM.png
ORGANIZER;CN="Albany Center Gallery":MAILTO:info@albanycentergallery.org
END:VEVENT
BEGIN:VEVENT
DTSTART;VALUE=DATE:20260702
DTEND;VALUE=DATE:20260703
DTSTAMP:20260423T200913
CREATED:20260204T172255Z
LAST-MODIFIED:20260204T172255Z
UID:10011227-1782950400-1783036799@theartsheet.org
SUMMARY:ACG 21st Annual Members' Show
DESCRIPTION:The “21st Annual Members’ Show” is on display now through Friday\, February 20\, 2026. It is free and open to the public; Tuesday – Saturday\, Noon – 5 p.m. Visit us at our new location and home 48 N Pearl St.
URL:https://theartsheet.org/event/acg-21st-annual-members-show/2026-07-02/
ATTACH;FMTTYPE=image/png:https://theartsheet.org/wp-content/uploads/2026/02/Screenshot-2026-02-04-at-12.22.13-PM.png
ORGANIZER;CN="Albany Center Gallery":MAILTO:info@albanycentergallery.org
END:VEVENT
BEGIN:VEVENT
DTSTART;VALUE=DATE:20260703
DTEND;VALUE=DATE:20260704
DTSTAMP:20260423T200913
CREATED:20260204T172255Z
LAST-MODIFIED:20260204T172255Z
UID:10011228-1783036800-1783123199@theartsheet.org
SUMMARY:ACG 21st Annual Members' Show
DESCRIPTION:The “21st Annual Members’ Show” is on display now through Friday\, February 20\, 2026. It is free and open to the public; Tuesday – Saturday\, Noon – 5 p.m. Visit us at our new location and home 48 N Pearl St.
URL:https://theartsheet.org/event/acg-21st-annual-members-show/2026-07-03/
ATTACH;FMTTYPE=image/png:https://theartsheet.org/wp-content/uploads/2026/02/Screenshot-2026-02-04-at-12.22.13-PM.png
ORGANIZER;CN="Albany Center Gallery":MAILTO:info@albanycentergallery.org
END:VEVENT
BEGIN:VEVENT
DTSTART;VALUE=DATE:20260704
DTEND;VALUE=DATE:20260705
DTSTAMP:20260423T200913
CREATED:20260204T172255Z
LAST-MODIFIED:20260204T172255Z
UID:10011229-1783123200-1783209599@theartsheet.org
SUMMARY:ACG 21st Annual Members' Show
DESCRIPTION:The “21st Annual Members’ Show” is on display now through Friday\, February 20\, 2026. It is free and open to the public; Tuesday – Saturday\, Noon – 5 p.m. Visit us at our new location and home 48 N Pearl St.
URL:https://theartsheet.org/event/acg-21st-annual-members-show/2026-07-04/
ATTACH;FMTTYPE=image/png:https://theartsheet.org/wp-content/uploads/2026/02/Screenshot-2026-02-04-at-12.22.13-PM.png
ORGANIZER;CN="Albany Center Gallery":MAILTO:info@albanycentergallery.org
END:VEVENT
BEGIN:VEVENT
DTSTART;VALUE=DATE:20260705
DTEND;VALUE=DATE:20260706
DTSTAMP:20260423T200913
CREATED:20260204T172255Z
LAST-MODIFIED:20260204T172255Z
UID:10011230-1783209600-1783295999@theartsheet.org
SUMMARY:ACG 21st Annual Members' Show
DESCRIPTION:The “21st Annual Members’ Show” is on display now through Friday\, February 20\, 2026. It is free and open to the public; Tuesday – Saturday\, Noon – 5 p.m. Visit us at our new location and home 48 N Pearl St.
URL:https://theartsheet.org/event/acg-21st-annual-members-show/2026-07-05/
ATTACH;FMTTYPE=image/png:https://theartsheet.org/wp-content/uploads/2026/02/Screenshot-2026-02-04-at-12.22.13-PM.png
ORGANIZER;CN="Albany Center Gallery":MAILTO:info@albanycentergallery.org
END:VEVENT
BEGIN:VEVENT
DTSTART;VALUE=DATE:20260706
DTEND;VALUE=DATE:20260707
DTSTAMP:20260423T200913
CREATED:20260204T172255Z
LAST-MODIFIED:20260204T172255Z
UID:10011231-1783296000-1783382399@theartsheet.org
SUMMARY:ACG 21st Annual Members' Show
DESCRIPTION:The “21st Annual Members’ Show” is on display now through Friday\, February 20\, 2026. It is free and open to the public; Tuesday – Saturday\, Noon – 5 p.m. Visit us at our new location and home 48 N Pearl St.
URL:https://theartsheet.org/event/acg-21st-annual-members-show/2026-07-06/
ATTACH;FMTTYPE=image/png:https://theartsheet.org/wp-content/uploads/2026/02/Screenshot-2026-02-04-at-12.22.13-PM.png
ORGANIZER;CN="Albany Center Gallery":MAILTO:info@albanycentergallery.org
END:VEVENT
BEGIN:VEVENT
DTSTART;VALUE=DATE:20260707
DTEND;VALUE=DATE:20260708
DTSTAMP:20260423T200913
CREATED:20260204T172255Z
LAST-MODIFIED:20260204T172255Z
UID:10011232-1783382400-1783468799@theartsheet.org
SUMMARY:ACG 21st Annual Members' Show
DESCRIPTION:The “21st Annual Members’ Show” is on display now through Friday\, February 20\, 2026. It is free and open to the public; Tuesday – Saturday\, Noon – 5 p.m. Visit us at our new location and home 48 N Pearl St.
URL:https://theartsheet.org/event/acg-21st-annual-members-show/2026-07-07/
ATTACH;FMTTYPE=image/png:https://theartsheet.org/wp-content/uploads/2026/02/Screenshot-2026-02-04-at-12.22.13-PM.png
ORGANIZER;CN="Albany Center Gallery":MAILTO:info@albanycentergallery.org
END:VEVENT
BEGIN:VEVENT
DTSTART;VALUE=DATE:20260708
DTEND;VALUE=DATE:20260709
DTSTAMP:20260423T200913
CREATED:20260204T172255Z
LAST-MODIFIED:20260204T172255Z
UID:10011233-1783468800-1783555199@theartsheet.org
SUMMARY:ACG 21st Annual Members' Show
DESCRIPTION:The “21st Annual Members’ Show” is on display now through Friday\, February 20\, 2026. It is free and open to the public; Tuesday – Saturday\, Noon – 5 p.m. Visit us at our new location and home 48 N Pearl St.
URL:https://theartsheet.org/event/acg-21st-annual-members-show/2026-07-08/
ATTACH;FMTTYPE=image/png:https://theartsheet.org/wp-content/uploads/2026/02/Screenshot-2026-02-04-at-12.22.13-PM.png
ORGANIZER;CN="Albany Center Gallery":MAILTO:info@albanycentergallery.org
END:VEVENT
BEGIN:VEVENT
DTSTART;VALUE=DATE:20260709
DTEND;VALUE=DATE:20260710
DTSTAMP:20260423T200913
CREATED:20260204T172255Z
LAST-MODIFIED:20260204T172255Z
UID:10011234-1783555200-1783641599@theartsheet.org
SUMMARY:ACG 21st Annual Members' Show
DESCRIPTION:The “21st Annual Members’ Show” is on display now through Friday\, February 20\, 2026. It is free and open to the public; Tuesday – Saturday\, Noon – 5 p.m. Visit us at our new location and home 48 N Pearl St.
URL:https://theartsheet.org/event/acg-21st-annual-members-show/2026-07-09/
ATTACH;FMTTYPE=image/png:https://theartsheet.org/wp-content/uploads/2026/02/Screenshot-2026-02-04-at-12.22.13-PM.png
ORGANIZER;CN="Albany Center Gallery":MAILTO:info@albanycentergallery.org
END:VEVENT
BEGIN:VEVENT
DTSTART;VALUE=DATE:20260710
DTEND;VALUE=DATE:20260711
DTSTAMP:20260423T200913
CREATED:20260204T172255Z
LAST-MODIFIED:20260204T172255Z
UID:10011235-1783641600-1783727999@theartsheet.org
SUMMARY:ACG 21st Annual Members' Show
DESCRIPTION:The “21st Annual Members’ Show” is on display now through Friday\, February 20\, 2026. It is free and open to the public; Tuesday – Saturday\, Noon – 5 p.m. Visit us at our new location and home 48 N Pearl St.
URL:https://theartsheet.org/event/acg-21st-annual-members-show/2026-07-10/
ATTACH;FMTTYPE=image/png:https://theartsheet.org/wp-content/uploads/2026/02/Screenshot-2026-02-04-at-12.22.13-PM.png
ORGANIZER;CN="Albany Center Gallery":MAILTO:info@albanycentergallery.org
END:VEVENT
BEGIN:VEVENT
DTSTART;VALUE=DATE:20260711
DTEND;VALUE=DATE:20260712
DTSTAMP:20260423T200913
CREATED:20260204T172255Z
LAST-MODIFIED:20260204T172255Z
UID:10011236-1783728000-1783814399@theartsheet.org
SUMMARY:ACG 21st Annual Members' Show
DESCRIPTION:The “21st Annual Members’ Show” is on display now through Friday\, February 20\, 2026. It is free and open to the public; Tuesday – Saturday\, Noon – 5 p.m. Visit us at our new location and home 48 N Pearl St.
URL:https://theartsheet.org/event/acg-21st-annual-members-show/2026-07-11/
ATTACH;FMTTYPE=image/png:https://theartsheet.org/wp-content/uploads/2026/02/Screenshot-2026-02-04-at-12.22.13-PM.png
ORGANIZER;CN="Albany Center Gallery":MAILTO:info@albanycentergallery.org
END:VEVENT
END:VCALENDAR