BEGIN:VCALENDAR
VERSION:2.0
PRODID:-// - ECPv6.15.20//NONSGML v1.0//EN
CALSCALE:GREGORIAN
METHOD:PUBLISH
X-ORIGINAL-URL:https://theartsheet.org
X-WR-CALDESC:Events for 
REFRESH-INTERVAL;VALUE=DURATION:PT1H
X-Robots-Tag:noindex
X-PUBLISHED-TTL:PT1H
BEGIN:VTIMEZONE
TZID:America/New_York
BEGIN:DAYLIGHT
TZOFFSETFROM:-0500
TZOFFSETTO:-0400
TZNAME:EDT
DTSTART:20250309T070000
END:DAYLIGHT
BEGIN:STANDARD
TZOFFSETFROM:-0400
TZOFFSETTO:-0500
TZNAME:EST
DTSTART:20251102T060000
END:STANDARD
BEGIN:DAYLIGHT
TZOFFSETFROM:-0500
TZOFFSETTO:-0400
TZNAME:EDT
DTSTART:20260308T070000
END:DAYLIGHT
BEGIN:STANDARD
TZOFFSETFROM:-0400
TZOFFSETTO:-0500
TZNAME:EST
DTSTART:20261101T060000
END:STANDARD
BEGIN:DAYLIGHT
TZOFFSETFROM:-0500
TZOFFSETTO:-0400
TZNAME:EDT
DTSTART:20270314T070000
END:DAYLIGHT
BEGIN:STANDARD
TZOFFSETFROM:-0400
TZOFFSETTO:-0500
TZNAME:EST
DTSTART:20271107T060000
END:STANDARD
END:VTIMEZONE
BEGIN:VEVENT
DTSTART;VALUE=DATE:20260702
DTEND;VALUE=DATE:20260703
DTSTAMP:20260423T234010
CREATED:20260204T172255Z
LAST-MODIFIED:20260204T172255Z
UID:10011227-1782950400-1783036799@theartsheet.org
SUMMARY:ACG 21st Annual Members' Show
DESCRIPTION:The “21st Annual Members’ Show” is on display now through Friday\, February 20\, 2026. It is free and open to the public; Tuesday – Saturday\, Noon – 5 p.m. Visit us at our new location and home 48 N Pearl St.
URL:https://theartsheet.org/event/acg-21st-annual-members-show/2026-07-02/
ATTACH;FMTTYPE=image/png:https://theartsheet.org/wp-content/uploads/2026/02/Screenshot-2026-02-04-at-12.22.13-PM.png
ORGANIZER;CN="Albany Center Gallery":MAILTO:info@albanycentergallery.org
END:VEVENT
BEGIN:VEVENT
DTSTART;VALUE=DATE:20260703
DTEND;VALUE=DATE:20260704
DTSTAMP:20260423T234010
CREATED:20260204T172255Z
LAST-MODIFIED:20260204T172255Z
UID:10011228-1783036800-1783123199@theartsheet.org
SUMMARY:ACG 21st Annual Members' Show
DESCRIPTION:The “21st Annual Members’ Show” is on display now through Friday\, February 20\, 2026. It is free and open to the public; Tuesday – Saturday\, Noon – 5 p.m. Visit us at our new location and home 48 N Pearl St.
URL:https://theartsheet.org/event/acg-21st-annual-members-show/2026-07-03/
ATTACH;FMTTYPE=image/png:https://theartsheet.org/wp-content/uploads/2026/02/Screenshot-2026-02-04-at-12.22.13-PM.png
ORGANIZER;CN="Albany Center Gallery":MAILTO:info@albanycentergallery.org
END:VEVENT
BEGIN:VEVENT
DTSTART;VALUE=DATE:20260704
DTEND;VALUE=DATE:20260705
DTSTAMP:20260423T234010
CREATED:20260204T172255Z
LAST-MODIFIED:20260204T172255Z
UID:10011229-1783123200-1783209599@theartsheet.org
SUMMARY:ACG 21st Annual Members' Show
DESCRIPTION:The “21st Annual Members’ Show” is on display now through Friday\, February 20\, 2026. It is free and open to the public; Tuesday – Saturday\, Noon – 5 p.m. Visit us at our new location and home 48 N Pearl St.
URL:https://theartsheet.org/event/acg-21st-annual-members-show/2026-07-04/
ATTACH;FMTTYPE=image/png:https://theartsheet.org/wp-content/uploads/2026/02/Screenshot-2026-02-04-at-12.22.13-PM.png
ORGANIZER;CN="Albany Center Gallery":MAILTO:info@albanycentergallery.org
END:VEVENT
BEGIN:VEVENT
DTSTART;VALUE=DATE:20260705
DTEND;VALUE=DATE:20260706
DTSTAMP:20260423T234010
CREATED:20260204T172255Z
LAST-MODIFIED:20260204T172255Z
UID:10011230-1783209600-1783295999@theartsheet.org
SUMMARY:ACG 21st Annual Members' Show
DESCRIPTION:The “21st Annual Members’ Show” is on display now through Friday\, February 20\, 2026. It is free and open to the public; Tuesday – Saturday\, Noon – 5 p.m. Visit us at our new location and home 48 N Pearl St.
URL:https://theartsheet.org/event/acg-21st-annual-members-show/2026-07-05/
ATTACH;FMTTYPE=image/png:https://theartsheet.org/wp-content/uploads/2026/02/Screenshot-2026-02-04-at-12.22.13-PM.png
ORGANIZER;CN="Albany Center Gallery":MAILTO:info@albanycentergallery.org
END:VEVENT
BEGIN:VEVENT
DTSTART;VALUE=DATE:20260706
DTEND;VALUE=DATE:20260707
DTSTAMP:20260423T234010
CREATED:20260204T172255Z
LAST-MODIFIED:20260204T172255Z
UID:10011231-1783296000-1783382399@theartsheet.org
SUMMARY:ACG 21st Annual Members' Show
DESCRIPTION:The “21st Annual Members’ Show” is on display now through Friday\, February 20\, 2026. It is free and open to the public; Tuesday – Saturday\, Noon – 5 p.m. Visit us at our new location and home 48 N Pearl St.
URL:https://theartsheet.org/event/acg-21st-annual-members-show/2026-07-06/
ATTACH;FMTTYPE=image/png:https://theartsheet.org/wp-content/uploads/2026/02/Screenshot-2026-02-04-at-12.22.13-PM.png
ORGANIZER;CN="Albany Center Gallery":MAILTO:info@albanycentergallery.org
END:VEVENT
BEGIN:VEVENT
DTSTART;VALUE=DATE:20260707
DTEND;VALUE=DATE:20260708
DTSTAMP:20260423T234010
CREATED:20260204T172255Z
LAST-MODIFIED:20260204T172255Z
UID:10011232-1783382400-1783468799@theartsheet.org
SUMMARY:ACG 21st Annual Members' Show
DESCRIPTION:The “21st Annual Members’ Show” is on display now through Friday\, February 20\, 2026. It is free and open to the public; Tuesday – Saturday\, Noon – 5 p.m. Visit us at our new location and home 48 N Pearl St.
URL:https://theartsheet.org/event/acg-21st-annual-members-show/2026-07-07/
ATTACH;FMTTYPE=image/png:https://theartsheet.org/wp-content/uploads/2026/02/Screenshot-2026-02-04-at-12.22.13-PM.png
ORGANIZER;CN="Albany Center Gallery":MAILTO:info@albanycentergallery.org
END:VEVENT
BEGIN:VEVENT
DTSTART;VALUE=DATE:20260708
DTEND;VALUE=DATE:20260709
DTSTAMP:20260423T234010
CREATED:20260204T172255Z
LAST-MODIFIED:20260204T172255Z
UID:10011233-1783468800-1783555199@theartsheet.org
SUMMARY:ACG 21st Annual Members' Show
DESCRIPTION:The “21st Annual Members’ Show” is on display now through Friday\, February 20\, 2026. It is free and open to the public; Tuesday – Saturday\, Noon – 5 p.m. Visit us at our new location and home 48 N Pearl St.
URL:https://theartsheet.org/event/acg-21st-annual-members-show/2026-07-08/
ATTACH;FMTTYPE=image/png:https://theartsheet.org/wp-content/uploads/2026/02/Screenshot-2026-02-04-at-12.22.13-PM.png
ORGANIZER;CN="Albany Center Gallery":MAILTO:info@albanycentergallery.org
END:VEVENT
BEGIN:VEVENT
DTSTART;VALUE=DATE:20260709
DTEND;VALUE=DATE:20260710
DTSTAMP:20260423T234010
CREATED:20260204T172255Z
LAST-MODIFIED:20260204T172255Z
UID:10011234-1783555200-1783641599@theartsheet.org
SUMMARY:ACG 21st Annual Members' Show
DESCRIPTION:The “21st Annual Members’ Show” is on display now through Friday\, February 20\, 2026. It is free and open to the public; Tuesday – Saturday\, Noon – 5 p.m. Visit us at our new location and home 48 N Pearl St.
URL:https://theartsheet.org/event/acg-21st-annual-members-show/2026-07-09/
ATTACH;FMTTYPE=image/png:https://theartsheet.org/wp-content/uploads/2026/02/Screenshot-2026-02-04-at-12.22.13-PM.png
ORGANIZER;CN="Albany Center Gallery":MAILTO:info@albanycentergallery.org
END:VEVENT
BEGIN:VEVENT
DTSTART;VALUE=DATE:20260710
DTEND;VALUE=DATE:20260711
DTSTAMP:20260423T234010
CREATED:20260204T172255Z
LAST-MODIFIED:20260204T172255Z
UID:10011235-1783641600-1783727999@theartsheet.org
SUMMARY:ACG 21st Annual Members' Show
DESCRIPTION:The “21st Annual Members’ Show” is on display now through Friday\, February 20\, 2026. It is free and open to the public; Tuesday – Saturday\, Noon – 5 p.m. Visit us at our new location and home 48 N Pearl St.
URL:https://theartsheet.org/event/acg-21st-annual-members-show/2026-07-10/
ATTACH;FMTTYPE=image/png:https://theartsheet.org/wp-content/uploads/2026/02/Screenshot-2026-02-04-at-12.22.13-PM.png
ORGANIZER;CN="Albany Center Gallery":MAILTO:info@albanycentergallery.org
END:VEVENT
BEGIN:VEVENT
DTSTART;VALUE=DATE:20260711
DTEND;VALUE=DATE:20260712
DTSTAMP:20260423T234010
CREATED:20260204T172255Z
LAST-MODIFIED:20260204T172255Z
UID:10011236-1783728000-1783814399@theartsheet.org
SUMMARY:ACG 21st Annual Members' Show
DESCRIPTION:The “21st Annual Members’ Show” is on display now through Friday\, February 20\, 2026. It is free and open to the public; Tuesday – Saturday\, Noon – 5 p.m. Visit us at our new location and home 48 N Pearl St.
URL:https://theartsheet.org/event/acg-21st-annual-members-show/2026-07-11/
ATTACH;FMTTYPE=image/png:https://theartsheet.org/wp-content/uploads/2026/02/Screenshot-2026-02-04-at-12.22.13-PM.png
ORGANIZER;CN="Albany Center Gallery":MAILTO:info@albanycentergallery.org
END:VEVENT
BEGIN:VEVENT
DTSTART;VALUE=DATE:20260712
DTEND;VALUE=DATE:20260713
DTSTAMP:20260423T234010
CREATED:20260204T172255Z
LAST-MODIFIED:20260204T172255Z
UID:10011237-1783814400-1783900799@theartsheet.org
SUMMARY:ACG 21st Annual Members' Show
DESCRIPTION:The “21st Annual Members’ Show” is on display now through Friday\, February 20\, 2026. It is free and open to the public; Tuesday – Saturday\, Noon – 5 p.m. Visit us at our new location and home 48 N Pearl St.
URL:https://theartsheet.org/event/acg-21st-annual-members-show/2026-07-12/
ATTACH;FMTTYPE=image/png:https://theartsheet.org/wp-content/uploads/2026/02/Screenshot-2026-02-04-at-12.22.13-PM.png
ORGANIZER;CN="Albany Center Gallery":MAILTO:info@albanycentergallery.org
END:VEVENT
BEGIN:VEVENT
DTSTART;VALUE=DATE:20260713
DTEND;VALUE=DATE:20260714
DTSTAMP:20260423T234010
CREATED:20260204T172255Z
LAST-MODIFIED:20260204T172255Z
UID:10011238-1783900800-1783987199@theartsheet.org
SUMMARY:ACG 21st Annual Members' Show
DESCRIPTION:The “21st Annual Members’ Show” is on display now through Friday\, February 20\, 2026. It is free and open to the public; Tuesday – Saturday\, Noon – 5 p.m. Visit us at our new location and home 48 N Pearl St.
URL:https://theartsheet.org/event/acg-21st-annual-members-show/2026-07-13/
ATTACH;FMTTYPE=image/png:https://theartsheet.org/wp-content/uploads/2026/02/Screenshot-2026-02-04-at-12.22.13-PM.png
ORGANIZER;CN="Albany Center Gallery":MAILTO:info@albanycentergallery.org
END:VEVENT
BEGIN:VEVENT
DTSTART;VALUE=DATE:20260714
DTEND;VALUE=DATE:20260715
DTSTAMP:20260423T234010
CREATED:20260204T172255Z
LAST-MODIFIED:20260204T172255Z
UID:10011239-1783987200-1784073599@theartsheet.org
SUMMARY:ACG 21st Annual Members' Show
DESCRIPTION:The “21st Annual Members’ Show” is on display now through Friday\, February 20\, 2026. It is free and open to the public; Tuesday – Saturday\, Noon – 5 p.m. Visit us at our new location and home 48 N Pearl St.
URL:https://theartsheet.org/event/acg-21st-annual-members-show/2026-07-14/
ATTACH;FMTTYPE=image/png:https://theartsheet.org/wp-content/uploads/2026/02/Screenshot-2026-02-04-at-12.22.13-PM.png
ORGANIZER;CN="Albany Center Gallery":MAILTO:info@albanycentergallery.org
END:VEVENT
BEGIN:VEVENT
DTSTART;VALUE=DATE:20260715
DTEND;VALUE=DATE:20260716
DTSTAMP:20260423T234010
CREATED:20260204T172255Z
LAST-MODIFIED:20260204T172255Z
UID:10011240-1784073600-1784159999@theartsheet.org
SUMMARY:ACG 21st Annual Members' Show
DESCRIPTION:The “21st Annual Members’ Show” is on display now through Friday\, February 20\, 2026. It is free and open to the public; Tuesday – Saturday\, Noon – 5 p.m. Visit us at our new location and home 48 N Pearl St.
URL:https://theartsheet.org/event/acg-21st-annual-members-show/2026-07-15/
ATTACH;FMTTYPE=image/png:https://theartsheet.org/wp-content/uploads/2026/02/Screenshot-2026-02-04-at-12.22.13-PM.png
ORGANIZER;CN="Albany Center Gallery":MAILTO:info@albanycentergallery.org
END:VEVENT
BEGIN:VEVENT
DTSTART;VALUE=DATE:20260716
DTEND;VALUE=DATE:20260717
DTSTAMP:20260423T234010
CREATED:20260204T172255Z
LAST-MODIFIED:20260204T172255Z
UID:10011241-1784160000-1784246399@theartsheet.org
SUMMARY:ACG 21st Annual Members' Show
DESCRIPTION:The “21st Annual Members’ Show” is on display now through Friday\, February 20\, 2026. It is free and open to the public; Tuesday – Saturday\, Noon – 5 p.m. Visit us at our new location and home 48 N Pearl St.
URL:https://theartsheet.org/event/acg-21st-annual-members-show/2026-07-16/
ATTACH;FMTTYPE=image/png:https://theartsheet.org/wp-content/uploads/2026/02/Screenshot-2026-02-04-at-12.22.13-PM.png
ORGANIZER;CN="Albany Center Gallery":MAILTO:info@albanycentergallery.org
END:VEVENT
BEGIN:VEVENT
DTSTART;VALUE=DATE:20260717
DTEND;VALUE=DATE:20260718
DTSTAMP:20260423T234010
CREATED:20260204T172255Z
LAST-MODIFIED:20260204T172255Z
UID:10011242-1784246400-1784332799@theartsheet.org
SUMMARY:ACG 21st Annual Members' Show
DESCRIPTION:The “21st Annual Members’ Show” is on display now through Friday\, February 20\, 2026. It is free and open to the public; Tuesday – Saturday\, Noon – 5 p.m. Visit us at our new location and home 48 N Pearl St.
URL:https://theartsheet.org/event/acg-21st-annual-members-show/2026-07-17/
ATTACH;FMTTYPE=image/png:https://theartsheet.org/wp-content/uploads/2026/02/Screenshot-2026-02-04-at-12.22.13-PM.png
ORGANIZER;CN="Albany Center Gallery":MAILTO:info@albanycentergallery.org
END:VEVENT
BEGIN:VEVENT
DTSTART;VALUE=DATE:20260718
DTEND;VALUE=DATE:20260719
DTSTAMP:20260423T234010
CREATED:20260204T172255Z
LAST-MODIFIED:20260204T172255Z
UID:10011243-1784332800-1784419199@theartsheet.org
SUMMARY:ACG 21st Annual Members' Show
DESCRIPTION:The “21st Annual Members’ Show” is on display now through Friday\, February 20\, 2026. It is free and open to the public; Tuesday – Saturday\, Noon – 5 p.m. Visit us at our new location and home 48 N Pearl St.
URL:https://theartsheet.org/event/acg-21st-annual-members-show/2026-07-18/
ATTACH;FMTTYPE=image/png:https://theartsheet.org/wp-content/uploads/2026/02/Screenshot-2026-02-04-at-12.22.13-PM.png
ORGANIZER;CN="Albany Center Gallery":MAILTO:info@albanycentergallery.org
END:VEVENT
BEGIN:VEVENT
DTSTART;VALUE=DATE:20260719
DTEND;VALUE=DATE:20260720
DTSTAMP:20260423T234010
CREATED:20260204T172255Z
LAST-MODIFIED:20260204T172255Z
UID:10011244-1784419200-1784505599@theartsheet.org
SUMMARY:ACG 21st Annual Members' Show
DESCRIPTION:The “21st Annual Members’ Show” is on display now through Friday\, February 20\, 2026. It is free and open to the public; Tuesday – Saturday\, Noon – 5 p.m. Visit us at our new location and home 48 N Pearl St.
URL:https://theartsheet.org/event/acg-21st-annual-members-show/2026-07-19/
ATTACH;FMTTYPE=image/png:https://theartsheet.org/wp-content/uploads/2026/02/Screenshot-2026-02-04-at-12.22.13-PM.png
ORGANIZER;CN="Albany Center Gallery":MAILTO:info@albanycentergallery.org
END:VEVENT
BEGIN:VEVENT
DTSTART;VALUE=DATE:20260720
DTEND;VALUE=DATE:20260721
DTSTAMP:20260423T234010
CREATED:20260204T172255Z
LAST-MODIFIED:20260204T172255Z
UID:10011245-1784505600-1784591999@theartsheet.org
SUMMARY:ACG 21st Annual Members' Show
DESCRIPTION:The “21st Annual Members’ Show” is on display now through Friday\, February 20\, 2026. It is free and open to the public; Tuesday – Saturday\, Noon – 5 p.m. Visit us at our new location and home 48 N Pearl St.
URL:https://theartsheet.org/event/acg-21st-annual-members-show/2026-07-20/
ATTACH;FMTTYPE=image/png:https://theartsheet.org/wp-content/uploads/2026/02/Screenshot-2026-02-04-at-12.22.13-PM.png
ORGANIZER;CN="Albany Center Gallery":MAILTO:info@albanycentergallery.org
END:VEVENT
BEGIN:VEVENT
DTSTART;VALUE=DATE:20260721
DTEND;VALUE=DATE:20260722
DTSTAMP:20260423T234010
CREATED:20260204T172255Z
LAST-MODIFIED:20260204T172255Z
UID:10011246-1784592000-1784678399@theartsheet.org
SUMMARY:ACG 21st Annual Members' Show
DESCRIPTION:The “21st Annual Members’ Show” is on display now through Friday\, February 20\, 2026. It is free and open to the public; Tuesday – Saturday\, Noon – 5 p.m. Visit us at our new location and home 48 N Pearl St.
URL:https://theartsheet.org/event/acg-21st-annual-members-show/2026-07-21/
ATTACH;FMTTYPE=image/png:https://theartsheet.org/wp-content/uploads/2026/02/Screenshot-2026-02-04-at-12.22.13-PM.png
ORGANIZER;CN="Albany Center Gallery":MAILTO:info@albanycentergallery.org
END:VEVENT
BEGIN:VEVENT
DTSTART;VALUE=DATE:20260722
DTEND;VALUE=DATE:20260723
DTSTAMP:20260423T234010
CREATED:20260204T172255Z
LAST-MODIFIED:20260204T172255Z
UID:10011247-1784678400-1784764799@theartsheet.org
SUMMARY:ACG 21st Annual Members' Show
DESCRIPTION:The “21st Annual Members’ Show” is on display now through Friday\, February 20\, 2026. It is free and open to the public; Tuesday – Saturday\, Noon – 5 p.m. Visit us at our new location and home 48 N Pearl St.
URL:https://theartsheet.org/event/acg-21st-annual-members-show/2026-07-22/
ATTACH;FMTTYPE=image/png:https://theartsheet.org/wp-content/uploads/2026/02/Screenshot-2026-02-04-at-12.22.13-PM.png
ORGANIZER;CN="Albany Center Gallery":MAILTO:info@albanycentergallery.org
END:VEVENT
BEGIN:VEVENT
DTSTART;VALUE=DATE:20260723
DTEND;VALUE=DATE:20260724
DTSTAMP:20260423T234010
CREATED:20260204T172255Z
LAST-MODIFIED:20260204T172255Z
UID:10011248-1784764800-1784851199@theartsheet.org
SUMMARY:ACG 21st Annual Members' Show
DESCRIPTION:The “21st Annual Members’ Show” is on display now through Friday\, February 20\, 2026. It is free and open to the public; Tuesday – Saturday\, Noon – 5 p.m. Visit us at our new location and home 48 N Pearl St.
URL:https://theartsheet.org/event/acg-21st-annual-members-show/2026-07-23/
ATTACH;FMTTYPE=image/png:https://theartsheet.org/wp-content/uploads/2026/02/Screenshot-2026-02-04-at-12.22.13-PM.png
ORGANIZER;CN="Albany Center Gallery":MAILTO:info@albanycentergallery.org
END:VEVENT
BEGIN:VEVENT
DTSTART;VALUE=DATE:20260724
DTEND;VALUE=DATE:20260725
DTSTAMP:20260423T234010
CREATED:20260204T172255Z
LAST-MODIFIED:20260204T172255Z
UID:10011249-1784851200-1784937599@theartsheet.org
SUMMARY:ACG 21st Annual Members' Show
DESCRIPTION:The “21st Annual Members’ Show” is on display now through Friday\, February 20\, 2026. It is free and open to the public; Tuesday – Saturday\, Noon – 5 p.m. Visit us at our new location and home 48 N Pearl St.
URL:https://theartsheet.org/event/acg-21st-annual-members-show/2026-07-24/
ATTACH;FMTTYPE=image/png:https://theartsheet.org/wp-content/uploads/2026/02/Screenshot-2026-02-04-at-12.22.13-PM.png
ORGANIZER;CN="Albany Center Gallery":MAILTO:info@albanycentergallery.org
END:VEVENT
BEGIN:VEVENT
DTSTART;VALUE=DATE:20260725
DTEND;VALUE=DATE:20260726
DTSTAMP:20260423T234010
CREATED:20260204T172255Z
LAST-MODIFIED:20260204T172255Z
UID:10011250-1784937600-1785023999@theartsheet.org
SUMMARY:ACG 21st Annual Members' Show
DESCRIPTION:The “21st Annual Members’ Show” is on display now through Friday\, February 20\, 2026. It is free and open to the public; Tuesday – Saturday\, Noon – 5 p.m. Visit us at our new location and home 48 N Pearl St.
URL:https://theartsheet.org/event/acg-21st-annual-members-show/2026-07-25/
ATTACH;FMTTYPE=image/png:https://theartsheet.org/wp-content/uploads/2026/02/Screenshot-2026-02-04-at-12.22.13-PM.png
ORGANIZER;CN="Albany Center Gallery":MAILTO:info@albanycentergallery.org
END:VEVENT
BEGIN:VEVENT
DTSTART;VALUE=DATE:20260726
DTEND;VALUE=DATE:20260727
DTSTAMP:20260423T234010
CREATED:20260204T172255Z
LAST-MODIFIED:20260204T172255Z
UID:10011251-1785024000-1785110399@theartsheet.org
SUMMARY:ACG 21st Annual Members' Show
DESCRIPTION:The “21st Annual Members’ Show” is on display now through Friday\, February 20\, 2026. It is free and open to the public; Tuesday – Saturday\, Noon – 5 p.m. Visit us at our new location and home 48 N Pearl St.
URL:https://theartsheet.org/event/acg-21st-annual-members-show/2026-07-26/
ATTACH;FMTTYPE=image/png:https://theartsheet.org/wp-content/uploads/2026/02/Screenshot-2026-02-04-at-12.22.13-PM.png
ORGANIZER;CN="Albany Center Gallery":MAILTO:info@albanycentergallery.org
END:VEVENT
BEGIN:VEVENT
DTSTART;VALUE=DATE:20260727
DTEND;VALUE=DATE:20260728
DTSTAMP:20260423T234010
CREATED:20260204T172255Z
LAST-MODIFIED:20260204T172255Z
UID:10011252-1785110400-1785196799@theartsheet.org
SUMMARY:ACG 21st Annual Members' Show
DESCRIPTION:The “21st Annual Members’ Show” is on display now through Friday\, February 20\, 2026. It is free and open to the public; Tuesday – Saturday\, Noon – 5 p.m. Visit us at our new location and home 48 N Pearl St.
URL:https://theartsheet.org/event/acg-21st-annual-members-show/2026-07-27/
ATTACH;FMTTYPE=image/png:https://theartsheet.org/wp-content/uploads/2026/02/Screenshot-2026-02-04-at-12.22.13-PM.png
ORGANIZER;CN="Albany Center Gallery":MAILTO:info@albanycentergallery.org
END:VEVENT
BEGIN:VEVENT
DTSTART;VALUE=DATE:20260728
DTEND;VALUE=DATE:20260729
DTSTAMP:20260423T234010
CREATED:20260204T172255Z
LAST-MODIFIED:20260204T172255Z
UID:10011253-1785196800-1785283199@theartsheet.org
SUMMARY:ACG 21st Annual Members' Show
DESCRIPTION:The “21st Annual Members’ Show” is on display now through Friday\, February 20\, 2026. It is free and open to the public; Tuesday – Saturday\, Noon – 5 p.m. Visit us at our new location and home 48 N Pearl St.
URL:https://theartsheet.org/event/acg-21st-annual-members-show/2026-07-28/
ATTACH;FMTTYPE=image/png:https://theartsheet.org/wp-content/uploads/2026/02/Screenshot-2026-02-04-at-12.22.13-PM.png
ORGANIZER;CN="Albany Center Gallery":MAILTO:info@albanycentergallery.org
END:VEVENT
BEGIN:VEVENT
DTSTART;VALUE=DATE:20260729
DTEND;VALUE=DATE:20260730
DTSTAMP:20260423T234010
CREATED:20260204T172255Z
LAST-MODIFIED:20260204T172255Z
UID:10011254-1785283200-1785369599@theartsheet.org
SUMMARY:ACG 21st Annual Members' Show
DESCRIPTION:The “21st Annual Members’ Show” is on display now through Friday\, February 20\, 2026. It is free and open to the public; Tuesday – Saturday\, Noon – 5 p.m. Visit us at our new location and home 48 N Pearl St.
URL:https://theartsheet.org/event/acg-21st-annual-members-show/2026-07-29/
ATTACH;FMTTYPE=image/png:https://theartsheet.org/wp-content/uploads/2026/02/Screenshot-2026-02-04-at-12.22.13-PM.png
ORGANIZER;CN="Albany Center Gallery":MAILTO:info@albanycentergallery.org
END:VEVENT
BEGIN:VEVENT
DTSTART;VALUE=DATE:20260730
DTEND;VALUE=DATE:20260731
DTSTAMP:20260423T234010
CREATED:20260204T172255Z
LAST-MODIFIED:20260204T172255Z
UID:10011255-1785369600-1785455999@theartsheet.org
SUMMARY:ACG 21st Annual Members' Show
DESCRIPTION:The “21st Annual Members’ Show” is on display now through Friday\, February 20\, 2026. It is free and open to the public; Tuesday – Saturday\, Noon – 5 p.m. Visit us at our new location and home 48 N Pearl St.
URL:https://theartsheet.org/event/acg-21st-annual-members-show/2026-07-30/
ATTACH;FMTTYPE=image/png:https://theartsheet.org/wp-content/uploads/2026/02/Screenshot-2026-02-04-at-12.22.13-PM.png
ORGANIZER;CN="Albany Center Gallery":MAILTO:info@albanycentergallery.org
END:VEVENT
BEGIN:VEVENT
DTSTART;VALUE=DATE:20260731
DTEND;VALUE=DATE:20260801
DTSTAMP:20260423T234010
CREATED:20260204T172255Z
LAST-MODIFIED:20260204T172255Z
UID:10011256-1785456000-1785542399@theartsheet.org
SUMMARY:ACG 21st Annual Members' Show
DESCRIPTION:The “21st Annual Members’ Show” is on display now through Friday\, February 20\, 2026. It is free and open to the public; Tuesday – Saturday\, Noon – 5 p.m. Visit us at our new location and home 48 N Pearl St.
URL:https://theartsheet.org/event/acg-21st-annual-members-show/2026-07-31/
ATTACH;FMTTYPE=image/png:https://theartsheet.org/wp-content/uploads/2026/02/Screenshot-2026-02-04-at-12.22.13-PM.png
ORGANIZER;CN="Albany Center Gallery":MAILTO:info@albanycentergallery.org
END:VEVENT
END:VCALENDAR