BEGIN:VCALENDAR
VERSION:2.0
PRODID:-// - ECPv6.15.20//NONSGML v1.0//EN
CALSCALE:GREGORIAN
METHOD:PUBLISH
X-ORIGINAL-URL:https://theartsheet.org
X-WR-CALDESC:Events for 
REFRESH-INTERVAL;VALUE=DURATION:PT1H
X-Robots-Tag:noindex
X-PUBLISHED-TTL:PT1H
BEGIN:VTIMEZONE
TZID:America/New_York
BEGIN:DAYLIGHT
TZOFFSETFROM:-0500
TZOFFSETTO:-0400
TZNAME:EDT
DTSTART:20240310T070000
END:DAYLIGHT
BEGIN:STANDARD
TZOFFSETFROM:-0400
TZOFFSETTO:-0500
TZNAME:EST
DTSTART:20241103T060000
END:STANDARD
BEGIN:DAYLIGHT
TZOFFSETFROM:-0500
TZOFFSETTO:-0400
TZNAME:EDT
DTSTART:20250309T070000
END:DAYLIGHT
BEGIN:STANDARD
TZOFFSETFROM:-0400
TZOFFSETTO:-0500
TZNAME:EST
DTSTART:20251102T060000
END:STANDARD
BEGIN:DAYLIGHT
TZOFFSETFROM:-0500
TZOFFSETTO:-0400
TZNAME:EDT
DTSTART:20260308T070000
END:DAYLIGHT
BEGIN:STANDARD
TZOFFSETFROM:-0400
TZOFFSETTO:-0500
TZNAME:EST
DTSTART:20261101T060000
END:STANDARD
END:VTIMEZONE
BEGIN:VEVENT
DTSTART;TZID=America/New_York:20251109T110000
DTEND;TZID=America/New_York:20251109T130000
DTSTAMP:20260423T215452
CREATED:20251011T160453Z
LAST-MODIFIED:20251011T160453Z
UID:10010534-1762686000-1762693200@theartsheet.org
SUMMARY:Harvest to Horizon by Kate Edwards
DESCRIPTION:Harvest to Horizon brings together Kate Edwards’ reflections on the landscapes and still life that shape our sense of place. From shifting skies and quiet fields to flowers and vegetables gathered from the harvest\, her paintings invite us to pause and notice the beauty in our surroundings. \nA portion of the sales will support Planned Parenthood. There will also be an artist talk on October 15 from 7-8 pm. \nGallery Hours:   Wednesdays 6-8 pm\n                                   Saturday and Sundays 11-1 pm
URL:https://theartsheet.org/event/harvest-to-horizon-by-kate-edwards/2025-11-09/
LOCATION:Spring Street Gallery\, Spring Street\, Saratoga Springs\, NY\, 12866\, United States
ATTACH;FMTTYPE=image/png:https://theartsheet.org/wp-content/uploads/2025/10/Screenshot-2025-10-11-at-11.51.14-AM.png
ORGANIZER;CN="Belinda Colon":MAILTO:theartsheet@gmail.com
END:VEVENT
END:VCALENDAR