BEGIN:VCALENDAR
VERSION:2.0
PRODID:-// - ECPv6.15.20//NONSGML v1.0//EN
CALSCALE:GREGORIAN
METHOD:PUBLISH
X-ORIGINAL-URL:https://theartsheet.org
X-WR-CALDESC:Events for 
REFRESH-INTERVAL;VALUE=DURATION:PT1H
X-Robots-Tag:noindex
X-PUBLISHED-TTL:PT1H
BEGIN:VTIMEZONE
TZID:America/New_York
BEGIN:DAYLIGHT
TZOFFSETFROM:-0500
TZOFFSETTO:-0400
TZNAME:EDT
DTSTART:20250309T070000
END:DAYLIGHT
BEGIN:STANDARD
TZOFFSETFROM:-0400
TZOFFSETTO:-0500
TZNAME:EST
DTSTART:20251102T060000
END:STANDARD
BEGIN:DAYLIGHT
TZOFFSETFROM:-0500
TZOFFSETTO:-0400
TZNAME:EDT
DTSTART:20260308T070000
END:DAYLIGHT
BEGIN:STANDARD
TZOFFSETFROM:-0400
TZOFFSETTO:-0500
TZNAME:EST
DTSTART:20261101T060000
END:STANDARD
BEGIN:DAYLIGHT
TZOFFSETFROM:-0500
TZOFFSETTO:-0400
TZNAME:EDT
DTSTART:20270314T070000
END:DAYLIGHT
BEGIN:STANDARD
TZOFFSETFROM:-0400
TZOFFSETTO:-0500
TZNAME:EST
DTSTART:20271107T060000
END:STANDARD
END:VTIMEZONE
BEGIN:VEVENT
DTSTART;TZID=America/New_York:20260221T140000
DTEND;TZID=America/New_York:20260221T160000
DTSTAMP:20260423T201703
CREATED:20260121T181129Z
LAST-MODIFIED:20260121T181129Z
UID:10011064-1771682400-1771689600@theartsheet.org
SUMMARY:"This is America" Artist Talk - Marielena Ferrer
DESCRIPTION:Curated by Jaime Ransome and presented by the Woodstock School of Art (WSA)\, this four-part series takes place in the fall and winter of 2025–2026 in the WSA gallery. Each conversation centers on a Hudson Valley–based artist whose practice is deeply rooted in cultural and ancestral histories. Together\, their work reflects themes of migration\, identity\, belonging\, and resilience\, offering a pluralistic vision of American art as an ever-evolving form. \nThe series opens with Ransome\, whose layered collage work examines the history and future of The Great Migration both from and back to the American South\, illuminating African American histories of labor\, movement\, and spiritual continuity. Destiny Arianna\, an Afro-Indigenous artist\, creates immersive\, site-responsive installations that connect family memory with broader ancestral narratives. Carl Grauer transforms personal history into figurative paintings that turn abstract symbols into icons of queer identity and remembrance\, drawing on his own journey toward self-acceptance. Marielena Ferrer’s experimental sculptural practice—highlighted by her thesis work with poison ivy—draws a sharp\, poetic comparison between the ways humans affect the earth and how the earth\, in turn\, shapes us. Together\, these artists bring forward distinct voices and visions that\, when placed in dialogue\, reveal the complexity\, diversity\, and richness of American art today. \nFebruary 21 | 2:00 – 4:00pm
URL:https://theartsheet.org/event/this-is-america-artist-talk-marielena-ferrer/
LOCATION:Woodstock School of Art\, 2470 NY-212\, Woodstock\, NY\, 12498\, United States
ATTACH;FMTTYPE=image/png:https://theartsheet.org/wp-content/uploads/2026/01/Marielena-Ferrer.png
ORGANIZER;CN="Jaime Ransome":MAILTO:jransome.curation@gmail.com
END:VEVENT
END:VCALENDAR