BEGIN:VCALENDAR
VERSION:2.0
PRODID:-// - ECPv6.15.20//NONSGML v1.0//EN
CALSCALE:GREGORIAN
METHOD:PUBLISH
X-ORIGINAL-URL:https://theartsheet.org
X-WR-CALDESC:Events for 
REFRESH-INTERVAL;VALUE=DURATION:PT1H
X-Robots-Tag:noindex
X-PUBLISHED-TTL:PT1H
BEGIN:VTIMEZONE
TZID:America/New_York
BEGIN:DAYLIGHT
TZOFFSETFROM:-0500
TZOFFSETTO:-0400
TZNAME:EDT
DTSTART:20240310T070000
END:DAYLIGHT
BEGIN:STANDARD
TZOFFSETFROM:-0400
TZOFFSETTO:-0500
TZNAME:EST
DTSTART:20241103T060000
END:STANDARD
BEGIN:DAYLIGHT
TZOFFSETFROM:-0500
TZOFFSETTO:-0400
TZNAME:EDT
DTSTART:20250309T070000
END:DAYLIGHT
BEGIN:STANDARD
TZOFFSETFROM:-0400
TZOFFSETTO:-0500
TZNAME:EST
DTSTART:20251102T060000
END:STANDARD
BEGIN:DAYLIGHT
TZOFFSETFROM:-0500
TZOFFSETTO:-0400
TZNAME:EDT
DTSTART:20260308T070000
END:DAYLIGHT
BEGIN:STANDARD
TZOFFSETFROM:-0400
TZOFFSETTO:-0500
TZNAME:EST
DTSTART:20261101T060000
END:STANDARD
BEGIN:DAYLIGHT
TZOFFSETFROM:-0500
TZOFFSETTO:-0400
TZNAME:EDT
DTSTART:20270314T070000
END:DAYLIGHT
BEGIN:STANDARD
TZOFFSETFROM:-0400
TZOFFSETTO:-0500
TZNAME:EST
DTSTART:20271107T060000
END:STANDARD
END:VTIMEZONE
BEGIN:VEVENT
DTSTART;TZID=America/New_York:20260418T120000
DTEND;TZID=America/New_York:20260418T170000
DTSTAMP:20260423T152636
CREATED:20260411T154741Z
LAST-MODIFIED:20260411T154837Z
UID:10015163-1776513600-1776531600@theartsheet.org
SUMMARY:Plastique
DESCRIPTION:March 17 – April 18 Plastique \nAn exhibition of artists from Project Vortex\, an international collective of artists\, designers\, and architects actively focusing on the global problem of plastic pollution\, curated by Aurora Robson. Free and open to the public.
URL:https://theartsheet.org/event/plastique/2026-04-18/
LOCATION:Opalka Gallery\, The Sage Colleges\, 140 New Scotland Ave.\, Albany\, NY\, 12208\, United States
ATTACH;FMTTYPE=image/jpeg:https://theartsheet.org/wp-content/uploads/2026/02/PMunson_Future-Fossilsblue-0.jpg
ORGANIZER;CN="opalka gallery":MAILTO:opalka@sage.edu
END:VEVENT
BEGIN:VEVENT
DTSTART;TZID=America/New_York:20260411T140000
DTEND;TZID=America/New_York:20260411T150000
DTSTAMP:20260423T152636
CREATED:20260411T155516Z
LAST-MODIFIED:20260411T155516Z
UID:10015134-1775916000-1775919600@theartsheet.org
SUMMARY:An Afternoon of Jazz and Poetry Hosted by Stage & Stanza
DESCRIPTION:SAT April 11\, 2:00pm-3:00pm An Afternoon of Jazz and Poetry  \nHosted by Stage & Stanza host and poet Carol Durant with music from EW Duo.  \nMusic fully funded by the Music Performance Trust Fund and Local 14. Free and open to the public. April is Jazz Appreciation Month AND National Poetry Month–join Stage & Stanza host and poet Carol Durant for poetry readings interspersed with jazz from EW Duo.
URL:https://theartsheet.org/event/an-afternoon-of-jazz-and-poetry-hosted-by-stage-stanza/
LOCATION:Opalka Gallery\, The Sage Colleges\, 140 New Scotland Ave.\, Albany\, NY\, 12208\, United States
ATTACH;FMTTYPE=image/png:https://theartsheet.org/wp-content/uploads/2026/02/Stage-5-1.png
ORGANIZER;CN="opalka gallery":MAILTO:opalka@sage.edu
END:VEVENT
BEGIN:VEVENT
DTSTART;TZID=America/New_York:20260403T170000
DTEND;TZID=America/New_York:20260403T200000
DTSTAMP:20260423T152636
CREATED:20260411T155417Z
LAST-MODIFIED:20260411T155417Z
UID:10015133-1775235600-1775246400@theartsheet.org
SUMMARY:First Friday
DESCRIPTION:FRI April 3 First Friday 5:00-8:00pm open late for music by Andrew Mollica\, co-sponsored by the Music Performance Trust Fund\, arranged by Local 14. Free and open to the public.
URL:https://theartsheet.org/event/first-friday/
LOCATION:Opalka Gallery\, The Sage Colleges\, 140 New Scotland Ave.\, Albany\, NY\, 12208\, United States
ATTACH;FMTTYPE=image/jpeg:https://theartsheet.org/wp-content/uploads/2026/02/Andrew-Mollica_Musician-Profile-Photo-2.jpg
ORGANIZER;CN="opalka gallery":MAILTO:opalka@sage.edu
END:VEVENT
BEGIN:VEVENT
DTSTART;TZID=America/New_York:20260328T130000
DTEND;TZID=America/New_York:20260328T143000
DTSTAMP:20260423T152636
CREATED:20260411T155322Z
LAST-MODIFIED:20260411T155322Z
UID:10015132-1774702800-1774708200@theartsheet.org
SUMMARY:Kids’ Art Workshop
DESCRIPTION:SAT March 28 Kids’ Art Workshop 1:00-2:30pm. Led by RSC MAT Art Education students. Register for your free spot at https://docs.google.com/forms/d/e/1FAIpQLSdBcIRv4RkvzKrlWKRILTuyjqYJY6t5Hsi7wiqlYjzJk9L-Ew/viewform \nClass size limited.
URL:https://theartsheet.org/event/kids-art-workshop/
LOCATION:Opalka Gallery\, The Sage Colleges\, 140 New Scotland Ave.\, Albany\, NY\, 12208\, United States
ATTACH;FMTTYPE=image/jpeg:https://theartsheet.org/wp-content/uploads/2026/02/Kids-workshop-1-1-40.jpg
ORGANIZER;CN="opalka gallery":MAILTO:opalka@sage.edu
END:VEVENT
BEGIN:VEVENT
DTSTART;TZID=America/New_York:20260326T190000
DTEND;TZID=America/New_York:20260326T200000
DTSTAMP:20260423T152636
CREATED:20260411T155206Z
LAST-MODIFIED:20260411T155206Z
UID:10015131-1774551600-1774555200@theartsheet.org
SUMMARY:Talk with Judith Enck
DESCRIPTION:THURS March 26 Talk 7:00-8:00pm. Judith Enck\, president of Beyond Plastics and author of The Problem with Plastic: How We Can Save Ourselves and Our Planet Before It’s Too Late. Free and open to the public. For more information: Opalka.sage.edu/programs-events
URL:https://theartsheet.org/event/talk-with-judith-enck/
LOCATION:Opalka Gallery\, The Sage Colleges\, 140 New Scotland Ave.\, Albany\, NY\, 12208\, United States
ATTACH;FMTTYPE=image/jpeg:https://theartsheet.org/wp-content/uploads/2026/02/Judith-enck_25-10-22_SFF25_1722-1-scaled.jpg
ORGANIZER;CN="opalka gallery":MAILTO:opalka@sage.edu
END:VEVENT
BEGIN:VEVENT
DTSTART;TZID=America/New_York:20260228T183000
DTEND;TZID=America/New_York:20260228T210000
DTSTAMP:20260423T152636
CREATED:20251221T164236Z
LAST-MODIFIED:20251221T164236Z
UID:10010996-1772303400-1772312400@theartsheet.org
SUMMARY:Supper Club: Catered by First+Adams
DESCRIPTION:SAT Feb. 28 Supper Club 6:30pm-9:00pm Catered by First+Adams. Ticketed event. More information & tickets available at opalka.sage.edu.
URL:https://theartsheet.org/event/supper-club-catered-by-firstadams/
LOCATION:Opalka Gallery\, The Sage Colleges\, 140 New Scotland Ave.\, Albany\, NY\, 12208\, United States
ATTACH;FMTTYPE=image/jpeg:https://theartsheet.org/wp-content/uploads/2025/12/Bates-Supper-Club3-4.jpg
ORGANIZER;CN="opalka gallery":MAILTO:opalka@sage.edu
END:VEVENT
BEGIN:VEVENT
DTSTART;TZID=America/New_York:20260228T120000
DTEND;TZID=America/New_York:20260228T170000
DTSTAMP:20260423T152636
CREATED:20251221T162721Z
LAST-MODIFIED:20251221T162721Z
UID:10011025-1772280000-1772298000@theartsheet.org
SUMMARY:Barbara Todd: Undoings
DESCRIPTION:January 20 – February 28\, 2026  Barbara Todd: Undoings \nTroy-based Canadian textile artist Barbara Todd’s first regional solo exhibition
URL:https://theartsheet.org/event/barbara-todd-undoings/2026-02-28/
LOCATION:Opalka Gallery\, The Sage Colleges\, 140 New Scotland Ave.\, Albany\, NY\, 12208\, United States
ATTACH;FMTTYPE=image/jpeg:https://theartsheet.org/wp-content/uploads/2025/12/barbaratoddBC-placeholder-1.jpg
END:VEVENT
BEGIN:VEVENT
DTSTART;TZID=America/New_York:20260213T183000
DTEND;TZID=America/New_York:20260213T193000
DTSTAMP:20260423T152636
CREATED:20251221T163953Z
LAST-MODIFIED:20251221T163953Z
UID:10010995-1771007400-1771011000@theartsheet.org
SUMMARY:PechaKucha
DESCRIPTION:FRI Feb. 13 PechaKucha 6:30 snacks\, 7:00pm talks. Short talks by interesting people. Sponsored by Druthers.
URL:https://theartsheet.org/event/pechakucha-2/
LOCATION:Opalka Gallery\, The Sage Colleges\, 140 New Scotland Ave.\, Albany\, NY\, 12208\, United States
ATTACH;FMTTYPE=image/png:https://theartsheet.org/wp-content/uploads/2025/12/PechKucha-3.png
ORGANIZER;CN="opalka gallery":MAILTO:opalka@sage.edu
END:VEVENT
BEGIN:VEVENT
DTSTART;TZID=America/New_York:20260207T140000
DTEND;TZID=America/New_York:20260207T150000
DTSTAMP:20260423T152636
CREATED:20251221T163927Z
LAST-MODIFIED:20251221T163927Z
UID:10010994-1770472800-1770476400@theartsheet.org
SUMMARY:Talk: Rachel Dressler in conversation with Barbara Todd
DESCRIPTION:SAT Feb. 7\, Talk 2:00-3:00pm “The Bayeux Tapestry/Embroidery\,” Art historian Rachel Dressler in conversation with Barbara Todd
URL:https://theartsheet.org/event/talk-rachel-dressler-in-conversation-with-barbara-todd/
LOCATION:Opalka Gallery\, The Sage Colleges\, 140 New Scotland Ave.\, Albany\, NY\, 12208\, United States
ATTACH;FMTTYPE=image/jpeg:https://theartsheet.org/wp-content/uploads/2025/12/Bayeux-embroidery-with-book-of-original-scaled.jpeg
ORGANIZER;CN="opalka gallery":MAILTO:opalka@sage.edu
END:VEVENT
BEGIN:VEVENT
DTSTART;TZID=America/New_York:20260206T180000
DTEND;TZID=America/New_York:20260206T193000
DTSTAMP:20260423T152636
CREATED:20251221T163833Z
LAST-MODIFIED:20251221T163833Z
UID:10010993-1770400800-1770406200@theartsheet.org
SUMMARY:First Friday: Drop-in Mending/Knitting Bee
DESCRIPTION:FRI Feb 6  First Friday 6:00-7:30pm: Drop-in Mending/Knitting Bee with Barbara Todd.  \nBring your project!
URL:https://theartsheet.org/event/first-friday-drop-in-mending-knitting-bee/
LOCATION:Opalka Gallery\, The Sage Colleges\, 140 New Scotland Ave.\, Albany\, NY\, 12208\, United States
ATTACH;FMTTYPE=image/jpeg:https://theartsheet.org/wp-content/uploads/2025/12/embroidery-begins-at-Collar-Works-ex.-Reclamation.jpeg
ORGANIZER;CN="opalka gallery":MAILTO:opalka@sage.edu
END:VEVENT
BEGIN:VEVENT
DTSTART;TZID=America/New_York:20260131T140000
DTEND;TZID=America/New_York:20260131T150000
DTSTAMP:20260423T152636
CREATED:20251221T163323Z
LAST-MODIFIED:20251221T163323Z
UID:10010992-1769868000-1769871600@theartsheet.org
SUMMARY:Tour: Artists Terry Conrad & Barbara Todd
DESCRIPTION:SAT Jan. 31 Tour 2:00pm-3:00pm Artists Terry Conrad & Barbara Todd in conversation about Undoings
URL:https://theartsheet.org/event/tour-artists-terry-conrad-barbara-todd/
LOCATION:Opalka Gallery\, The Sage Colleges\, 140 New Scotland Ave.\, Albany\, NY\, 12208\, United States
ATTACH;FMTTYPE=image/jpeg:https://theartsheet.org/wp-content/uploads/2025/12/Security-Blanket.jpg
ORGANIZER;CN="opalka gallery":MAILTO:opalka@sage.edu
END:VEVENT
BEGIN:VEVENT
DTSTART;TZID=America/New_York:20260123T173000
DTEND;TZID=America/New_York:20260123T193000
DTSTAMP:20260423T152636
CREATED:20251221T163239Z
LAST-MODIFIED:20251221T163239Z
UID:10010991-1769189400-1769196600@theartsheet.org
SUMMARY:Reception of Undoings
DESCRIPTION:FRI Jan 23 Reception 5:30-7:30pm Celebrate the opening of Barbara Todd: Undoings!
URL:https://theartsheet.org/event/reception-of-undoings/
LOCATION:Opalka Gallery\, The Sage Colleges\, 140 New Scotland Ave.\, Albany\, NY\, 12208\, United States
ATTACH;FMTTYPE=image/jpeg:https://theartsheet.org/wp-content/uploads/2025/12/Barbara-Todd-with-Bayeux-Reimagined-detail-1.jpeg
ORGANIZER;CN="opalka gallery":MAILTO:opalka@sage.edu
END:VEVENT
BEGIN:VEVENT
DTSTART;TZID=America/New_York:20251207T140000
DTEND;TZID=America/New_York:20251207T160000
DTSTAMP:20260423T152636
CREATED:20251011T151655Z
LAST-MODIFIED:20251011T151655Z
UID:10010466-1765116000-1765123200@theartsheet.org
SUMMARY:Curator tour & closing reception of the 46th PhotoRegional.
DESCRIPTION:Tour the 46th PhotoRegional with the curators on the last day of the show.
URL:https://theartsheet.org/event/curator-tour-closing-reception-of-the-46th-photoregional/
LOCATION:Opalka Gallery\, The Sage Colleges\, 140 New Scotland Ave.\, Albany\, NY\, 12208\, United States
ATTACH;FMTTYPE=image/jpeg:https://theartsheet.org/wp-content/uploads/2025/10/horizontalOPA-PHO-2025-Concepts-V2_Page_4-1-1-scaled.jpg
ORGANIZER;CN="Opalk":MAILTO:opalka@sage.edu
END:VEVENT
BEGIN:VEVENT
DTSTART;TZID=America/New_York:20251206T120000
DTEND;TZID=America/New_York:20251206T170000
DTSTAMP:20260423T152636
CREATED:20251011T154216Z
LAST-MODIFIED:20251011T154516Z
UID:10010517-1765022400-1765040400@theartsheet.org
SUMMARY:The 46th PhotoRegional: Seeking New Landscapes 
DESCRIPTION:Oct. 28- Dec. 6 The 46th PhotoRegional: Seeking New Landscapes  \nKeeping with tradition\, Opalka hosts a curated PhotoRegional exhibition which focuses on more work from a select group of regional photographers\, invited this year by curators Corinne Botz and Sarah Sweeney. To keep this exhibition truly regional\, each of the invited artists live less than 100 miles from Albany in the counties of Columbia\, Dutchess\, Greene\, Orange\, Ulster\, and Saratoga. \nSweeney and Botz chose an intriguing mix of artists using photography in our region: Daesha Devón Harris\, Jordanna Kalman\, Jiatong Lu\, Victoria Manning\, Qiana Mestrich\, Shana and Robert ParkeHarrison\, Sayler/Morris\, Julia Weist\, Susan Wides\, Letha Wilson\, and Sara J Winston \nTHU Oct. 30\, 7:00pm\, Stage & Stanza\, hosted by poet Carol Durant and David Baecker of the Theater Institute at RSC. \nFRI Nov. 7\, 5:30- 7:30pm\, FIRST FRIDAY. Reception for PhotoRegional Exhibition. Music from The Alan Thomson Jazz Trio. \n  \nTHU Nov. 14 \, 6:30 snacks\, 7:00pm talks. PechaKucha\, Snacks from Druthers and Honest Weight Food Co-Op. \nFRI Dec. 5\, Gallery open until 8pm. FIRST FRIDAY\, Music from Az Iz\, co-sponsored by the Music Performance Trust Fund\, arranged by Local 14.
URL:https://theartsheet.org/event/the-46th-photoregional-seeking-new-landscapes/2025-12-06/
LOCATION:Opalka Gallery\, The Sage Colleges\, 140 New Scotland Ave.\, Albany\, NY\, 12208\, United States
ATTACH;FMTTYPE=image/png:https://theartsheet.org/wp-content/uploads/2025/10/Screenshot-2025-10-11-at-11.39.32-AM-scaled.png
END:VEVENT
BEGIN:VEVENT
DTSTART;TZID=America/New_York:20251205T180000
DTEND;TZID=America/New_York:20251205T190000
DTSTAMP:20260423T152636
CREATED:20251018T152701Z
LAST-MODIFIED:20251018T152701Z
UID:10010868-1764957600-1764961200@theartsheet.org
SUMMARY:Music from Az Iz
DESCRIPTION:First Friday\, Music from Az Iz\, 6:00-7:00 pm\, co-sponsored by the Music Performance Trust Fund\, arranged by Local 14.  \nGallery open until 8:00pm.
URL:https://theartsheet.org/event/music-from-az-iz/
LOCATION:Opalka Gallery\, The Sage Colleges\, 140 New Scotland Ave.\, Albany\, NY\, 12208\, United States
ATTACH;FMTTYPE=image/jpeg:https://theartsheet.org/wp-content/uploads/2025/10/First-Friday_AZ-IZ.jpeg
ORGANIZER;CN="opalka gallery":MAILTO:opalka@sage.edu
END:VEVENT
BEGIN:VEVENT
DTSTART;TZID=America/New_York:20251114T183000
DTEND;TZID=America/New_York:20251114T203000
DTSTAMP:20260423T152636
CREATED:20251018T152440Z
LAST-MODIFIED:20251018T152440Z
UID:10010867-1763145000-1763152200@theartsheet.org
SUMMARY:PechaKucha
DESCRIPTION:PechaKucha\,  \n6:30 snacks\,Snacks from Druthers and Honest Weight Food Co-Op.  \n7:00pm-8:30pm talks. 
URL:https://theartsheet.org/event/pechakucha/
LOCATION:Opalka Gallery\, The Sage Colleges\, 140 New Scotland Ave.\, Albany\, NY\, 12208\, United States
ATTACH;FMTTYPE=image/jpeg:https://theartsheet.org/wp-content/uploads/2025/10/PechKucha.jpg
ORGANIZER;CN="opalka gallery":MAILTO:opalka@sage.edu
END:VEVENT
BEGIN:VEVENT
DTSTART;TZID=America/New_York:20251107T173000
DTEND;TZID=America/New_York:20251107T193000
DTSTAMP:20260423T152636
CREATED:20251018T152243Z
LAST-MODIFIED:20251018T152243Z
UID:10010866-1762536600-1762543800@theartsheet.org
SUMMARY:Reception for 46th PhotoRegional Exhibition.
DESCRIPTION:FRI Nov. 7\,  FIRST FRIDAY\, 5:30- 7:30pm\, Reception for 46th PhotoRegional Exhibition.  \nMusic from The Alan Thomson Jazz Trio.
URL:https://theartsheet.org/event/reception-for-46th-photoregional-exhibition/
LOCATION:Opalka Gallery\, The Sage Colleges\, 140 New Scotland Ave.\, Albany\, NY\, 12208\, United States
ATTACH;FMTTYPE=image/jpeg:https://theartsheet.org/wp-content/uploads/2025/10/horizontalOPA-PHO-2025-Concepts-V2_Page_4-1-2-scaled.jpg
ORGANIZER;CN="opalka gallery":MAILTO:opalka@sage.edu
END:VEVENT
BEGIN:VEVENT
DTSTART;TZID=America/New_York:20251030T190000
DTEND;TZID=America/New_York:20251030T200000
DTSTAMP:20260423T152636
CREATED:20251018T152023Z
LAST-MODIFIED:20251018T152023Z
UID:10010865-1761850800-1761854400@theartsheet.org
SUMMARY:Stage & Stanza
DESCRIPTION:THU Oct. 30\, 7:00pm\nStage & Stanza\, hosted by poet Carol Durant and David Baecker of the Theater Institute at RSC.
URL:https://theartsheet.org/event/stage-stanza/
LOCATION:Opalka Gallery\, The Sage Colleges\, 140 New Scotland Ave.\, Albany\, NY\, 12208\, United States
ATTACH;FMTTYPE=image/jpeg:https://theartsheet.org/wp-content/uploads/2025/10/Stage-Stanza.jpg
ORGANIZER;CN="opalka gallery":MAILTO:opalka@sage.edu
END:VEVENT
END:VCALENDAR