BEGIN:VCALENDAR
VERSION:2.0
PRODID:-// - ECPv6.15.20//NONSGML v1.0//EN
CALSCALE:GREGORIAN
METHOD:PUBLISH
X-ORIGINAL-URL:https://theartsheet.org
X-WR-CALDESC:Events for 
REFRESH-INTERVAL;VALUE=DURATION:PT1H
X-Robots-Tag:noindex
X-PUBLISHED-TTL:PT1H
BEGIN:VTIMEZONE
TZID:America/New_York
BEGIN:DAYLIGHT
TZOFFSETFROM:-0500
TZOFFSETTO:-0400
TZNAME:EDT
DTSTART:20240310T070000
END:DAYLIGHT
BEGIN:STANDARD
TZOFFSETFROM:-0400
TZOFFSETTO:-0500
TZNAME:EST
DTSTART:20241103T060000
END:STANDARD
BEGIN:DAYLIGHT
TZOFFSETFROM:-0500
TZOFFSETTO:-0400
TZNAME:EDT
DTSTART:20250309T070000
END:DAYLIGHT
BEGIN:STANDARD
TZOFFSETFROM:-0400
TZOFFSETTO:-0500
TZNAME:EST
DTSTART:20251102T060000
END:STANDARD
BEGIN:DAYLIGHT
TZOFFSETFROM:-0500
TZOFFSETTO:-0400
TZNAME:EDT
DTSTART:20260308T070000
END:DAYLIGHT
BEGIN:STANDARD
TZOFFSETFROM:-0400
TZOFFSETTO:-0500
TZNAME:EST
DTSTART:20261101T060000
END:STANDARD
END:VTIMEZONE
BEGIN:VEVENT
DTSTART;TZID=America/New_York:20251231T100000
DTEND;TZID=America/New_York:20251231T170000
DTSTAMP:20260423T201701
CREATED:20251012T154119Z
LAST-MODIFIED:20251012T154119Z
UID:10010796-1767175200-1767200400@theartsheet.org
SUMMARY:For Liberation and For Life: The Legacy of Black Dimensions in Art
DESCRIPTION:For Liberation and For Life: The Legacy of Black Dimensions in Art\, opening August 23- December 31 2025 \nFor Liberation and For Life celebrates the 50th anniversary of Black Dimensions in Art\, Inc. (BDA)—a volunteer-led group of creatives and activists founded in Schenectady in 1975. BDA presents this exhibition in partnership with the Albany Institute\, which hosted the organization’s first major museum show—Black Artists in Historical Perspective—in 1976. For five decades\, BDA has uplifted the art and artists of the African Diaspora through exhibitions\, workshops\, and programs throughout New York’s Capital Region\, creating vital platforms for Black artists across generations.\n\n\nWednesday: 10AM–5PM\nThursday: 10AM–5PM\nFriday: 10AM–5PM\nSaturday: 10AM–5PM\nSunday: 12–5PM
URL:https://theartsheet.org/event/for-liberation-and-for-life-the-legacy-of-black-dimensions-in-art/2025-12-31/
LOCATION:Albany Institute of History & Art\, 125 Washington Avenue\, Albany\, NY\, 12210\, United States
ATTACH;FMTTYPE=image/png:https://theartsheet.org/wp-content/uploads/2025/10/Screenshot-2025-10-12-at-11.35.08-AM.png
END:VEVENT
BEGIN:VEVENT
DTSTART;TZID=America/New_York:20251231T100000
DTEND;TZID=America/New_York:20251231T170000
DTSTAMP:20260423T201701
CREATED:20251012T153352Z
LAST-MODIFIED:20251012T153352Z
UID:10010703-1767175200-1767200400@theartsheet.org
SUMMARY:Jacob Lawrence: Three Series of Prints
DESCRIPTION:Jacob Lawrence: Three Series of Prints ✨ \nOne of the most celebrated artists of the twentieth century\, Jacob Lawrence brought bold color\, powerful storytelling\, and historical depth to his graphic work. The exhibition features three of Lawrence’s most important print series—Genesis\, Toussaint L’Ouverture\, and Hiroshima—and marks a rare opportunity to experience the artist’s work in Albany. \nOrganized by Landau Traveling Exhibitions and curated by Peter Nesbett\, the exhibition is on view September 6–December 31\, 2025. \n\nWednesday: 10AM–5PM\nThursday: 10AM–5PM\nFriday: 10AM–5PM\nSaturday: 10AM–5PM\nSunday: 12–5PM
URL:https://theartsheet.org/event/jacob-lawrence-three-series-of-prints/2025-12-31/
LOCATION:Albany Institute of History & Art\, 125 Washington Avenue\, Albany\, NY\, 12210\, United States
ATTACH;FMTTYPE=image/png:https://theartsheet.org/wp-content/uploads/2025/10/Screenshot-2025-10-12-at-11.29.16-AM.png
END:VEVENT
BEGIN:VEVENT
DTSTART;TZID=America/New_York:20251026T140000
DTEND;TZID=America/New_York:20251026T153000
DTSTAMP:20260423T201701
CREATED:20251012T162229Z
LAST-MODIFIED:20251012T162229Z
UID:10010846-1761487200-1761492600@theartsheet.org
SUMMARY:Norman S. Rice Memorial Lecture | It’s All in the Details
DESCRIPTION:It’s All in the Details: Furniture of the Empire State 1680–1980 by historian John L. Scherer will explore the evolution of New York furniture over three centuries—from refined creations by master craftsmen like Duncan Phyfe to the vernacular traditions of rural makers\, with select highlights from the Albany Institute’s collection on view during the talk. \n🗓️ Sunday\, October 26 at 2PM—free with admission\, followed by a reception \nThe Norman S. Rice Memorial Lecture honors the former Director’s legacy of collecting\, preservation\, and scholarship\, and his decades of dedication to sharing the richness of New York’s cultural heritage.
URL:https://theartsheet.org/event/norman-s-rice-memorial-lecture-its-all-in-the-details/
LOCATION:Albany Institute of History & Art\, 125 Washington Avenue\, Albany\, NY\, 12210\, United States
ATTACH;FMTTYPE=image/png:https://theartsheet.org/wp-content/uploads/2025/10/Screenshot-2025-10-12-at-12.11.12-PM.png
END:VEVENT
END:VCALENDAR