BEGIN:VCALENDAR
VERSION:2.0
PRODID:-// - ECPv6.15.20//NONSGML v1.0//EN
CALSCALE:GREGORIAN
METHOD:PUBLISH
X-ORIGINAL-URL:https://theartsheet.org
X-WR-CALDESC:Events for 
REFRESH-INTERVAL;VALUE=DURATION:PT1H
X-Robots-Tag:noindex
X-PUBLISHED-TTL:PT1H
BEGIN:VTIMEZONE
TZID:America/New_York
BEGIN:DAYLIGHT
TZOFFSETFROM:-0500
TZOFFSETTO:-0400
TZNAME:EDT
DTSTART:20240310T070000
END:DAYLIGHT
BEGIN:STANDARD
TZOFFSETFROM:-0400
TZOFFSETTO:-0500
TZNAME:EST
DTSTART:20241103T060000
END:STANDARD
BEGIN:DAYLIGHT
TZOFFSETFROM:-0500
TZOFFSETTO:-0400
TZNAME:EDT
DTSTART:20250309T070000
END:DAYLIGHT
BEGIN:STANDARD
TZOFFSETFROM:-0400
TZOFFSETTO:-0500
TZNAME:EST
DTSTART:20251102T060000
END:STANDARD
BEGIN:DAYLIGHT
TZOFFSETFROM:-0500
TZOFFSETTO:-0400
TZNAME:EDT
DTSTART:20260308T070000
END:DAYLIGHT
BEGIN:STANDARD
TZOFFSETFROM:-0400
TZOFFSETTO:-0500
TZNAME:EST
DTSTART:20261101T060000
END:STANDARD
END:VTIMEZONE
BEGIN:VEVENT
DTSTART;TZID=America/New_York:20251116T110000
DTEND;TZID=America/New_York:20251116T170000
DTSTAMP:20260423T215616
CREATED:20251018T154641Z
LAST-MODIFIED:20251018T154641Z
UID:10010914-1763290800-1763312400@theartsheet.org
SUMMARY:Objects of Affection
DESCRIPTION:Carrie Haddad Gallery is pleased to present “Objects of Affection”\, a group exhibit featuring new works by Alaina Enslen\, David Halliday\, Ash King\, Jenny Nelson\, and David Sokosh. Through still life and assemblage\, created with a range of media\, the artists explore the emotive and symbolic qualities of everyday objects. By focusing on both the materiality and deeper meaning behind these subjects\, they invite the viewer to reconsider the significance of the ordinary. \nThe show is on view September 26 – November 16\, with an opening reception on Saturday\, September 27th\, 5-7pm. All are welcome to attend.
URL:https://theartsheet.org/event/objects-of-affection/2025-11-16/
LOCATION:Carrie Haddad Gallery\, 622 Warren St\, Hudson\, NY\, 12534\, United States
ATTACH;FMTTYPE=image/png:https://theartsheet.org/wp-content/uploads/2025/10/Screenshot-2025-10-18-at-11.42.27-AM.png
END:VEVENT
END:VCALENDAR