BEGIN:VCALENDAR
VERSION:2.0
PRODID:-// - ECPv6.15.20//NONSGML v1.0//EN
CALSCALE:GREGORIAN
METHOD:PUBLISH
X-ORIGINAL-URL:https://theartsheet.org
X-WR-CALDESC:Events for 
REFRESH-INTERVAL;VALUE=DURATION:PT1H
X-Robots-Tag:noindex
X-PUBLISHED-TTL:PT1H
BEGIN:VTIMEZONE
TZID:America/New_York
BEGIN:DAYLIGHT
TZOFFSETFROM:-0500
TZOFFSETTO:-0400
TZNAME:EDT
DTSTART:20240310T070000
END:DAYLIGHT
BEGIN:STANDARD
TZOFFSETFROM:-0400
TZOFFSETTO:-0500
TZNAME:EST
DTSTART:20241103T060000
END:STANDARD
BEGIN:DAYLIGHT
TZOFFSETFROM:-0500
TZOFFSETTO:-0400
TZNAME:EDT
DTSTART:20250309T070000
END:DAYLIGHT
BEGIN:STANDARD
TZOFFSETFROM:-0400
TZOFFSETTO:-0500
TZNAME:EST
DTSTART:20251102T060000
END:STANDARD
BEGIN:DAYLIGHT
TZOFFSETFROM:-0500
TZOFFSETTO:-0400
TZNAME:EDT
DTSTART:20260308T070000
END:DAYLIGHT
BEGIN:STANDARD
TZOFFSETFROM:-0400
TZOFFSETTO:-0500
TZNAME:EST
DTSTART:20261101T060000
END:STANDARD
END:VTIMEZONE
BEGIN:VEVENT
DTSTART;TZID=America/New_York:20251205T100000
DTEND;TZID=America/New_York:20251205T160000
DTSTAMP:20260423T200912
CREATED:20251122T172559Z
LAST-MODIFIED:20251122T172559Z
UID:10010965-1764928800-1764950400@theartsheet.org
SUMMARY:Frankenstein’s Paradise by Eli Thorn
DESCRIPTION:Frankenstein’s Paradise\, featuring new works by Eli Thorne at FLOCKart located at Collar Works’ Art Yard at 206 1st St Troy. \nFrankenstein’s Paradise collects recent paintings and sculptures by the artist Eli Thorne. Exploring imagined terrains that transcend time and place\, Thorne’s works trouble the categories of natural versus monstrous\, outsider versus insider. The exhibition understands the process of identity formation as assemblage\, a Frankensteinian process of self-becoming. \nOctober 11 – December 5
URL:https://theartsheet.org/event/frankensteins-paradise-by-eli-thorn/2025-12-05/
LOCATION:FLOCKart\, 206 1st St\, Troy\, NY\, 12180\, United States
ATTACH;FMTTYPE=image/png:https://theartsheet.org/wp-content/uploads/2025/11/Screenshot-2025-11-22-at-12.24.22-PM.png
END:VEVENT
END:VCALENDAR