BEGIN:VCALENDAR
VERSION:2.0
PRODID:-// - ECPv6.15.20//NONSGML v1.0//EN
CALSCALE:GREGORIAN
METHOD:PUBLISH
X-ORIGINAL-URL:https://theartsheet.org
X-WR-CALDESC:Events for 
REFRESH-INTERVAL;VALUE=DURATION:PT1H
X-Robots-Tag:noindex
X-PUBLISHED-TTL:PT1H
BEGIN:VTIMEZONE
TZID:America/New_York
BEGIN:DAYLIGHT
TZOFFSETFROM:-0500
TZOFFSETTO:-0400
TZNAME:EDT
DTSTART:20250309T070000
END:DAYLIGHT
BEGIN:STANDARD
TZOFFSETFROM:-0400
TZOFFSETTO:-0500
TZNAME:EST
DTSTART:20251102T060000
END:STANDARD
BEGIN:DAYLIGHT
TZOFFSETFROM:-0500
TZOFFSETTO:-0400
TZNAME:EDT
DTSTART:20260308T070000
END:DAYLIGHT
BEGIN:STANDARD
TZOFFSETFROM:-0400
TZOFFSETTO:-0500
TZNAME:EST
DTSTART:20261101T060000
END:STANDARD
BEGIN:DAYLIGHT
TZOFFSETFROM:-0500
TZOFFSETTO:-0400
TZNAME:EDT
DTSTART:20270314T070000
END:DAYLIGHT
BEGIN:STANDARD
TZOFFSETFROM:-0400
TZOFFSETTO:-0500
TZNAME:EST
DTSTART:20271107T060000
END:STANDARD
END:VTIMEZONE
BEGIN:VEVENT
DTSTART;TZID=America/New_York:20260111T120000
DTEND;TZID=America/New_York:20260111T170000
DTSTAMP:20260423T194800
CREATED:20251221T165022Z
LAST-MODIFIED:20251221T165218Z
UID:10011047-1768132800-1768150800@theartsheet.org
SUMMARY:14th Annual Upstate Artists
DESCRIPTION:The Laffer Gallery proudly presents the 14th Annual Upstate Artists Exhibition\, a yearly showcase celebrating the depth and diversity of contemporary art across our region. Juried by Terry and Carl DeBrule\, this exhibition features selected work from a record 147 submissions\, representing a wide range of mediums\, styles\, and creative voices. \nDecember 6\, 2025 to January 11\, 2026
URL:https://theartsheet.org/event/14th-annual-upstate-artists/2026-01-11/
LOCATION:Laffers Gallery\, 96 Broad Street\, Schuylerville\, NY\, 12871\, United States
ATTACH;FMTTYPE=image/png:https://theartsheet.org/wp-content/uploads/2025/12/Screenshot-2025-12-21-at-11.46.53-AM.png
END:VEVENT
END:VCALENDAR