BEGIN:VCALENDAR
VERSION:2.0
PRODID:-// - ECPv6.15.20//NONSGML v1.0//EN
CALSCALE:GREGORIAN
METHOD:PUBLISH
X-ORIGINAL-URL:https://theartsheet.org
X-WR-CALDESC:Events for 
REFRESH-INTERVAL;VALUE=DURATION:PT1H
X-Robots-Tag:noindex
X-PUBLISHED-TTL:PT1H
BEGIN:VTIMEZONE
TZID:America/New_York
BEGIN:DAYLIGHT
TZOFFSETFROM:-0500
TZOFFSETTO:-0400
TZNAME:EDT
DTSTART:20240310T070000
END:DAYLIGHT
BEGIN:STANDARD
TZOFFSETFROM:-0400
TZOFFSETTO:-0500
TZNAME:EST
DTSTART:20241103T060000
END:STANDARD
BEGIN:DAYLIGHT
TZOFFSETFROM:-0500
TZOFFSETTO:-0400
TZNAME:EDT
DTSTART:20250309T070000
END:DAYLIGHT
BEGIN:STANDARD
TZOFFSETFROM:-0400
TZOFFSETTO:-0500
TZNAME:EST
DTSTART:20251102T060000
END:STANDARD
BEGIN:DAYLIGHT
TZOFFSETFROM:-0500
TZOFFSETTO:-0400
TZNAME:EDT
DTSTART:20260308T070000
END:DAYLIGHT
BEGIN:STANDARD
TZOFFSETFROM:-0400
TZOFFSETTO:-0500
TZNAME:EST
DTSTART:20261101T060000
END:STANDARD
END:VTIMEZONE
BEGIN:VEVENT
DTSTART;TZID=America/New_York:20251025T120000
DTEND;TZID=America/New_York:20251025T170000
DTSTAMP:20260424T005837
CREATED:20251012T155714Z
LAST-MODIFIED:20251012T155714Z
UID:10010824-1761393600-1761411600@theartsheet.org
SUMMARY:Artists invite Artists: It’s in Our Nature
DESCRIPTION:September 10 through October 25\, 2025\nThe nature of its material is central to the understanding of a sculpture. – Rebecca Smith \nThe artworks in this exhibition pay homage to both the intricacies of nature as muse and the diverse range of artistic interpretations. Eleven artists chose artists whose work aligns with the incorporation of nature as a subject\, and\, frequently\, as a medium. \nThe artists use words such as fluid\, regenerative\, porous\, and fragile to describe works constructed with wool\, wood\, live succulents\, and fungus. \nGallery Hours:\nWednesday – Friday: 12 – 5pm\n& Saturdays 12 – 4pm
URL:https://theartsheet.org/event/artists-invite-artists-its-in-our-nature/2025-10-25/
LOCATION:Lake George Art Project\, 1 Amherst Street\, Lake George\, NY\, 12845\, United States
ATTACH;FMTTYPE=image/png:https://theartsheet.org/wp-content/uploads/2025/10/Screenshot-2025-10-12-at-11.49.22-AM.png
END:VEVENT
END:VCALENDAR