BEGIN:VCALENDAR
VERSION:2.0
PRODID:-// - ECPv6.15.20//NONSGML v1.0//EN
CALSCALE:GREGORIAN
METHOD:PUBLISH
X-ORIGINAL-URL:https://theartsheet.org
X-WR-CALDESC:Events for 
REFRESH-INTERVAL;VALUE=DURATION:PT1H
X-Robots-Tag:noindex
X-PUBLISHED-TTL:PT1H
BEGIN:VTIMEZONE
TZID:America/New_York
BEGIN:DAYLIGHT
TZOFFSETFROM:-0500
TZOFFSETTO:-0400
TZNAME:EDT
DTSTART:20240310T070000
END:DAYLIGHT
BEGIN:STANDARD
TZOFFSETFROM:-0400
TZOFFSETTO:-0500
TZNAME:EST
DTSTART:20241103T060000
END:STANDARD
BEGIN:DAYLIGHT
TZOFFSETFROM:-0500
TZOFFSETTO:-0400
TZNAME:EDT
DTSTART:20250309T070000
END:DAYLIGHT
BEGIN:STANDARD
TZOFFSETFROM:-0400
TZOFFSETTO:-0500
TZNAME:EST
DTSTART:20251102T060000
END:STANDARD
BEGIN:DAYLIGHT
TZOFFSETFROM:-0500
TZOFFSETTO:-0400
TZNAME:EDT
DTSTART:20260308T070000
END:DAYLIGHT
BEGIN:STANDARD
TZOFFSETFROM:-0400
TZOFFSETTO:-0500
TZNAME:EST
DTSTART:20261101T060000
END:STANDARD
END:VTIMEZONE
BEGIN:VEVENT
DTSTART;TZID=America/New_York:20251102T110000
DTEND;TZID=America/New_York:20251102T180000
DTSTAMP:20260423T215454
CREATED:20251012T152023Z
LAST-MODIFIED:20251012T152023Z
UID:10010620-1762081200-1762106400@theartsheet.org
SUMMARY:“Rhythm\, Fission\, and Folds”
DESCRIPTION:“Rhythm\, Fission\, and Folds” brings together paintings and sculptural works that explore transformation through time: how the ruffles of cloth record a shifting state of mind\, the psychological tension between notes of a song\, and how discarded materials\, stripped of their original function\, take on new identities with their own subjectivity. The title hints at urgency\, tension\, and harmony within the works—both thematically and visually. \nShowcasing both local and international artists\, the presentation includes works by Damilola Ajegbomogun\, J.C. Hopkins\, Rina Kim\, Precious Eboigbodin\, and Rebecca Stern. The exhibition will be on view from September 5 through November 5\, with an opening reception on Friday\, September 5\, at 6:00 PM. \n\n\nSeptember 5 – November 5\, 2025 \n\n\nHours:  \nFriday 11am-6pm \nSaturday noon-8pm \nSunday 11am-6pm
URL:https://theartsheet.org/event/rhythm-fission-and-folds/2025-11-02/
LOCATION:Rohmer Gallery\, 84 Partition Street\, Saugerties\, NY\, 12477\, United States
ATTACH;FMTTYPE=image/png:https://theartsheet.org/wp-content/uploads/2025/10/Screenshot-2025-10-12-at-11.10.04-AM.png
END:VEVENT
END:VCALENDAR