BEGIN:VCALENDAR
VERSION:2.0
PRODID:-// - ECPv6.15.20//NONSGML v1.0//EN
CALSCALE:GREGORIAN
METHOD:PUBLISH
X-ORIGINAL-URL:https://theartsheet.org
X-WR-CALDESC:Events for 
REFRESH-INTERVAL;VALUE=DURATION:PT1H
X-Robots-Tag:noindex
X-PUBLISHED-TTL:PT1H
BEGIN:VTIMEZONE
TZID:America/New_York
BEGIN:DAYLIGHT
TZOFFSETFROM:-0500
TZOFFSETTO:-0400
TZNAME:EDT
DTSTART:20240310T070000
END:DAYLIGHT
BEGIN:STANDARD
TZOFFSETFROM:-0400
TZOFFSETTO:-0500
TZNAME:EST
DTSTART:20241103T060000
END:STANDARD
BEGIN:DAYLIGHT
TZOFFSETFROM:-0500
TZOFFSETTO:-0400
TZNAME:EDT
DTSTART:20250309T070000
END:DAYLIGHT
BEGIN:STANDARD
TZOFFSETFROM:-0400
TZOFFSETTO:-0500
TZNAME:EST
DTSTART:20251102T060000
END:STANDARD
BEGIN:DAYLIGHT
TZOFFSETFROM:-0500
TZOFFSETTO:-0400
TZNAME:EDT
DTSTART:20260308T070000
END:DAYLIGHT
BEGIN:STANDARD
TZOFFSETFROM:-0400
TZOFFSETTO:-0500
TZNAME:EST
DTSTART:20261101T060000
END:STANDARD
END:VTIMEZONE
BEGIN:VEVENT
DTSTART;TZID=America/New_York:20251130T110000
DTEND;TZID=America/New_York:20251130T170000
DTSTAMP:20260423T194724
CREATED:20250702T050337Z
LAST-MODIFIED:20250803T155949Z
UID:10007002-1764500400-1764522000@theartsheet.org
SUMMARY:TREES NEVER END AND HOUSES NEVER END
DESCRIPTION:Sky High Farm is pleased to announce its inaugural biennial\, TREES NEVER END AND HOUSES NEVER END\, a site-specific exhibition exploring the relationship between local ecology\, history\, and industry in the Hudson River Valley and its connection to New York City. On view from June 28 through Fall 2025 in a historic apple cold storage warehouse along the Hudson River in Germantown\, NY\, the exhibition marks the beginning of a new chapter for Sky High Farm as we expand onto a new 560-acre farm. \nThe biennial brings together more than 50 artists from around the world\, including Anne Imhof\, Felix Gonzalez-Torres\, Tschabalala Self\, Rudolf Stingel\, Ben Wigfall and Communications Village\, and Rirkrit Tiravanija to explore themes close to Sky High Farm’s work at the intersection of climate\, agriculture\, food access and education. The artists participating in the biennial intend to donate a portion of any sale proceeds to Sky High Farm. \nFREE AND OPEN TO EVERYONE! \nJune 29th-Fall 2025 \nFridays\, Saturdays and Sundays 11-5pm
URL:https://theartsheet.org/event/trees-never-end-and-houses-never-end/2025-11-30/
LOCATION:Sky High Farm\, 675 Hall Hill Rd\, Pine Plains\, NY\, 12567\, United States
ATTACH;FMTTYPE=image/webp:https://theartsheet.org/wp-content/uploads/2025/07/sky-high-farms.webp
END:VEVENT
END:VCALENDAR