BEGIN:VCALENDAR
VERSION:2.0
PRODID:-// - ECPv6.15.20//NONSGML v1.0//EN
CALSCALE:GREGORIAN
METHOD:PUBLISH
X-ORIGINAL-URL:https://theartsheet.org
X-WR-CALDESC:Events for 
REFRESH-INTERVAL;VALUE=DURATION:PT1H
X-Robots-Tag:noindex
X-PUBLISHED-TTL:PT1H
BEGIN:VTIMEZONE
TZID:America/New_York
BEGIN:DAYLIGHT
TZOFFSETFROM:-0500
TZOFFSETTO:-0400
TZNAME:EDT
DTSTART:20250309T070000
END:DAYLIGHT
BEGIN:STANDARD
TZOFFSETFROM:-0400
TZOFFSETTO:-0500
TZNAME:EST
DTSTART:20251102T060000
END:STANDARD
BEGIN:DAYLIGHT
TZOFFSETFROM:-0500
TZOFFSETTO:-0400
TZNAME:EDT
DTSTART:20260308T070000
END:DAYLIGHT
BEGIN:STANDARD
TZOFFSETFROM:-0400
TZOFFSETTO:-0500
TZNAME:EST
DTSTART:20261101T060000
END:STANDARD
BEGIN:DAYLIGHT
TZOFFSETFROM:-0500
TZOFFSETTO:-0400
TZNAME:EDT
DTSTART:20270314T070000
END:DAYLIGHT
BEGIN:STANDARD
TZOFFSETFROM:-0400
TZOFFSETTO:-0500
TZNAME:EST
DTSTART:20271107T060000
END:STANDARD
END:VTIMEZONE
BEGIN:VEVENT
DTSTART;TZID=America/New_York:20260423T120000
DTEND;TZID=America/New_York:20260423T170000
DTSTAMP:20260423T153441
CREATED:20250723T225312Z
LAST-MODIFIED:20250723T225312Z
UID:10009123-1776945600-1776963600@theartsheet.org
SUMMARY:All These Growing Things by The Tang
DESCRIPTION:All These Growing Things presents contemporary and historical paintings\, prints\, textiles\, photography\, and sculpture from the Tang Museum collection that explore questions of becoming and belonging. It will examine connections to personal\, ancestral\, and cultural histories; masking as an approach to both reveal and conceal identities; and the possibilities of transformation. How do we grow as individuals\, in relationships\, and alongside the communities to which we belong? How do we grow with or against the natural world\, and what will become of human-animal-plant connections in the future? In a museum\, how does a collection of artwork grow in conversation with urgent issues in our communities?
URL:https://theartsheet.org/event/all-these-growing-things-by-the-tang/2026-04-23/
LOCATION:Tang Teaching Museum & Art Gallery\, 815 N Broadway\, Saratoga Springs\, NY\, 12866\, United States
ATTACH;FMTTYPE=image/png:https://theartsheet.org/wp-content/uploads/2025/07/Screen-Shot-2025-07-23-at-6.47.46-PM.png
END:VEVENT
END:VCALENDAR