BEGIN:VCALENDAR
VERSION:2.0
PRODID:-// - ECPv6.15.20//NONSGML v1.0//EN
CALSCALE:GREGORIAN
METHOD:PUBLISH
X-ORIGINAL-URL:https://theartsheet.org
X-WR-CALDESC:Events for 
REFRESH-INTERVAL;VALUE=DURATION:PT1H
X-Robots-Tag:noindex
X-PUBLISHED-TTL:PT1H
BEGIN:VTIMEZONE
TZID:America/New_York
BEGIN:DAYLIGHT
TZOFFSETFROM:-0500
TZOFFSETTO:-0400
TZNAME:EDT
DTSTART:20240310T070000
END:DAYLIGHT
BEGIN:STANDARD
TZOFFSETFROM:-0400
TZOFFSETTO:-0500
TZNAME:EST
DTSTART:20241103T060000
END:STANDARD
BEGIN:DAYLIGHT
TZOFFSETFROM:-0500
TZOFFSETTO:-0400
TZNAME:EDT
DTSTART:20250309T070000
END:DAYLIGHT
BEGIN:STANDARD
TZOFFSETFROM:-0400
TZOFFSETTO:-0500
TZNAME:EST
DTSTART:20251102T060000
END:STANDARD
BEGIN:DAYLIGHT
TZOFFSETFROM:-0500
TZOFFSETTO:-0400
TZNAME:EDT
DTSTART:20260308T070000
END:DAYLIGHT
BEGIN:STANDARD
TZOFFSETFROM:-0400
TZOFFSETTO:-0500
TZNAME:EST
DTSTART:20261101T060000
END:STANDARD
END:VTIMEZONE
BEGIN:VEVENT
DTSTART;TZID=America/New_York:20251101T120000
DTEND;TZID=America/New_York:20251101T180000
DTSTAMP:20260423T234008
CREATED:20251012T160708Z
LAST-MODIFIED:20251012T161044Z
UID:10010845-1761998400-1762020000@theartsheet.org
SUMMARY:Littles\, a small works exhibit
DESCRIPTION:The Blooming Artist Gallery & Instruction presents Littles\, a small works exhibit \nGood things come in small packages–and this exhibition proves it. This collection features the petite works of all local artists. All 2D artwork is framed and all artwork\, both 2D & 3D\, has maximum dimensions of 9″ x 12″. With an array of mediums\, subjects\, and styles\, expect to find a work that calls to you! \nON EXHIBIT October 01 – November 01 \nWed: 12-6pm Thurs: 10am-6pm Fri: 12-7pm Sat: 12-4pm
URL:https://theartsheet.org/event/littles-a-small-works-exhibit/2025-11-01/
LOCATION:The Blooming Artist\, 675 Grooms Road\, Clifton Park\, NY\, 12065\, United States
ATTACH;FMTTYPE=image/png:https://theartsheet.org/wp-content/uploads/2025/10/Screenshot-2025-10-12-at-11.57.56-AM.png
END:VEVENT
END:VCALENDAR