BEGIN:VCALENDAR
VERSION:2.0
PRODID:-// - ECPv6.15.20//NONSGML v1.0//EN
CALSCALE:GREGORIAN
METHOD:PUBLISH
X-ORIGINAL-URL:https://theartsheet.org
X-WR-CALDESC:Events for 
REFRESH-INTERVAL;VALUE=DURATION:PT1H
X-Robots-Tag:noindex
X-PUBLISHED-TTL:PT1H
BEGIN:VTIMEZONE
TZID:America/New_York
BEGIN:DAYLIGHT
TZOFFSETFROM:-0500
TZOFFSETTO:-0400
TZNAME:EDT
DTSTART:20240310T070000
END:DAYLIGHT
BEGIN:STANDARD
TZOFFSETFROM:-0400
TZOFFSETTO:-0500
TZNAME:EST
DTSTART:20241103T060000
END:STANDARD
BEGIN:DAYLIGHT
TZOFFSETFROM:-0500
TZOFFSETTO:-0400
TZNAME:EDT
DTSTART:20250309T070000
END:DAYLIGHT
BEGIN:STANDARD
TZOFFSETFROM:-0400
TZOFFSETTO:-0500
TZNAME:EST
DTSTART:20251102T060000
END:STANDARD
BEGIN:DAYLIGHT
TZOFFSETFROM:-0500
TZOFFSETTO:-0400
TZNAME:EDT
DTSTART:20260308T070000
END:DAYLIGHT
BEGIN:STANDARD
TZOFFSETFROM:-0400
TZOFFSETTO:-0500
TZNAME:EST
DTSTART:20261101T060000
END:STANDARD
END:VTIMEZONE
BEGIN:VEVENT
DTSTART;TZID=America/New_York:20251102T110000
DTEND;TZID=America/New_York:20251102T170000
DTSTAMP:20260423T234732
CREATED:20250810T153542Z
LAST-MODIFIED:20250810T153543Z
UID:10005750-1762081200-1762102800@theartsheet.org
SUMMARY:The Arrested Image: Identity Through the Lens of Law Enforcement
DESCRIPTION:The Arrested Image: Identity through the Lens of Law Enforcement\, takes a close look at the portraits produced by police vision. By turning the gaze back onto how forms of law enforcement see and portray\, it poses urgent questions regarding the relationship between identity and notions of truth\, liberty\, privacy\, and justice in the face of rapidly advancing law enforcement technology. \nFrom 19th century daguerreotype mugshots to today’s biometric databases\, law enforcement techniques evolved in tandem with technologies used to represent identity. Despite the presumed objectivity of photography and its technological replacements\, asymmetries between representation and reality proliferated along the way. Through archival material and artwork by 16 contemporary artists\, The Arrested Image demonstrates the extent to which policing produces images that shape conceptions of identity and are often misshaped by the techniques that produced them.  
URL:https://theartsheet.org/event/the-arrested-image-identity-through-the-lens-of-law-enforcement-2/2025-11-02/
LOCATION:The Dorsky Museum of Art\, Haggerty Circle Parking Lot 16\, 35 Hawk Dr\, New Paltz\, NY\, 12561\, United States
ATTACH;FMTTYPE=image/png:https://theartsheet.org/wp-content/uploads/2025/06/Screen-Shot-2025-06-26-at-5.05.25-PM.png
END:VEVENT
END:VCALENDAR