BEGIN:VCALENDAR
VERSION:2.0
PRODID:-// - ECPv6.15.20//NONSGML v1.0//EN
CALSCALE:GREGORIAN
METHOD:PUBLISH
X-ORIGINAL-URL:https://theartsheet.org
X-WR-CALDESC:Events for 
REFRESH-INTERVAL;VALUE=DURATION:PT1H
X-Robots-Tag:noindex
X-PUBLISHED-TTL:PT1H
BEGIN:VTIMEZONE
TZID:America/New_York
BEGIN:DAYLIGHT
TZOFFSETFROM:-0500
TZOFFSETTO:-0400
TZNAME:EDT
DTSTART:20240310T070000
END:DAYLIGHT
BEGIN:STANDARD
TZOFFSETFROM:-0400
TZOFFSETTO:-0500
TZNAME:EST
DTSTART:20241103T060000
END:STANDARD
BEGIN:DAYLIGHT
TZOFFSETFROM:-0500
TZOFFSETTO:-0400
TZNAME:EDT
DTSTART:20250309T070000
END:DAYLIGHT
BEGIN:STANDARD
TZOFFSETFROM:-0400
TZOFFSETTO:-0500
TZNAME:EST
DTSTART:20251102T060000
END:STANDARD
BEGIN:DAYLIGHT
TZOFFSETFROM:-0500
TZOFFSETTO:-0400
TZNAME:EDT
DTSTART:20260308T070000
END:DAYLIGHT
BEGIN:STANDARD
TZOFFSETFROM:-0400
TZOFFSETTO:-0500
TZNAME:EST
DTSTART:20261101T060000
END:STANDARD
END:VTIMEZONE
BEGIN:VEVENT
DTSTART;TZID=America/New_York:20251025T100000
DTEND;TZID=America/New_York:20251025T160000
DTSTAMP:20260423T234009
CREATED:20251019T163142Z
LAST-MODIFIED:20251019T163142Z
UID:10010942-1761386400-1761408000@theartsheet.org
SUMMARY:2025 PGNY Print Fair
DESCRIPTION:Celebrate Printmaking\nThe 2025 PGNY Print Fair is a community arts event featuring artwork from over 50 printmakers from across Upstate New York\, Vermont\, Connecticut and Massachusetts. \n\nLearn more about the art of printmaking through hands-on demonstrations and activities all weekend long!\nCome ready to shop! Find a unique gift or add something new to your personal art collection. All artwork will be for sale\, with prices for every budget.\nMeet the artists and learn how they create their incredible hand-made artwork. Featured work includes hand-pulled prints made with relief\, intaglio\, silkscreen\, lithography\, risograph\, letterpress\, and hand-bound book arts techniques.\n\nFREE & open to the public \nThe PGNY Print Fair\nThe Troy Atrium: Broadway & Fourth St: Troy\, NY 12180\nSaturday\, October 25\, 10am – 4pm\nSunday\, October 26\, 11am – 2pm
URL:https://theartsheet.org/event/2025-pgny-print-fair/2025-10-25/1/
LOCATION:The Troy Atrium\, Broadway & Fourth St\, Troy\, NY\, 12180\, United States
ATTACH;FMTTYPE=image/jpeg:https://theartsheet.org/wp-content/uploads/2025/10/printfair.jpg
END:VEVENT
END:VCALENDAR