BEGIN:VCALENDAR
VERSION:2.0
PRODID:-// - ECPv6.15.20//NONSGML v1.0//EN
CALSCALE:GREGORIAN
METHOD:PUBLISH
X-ORIGINAL-URL:https://theartsheet.org
X-WR-CALDESC:Events for 
REFRESH-INTERVAL;VALUE=DURATION:PT1H
X-Robots-Tag:noindex
X-PUBLISHED-TTL:PT1H
BEGIN:VTIMEZONE
TZID:America/New_York
BEGIN:DAYLIGHT
TZOFFSETFROM:-0500
TZOFFSETTO:-0400
TZNAME:EDT
DTSTART:20240310T070000
END:DAYLIGHT
BEGIN:STANDARD
TZOFFSETFROM:-0400
TZOFFSETTO:-0500
TZNAME:EST
DTSTART:20241103T060000
END:STANDARD
BEGIN:DAYLIGHT
TZOFFSETFROM:-0500
TZOFFSETTO:-0400
TZNAME:EDT
DTSTART:20250309T070000
END:DAYLIGHT
BEGIN:STANDARD
TZOFFSETFROM:-0400
TZOFFSETTO:-0500
TZNAME:EST
DTSTART:20251102T060000
END:STANDARD
BEGIN:DAYLIGHT
TZOFFSETFROM:-0500
TZOFFSETTO:-0400
TZNAME:EDT
DTSTART:20260308T070000
END:DAYLIGHT
BEGIN:STANDARD
TZOFFSETFROM:-0400
TZOFFSETTO:-0500
TZNAME:EST
DTSTART:20261101T060000
END:STANDARD
END:VTIMEZONE
BEGIN:VEVENT
DTSTART;TZID=America/New_York:20251120T170000
DTEND;TZID=America/New_York:20251120T220000
DTSTAMP:20260423T215452
CREATED:20251122T165915Z
LAST-MODIFIED:20251122T165915Z
UID:10010949-1763658000-1763676000@theartsheet.org
SUMMARY:Odd featuring by Paul Andrew Schultz
DESCRIPTION:Experience the Odd featuring the Artworks of Paul Andrew Schultz opens this Saturday\, November 15th. Come join us for the opening reception from 6-9pm! If you can’t make the opening\, Paul’s paintings will be on display through December 20th. You don’t want to miss seeing these amazing pieces in person to truly take in the incredible amount of details contained in each oil painting. \nHours: Sun 11-5pm Mon closed Tue 5-10pm Wed 5-10pm Thur 5-10pm Fri 5-10pm Sat 11-5pm
URL:https://theartsheet.org/event/odd-featuring-by-paul-andrew-schultz/2025-11-20/
LOCATION:Two Selves Gallery\, 48 4th St\, Troy\, NY\, 12180\, United States
ATTACH;FMTTYPE=image/png:https://theartsheet.org/wp-content/uploads/2025/11/Screenshot-2025-11-22-at-11.44.24-AM.png
END:VEVENT
END:VCALENDAR